BEGIN:VCALENDAR
VERSION:2.0
PRODID:-//Ente Scuola Edile Cremona - C.P.T. - ECPv6.15.18//NONSGML v1.0//EN
CALSCALE:GREGORIAN
METHOD:PUBLISH
X-ORIGINAL-URL:https://scuolaedilecremona.it
X-WR-CALDESC:Eventi per Ente Scuola Edile Cremona - C.P.T.
REFRESH-INTERVAL;VALUE=DURATION:PT1H
X-Robots-Tag:noindex
X-PUBLISHED-TTL:PT1H
BEGIN:VTIMEZONE
TZID:UTC
BEGIN:STANDARD
TZOFFSETFROM:+0000
TZOFFSETTO:+0000
TZNAME:UTC
DTSTART:20250101T000000
END:STANDARD
END:VTIMEZONE
BEGIN:VEVENT
DTSTART;TZID=UTC:20260504T080000
DTEND;TZID=UTC:20260504T160000
DTSTAMP:20260421T050126
CREATED:20250923T043259Z
LAST-MODIFIED:20250923T043259Z
UID:169099-1777881600-1777910400@scuolaedilecremona.it
SUMMARY:STAGE
DESCRIPTION:
URL:https://scuolaedilecremona.it/event/stage-165/
CATEGORIES:ANNO 1 OPERATORE EDILE - PRIMO ANNO CREMONA 2025/2026
END:VEVENT
BEGIN:VEVENT
DTSTART;TZID=UTC:20260504T081500
DTEND;TZID=UTC:20260504T101500
DTSTAMP:20260421T050126
CREATED:20250925T043325Z
LAST-MODIFIED:20250925T043325Z
UID:169964-1777882500-1777889700@scuolaedilecremona.it
SUMMARY:AREA DEI LINGUAGGI - LINGUA INGLESE
DESCRIPTION:Docente: VIRGILIO LAURA LETIZIA
URL:https://scuolaedilecremona.it/event/area-dei-linguaggi-lingua-inglese-111/
CATEGORIES:ANNO 3 OPERATORE EDILE - TERZO  ANNO 2025/2026 GOL
END:VEVENT
BEGIN:VEVENT
DTSTART;TZID=UTC:20260504T081500
DTEND;TZID=UTC:20260504T101500
DTSTAMP:20260421T050126
CREATED:20251202T044241Z
LAST-MODIFIED:20251202T044241Z
UID:170157-1777882500-1777889700@scuolaedilecremona.it
SUMMARY:Area tecnologica - informatica
DESCRIPTION:Docente: BILLA CHIARA
URL:https://scuolaedilecremona.it/event/area-tecnologica-informatica-61/
CATEGORIES:ANNO 2 OPERATORE EDILE - SECONDO ANNO 2025/2026
END:VEVENT
BEGIN:VEVENT
DTSTART;TZID=UTC:20260504T101500
DTEND;TZID=UTC:20260504T123000
DTSTAMP:20260421T050126
CREATED:20250925T043325Z
LAST-MODIFIED:20250925T043325Z
UID:169965-1777889700-1777897800@scuolaedilecremona.it
SUMMARY:Area tecnologica - informatica
DESCRIPTION:Docente: BILLA CHIARA
URL:https://scuolaedilecremona.it/event/area-tecnologica-informatica-74/
CATEGORIES:ANNO 3 OPERATORE EDILE - TERZO  ANNO 2025/2026 GOL
END:VEVENT
BEGIN:VEVENT
DTSTART;TZID=UTC:20260504T101500
DTEND;TZID=UTC:20260504T133000
DTSTAMP:20260421T050126
CREATED:20250923T043454Z
LAST-MODIFIED:20250923T043454Z
UID:169393-1777889700-1777901400@scuolaedilecremona.it
SUMMARY:AREA DEI LINGUAGGI - LINGUA INGLESE
DESCRIPTION:Docente: VIRGILIO LAURA LETIZIA
URL:https://scuolaedilecremona.it/event/area-dei-linguaggi-lingua-inglese-95/
CATEGORIES:ANNO 2 OPERATORE EDILE - SECONDO ANNO 2025/2026
END:VEVENT
BEGIN:VEVENT
DTSTART;TZID=UTC:20260504T123000
DTEND;TZID=UTC:20260504T143000
DTSTAMP:20260421T050126
CREATED:20250925T043326Z
LAST-MODIFIED:20250925T043326Z
UID:169966-1777897800-1777905000@scuolaedilecremona.it
SUMMARY:Religione Cattolica (IRC) / Attivita alternativa
DESCRIPTION:Docente: ROSSI GIAMPIETRO
URL:https://scuolaedilecremona.it/event/religione-cattolica-irc-attivita-alternativa-77/
CATEGORIES:ANNO 3 OPERATORE EDILE - TERZO  ANNO 2025/2026 GOL
END:VEVENT
BEGIN:VEVENT
DTSTART;TZID=UTC:20260504T133000
DTEND;TZID=UTC:20260504T143000
DTSTAMP:20260421T050126
CREATED:20251202T044242Z
LAST-MODIFIED:20251202T044242Z
UID:170158-1777901400-1777905000@scuolaedilecremona.it
SUMMARY:AREA DEI LINGUAGGI - LINGUA ITALIANA
DESCRIPTION:Docente: UCCIARDO  CARMELO
URL:https://scuolaedilecremona.it/event/area-dei-linguaggi-lingua-italiana-218/
CATEGORIES:ANNO 2 OPERATORE EDILE - SECONDO ANNO 2025/2026
END:VEVENT
BEGIN:VEVENT
DTSTART;TZID=UTC:20260505T080000
DTEND;TZID=UTC:20260505T160000
DTSTAMP:20260421T050126
CREATED:20250923T043300Z
LAST-MODIFIED:20250923T043300Z
UID:169100-1777968000-1777996800@scuolaedilecremona.it
SUMMARY:STAGE
DESCRIPTION:
URL:https://scuolaedilecremona.it/event/stage-166/
CATEGORIES:ANNO 1 OPERATORE EDILE - PRIMO ANNO CREMONA 2025/2026
END:VEVENT
BEGIN:VEVENT
DTSTART;TZID=UTC:20260505T081500
DTEND;TZID=UTC:20260505T101500
DTSTAMP:20260421T050126
CREATED:20250923T043455Z
LAST-MODIFIED:20250923T043455Z
UID:169394-1777968900-1777976100@scuolaedilecremona.it
SUMMARY:Religione Cattolica (IRC) / Attivita alternativa
DESCRIPTION:Docente: ROSSI GIAMPIETRO
URL:https://scuolaedilecremona.it/event/religione-cattolica-irc-attivita-alternativa-69/
CATEGORIES:ANNO 2 OPERATORE EDILE - SECONDO ANNO 2025/2026
END:VEVENT
BEGIN:VEVENT
DTSTART;TZID=UTC:20260505T081500
DTEND;TZID=UTC:20260505T101500
DTSTAMP:20260421T050126
CREATED:20260416T043012Z
LAST-MODIFIED:20260416T043012Z
UID:170520-1777968900-1777976100@scuolaedilecremona.it
SUMMARY:Area scientifica - scienze
DESCRIPTION:Docente: TAINO CATERINA
URL:https://scuolaedilecremona.it/event/area-scientifica-scienze-50/
CATEGORIES:ANNO 3 OPERATORE EDILE - TERZO  ANNO 2025/2026 GOL
END:VEVENT
BEGIN:VEVENT
DTSTART;TZID=UTC:20260505T101500
DTEND;TZID=UTC:20260505T123000
DTSTAMP:20260421T050126
CREATED:20250925T043327Z
LAST-MODIFIED:20250925T043327Z
UID:169968-1777976100-1777984200@scuolaedilecremona.it
SUMMARY:Religione Cattolica (IRC) / Attivita alternativa
DESCRIPTION:Docente: ROSSI GIAMPIETRO
URL:https://scuolaedilecremona.it/event/religione-cattolica-irc-attivita-alternativa-78/
CATEGORIES:ANNO 3 OPERATORE EDILE - TERZO  ANNO 2025/2026 GOL
END:VEVENT
BEGIN:VEVENT
DTSTART;TZID=UTC:20260505T101500
DTEND;TZID=UTC:20260505T123000
DTSTAMP:20260421T050126
CREATED:20260416T043007Z
LAST-MODIFIED:20260416T043007Z
UID:170509-1777976100-1777984200@scuolaedilecremona.it
SUMMARY:Area scientifica - scienze
DESCRIPTION:Docente: TAINO CATERINA
URL:https://scuolaedilecremona.it/event/area-scientifica-scienze-47/
CATEGORIES:ANNO 2 OPERATORE EDILE - SECONDO ANNO 2025/2026
END:VEVENT
BEGIN:VEVENT
DTSTART;TZID=UTC:20260505T123000
DTEND;TZID=UTC:20260505T143000
DTSTAMP:20260421T050126
CREATED:20250923T043456Z
LAST-MODIFIED:20250923T043456Z
UID:169396-1777984200-1777991400@scuolaedilecremona.it
SUMMARY:AREA DEI LINGUAGGI - LINGUA ITALIANA
DESCRIPTION:Docente: UCCIARDO  CARMELO
URL:https://scuolaedilecremona.it/event/area-dei-linguaggi-lingua-italiana-235/
CATEGORIES:ANNO 2 OPERATORE EDILE - SECONDO ANNO 2025/2026
END:VEVENT
BEGIN:VEVENT
DTSTART;TZID=UTC:20260505T123000
DTEND;TZID=UTC:20260505T143000
DTSTAMP:20260421T050126
CREATED:20250925T043328Z
LAST-MODIFIED:20250925T043328Z
UID:169969-1777984200-1777991400@scuolaedilecremona.it
SUMMARY:Area scientifica - matematica e geometria
DESCRIPTION:Docente: BETTONI FABIO
URL:https://scuolaedilecremona.it/event/area-scientifica-matematica-e-geometria-201/
CATEGORIES:ANNO 3 OPERATORE EDILE - TERZO  ANNO 2025/2026 GOL
END:VEVENT
BEGIN:VEVENT
DTSTART;TZID=UTC:20260506T080000
DTEND;TZID=UTC:20260506T160000
DTSTAMP:20260421T050126
CREATED:20250923T043300Z
LAST-MODIFIED:20250923T043300Z
UID:169101-1778054400-1778083200@scuolaedilecremona.it
SUMMARY:STAGE
DESCRIPTION:
URL:https://scuolaedilecremona.it/event/stage-167/
CATEGORIES:ANNO 1 OPERATORE EDILE - PRIMO ANNO CREMONA 2025/2026
END:VEVENT
BEGIN:VEVENT
DTSTART;TZID=UTC:20260506T081500
DTEND;TZID=UTC:20260506T091500
DTSTAMP:20260421T050126
CREATED:20250923T043456Z
LAST-MODIFIED:20250923T043456Z
UID:169397-1778055300-1778058900@scuolaedilecremona.it
SUMMARY:Area storico-socio-economica - Geografia
DESCRIPTION:Docente: ROSSI GIAMPIETRO
URL:https://scuolaedilecremona.it/event/area-storico-socio-economica-geografia-68/
CATEGORIES:ANNO 2 OPERATORE EDILE - SECONDO ANNO 2025/2026
END:VEVENT
BEGIN:VEVENT
DTSTART;TZID=UTC:20260506T081500
DTEND;TZID=UTC:20260506T123000
DTSTAMP:20260421T050126
CREATED:20250925T043328Z
LAST-MODIFIED:20250925T043328Z
UID:169970-1778055300-1778070600@scuolaedilecremona.it
SUMMARY:AREA DEI LINGUAGGI - LINGUA ITALIANA
DESCRIPTION:Docente: SPERNAZZATI EMANUELA
URL:https://scuolaedilecremona.it/event/area-dei-linguaggi-lingua-italiana-253/
CATEGORIES:ANNO 3 OPERATORE EDILE - TERZO  ANNO 2025/2026 GOL
END:VEVENT
BEGIN:VEVENT
DTSTART;TZID=UTC:20260506T091500
DTEND;TZID=UTC:20260506T111500
DTSTAMP:20260421T050126
CREATED:20250923T043456Z
LAST-MODIFIED:20250923T043456Z
UID:169398-1778058900-1778066100@scuolaedilecremona.it
SUMMARY:Area personalizzazione - Orientamento e capacita personali
DESCRIPTION:Docente: BRUSCHI GIADA
URL:https://scuolaedilecremona.it/event/area-personalizzazione-orientamento-e-capacita-personali-66/
CATEGORIES:ANNO 2 OPERATORE EDILE - SECONDO ANNO 2025/2026
END:VEVENT
BEGIN:VEVENT
DTSTART;TZID=UTC:20260506T113000
DTEND;TZID=UTC:20260506T123000
DTSTAMP:20260421T050126
CREATED:20250923T043457Z
LAST-MODIFIED:20250923T043457Z
UID:169399-1778067000-1778070600@scuolaedilecremona.it
SUMMARY:Area storico-socio-economica - Elementi di diritto del lavoro
DESCRIPTION:Docente: BRUSCHI GIADA
URL:https://scuolaedilecremona.it/event/area-storico-socio-economica-elementi-di-diritto-del-lavoro-54/
CATEGORIES:ANNO 2 OPERATORE EDILE - SECONDO ANNO 2025/2026
END:VEVENT
BEGIN:VEVENT
DTSTART;TZID=UTC:20260506T123000
DTEND;TZID=UTC:20260506T143000
DTSTAMP:20260421T050126
CREATED:20250923T043457Z
LAST-MODIFIED:20250923T043457Z
UID:169400-1778070600-1778077800@scuolaedilecremona.it
SUMMARY:Area scientifica - matematica e geometria
DESCRIPTION:Docente: BETTONI FABIO
URL:https://scuolaedilecremona.it/event/area-scientifica-matematica-e-geometria-168/
CATEGORIES:ANNO 2 OPERATORE EDILE - SECONDO ANNO 2025/2026
END:VEVENT
BEGIN:VEVENT
DTSTART;TZID=UTC:20260506T123000
DTEND;TZID=UTC:20260506T143000
DTSTAMP:20260421T050126
CREATED:20250925T043329Z
LAST-MODIFIED:20250925T043329Z
UID:169971-1778070600-1778077800@scuolaedilecremona.it
SUMMARY:Area personalizzazione - Orientamento e capacita personali
DESCRIPTION:Docente: BRUSCHI GIADA
URL:https://scuolaedilecremona.it/event/area-personalizzazione-orientamento-e-capacita-personali-80/
CATEGORIES:ANNO 3 OPERATORE EDILE - TERZO  ANNO 2025/2026 GOL
END:VEVENT
BEGIN:VEVENT
DTSTART;TZID=UTC:20260507T080000
DTEND;TZID=UTC:20260507T160000
DTSTAMP:20260421T050126
CREATED:20250923T043301Z
LAST-MODIFIED:20250923T043301Z
UID:169102-1778140800-1778169600@scuolaedilecremona.it
SUMMARY:STAGE
DESCRIPTION:
URL:https://scuolaedilecremona.it/event/stage-168/
CATEGORIES:ANNO 1 OPERATORE EDILE - PRIMO ANNO CREMONA 2025/2026
END:VEVENT
BEGIN:VEVENT
DTSTART;TZID=UTC:20260507T081500
DTEND;TZID=UTC:20260507T143000
DTSTAMP:20260421T050126
CREATED:20250923T043458Z
LAST-MODIFIED:20250923T043458Z
UID:169401-1778141700-1778164200@scuolaedilecremona.it
SUMMARY:Area tecnico professionale - Laboratorio esercitazioni pratiche
DESCRIPTION:Docente: DOSSENA GHERARDO TITO
URL:https://scuolaedilecremona.it/event/area-tecnico-professionale-laboratorio-esercitazioni-pratiche-229/
CATEGORIES:ANNO 2 OPERATORE EDILE - SECONDO ANNO 2025/2026
END:VEVENT
BEGIN:VEVENT
DTSTART;TZID=UTC:20260507T081500
DTEND;TZID=UTC:20260507T143000
DTSTAMP:20260421T050126
CREATED:20250925T043330Z
LAST-MODIFIED:20250925T043330Z
UID:169972-1778141700-1778164200@scuolaedilecremona.it
SUMMARY:Area tecnico professionale - Laboratorio esercitazioni pratiche
DESCRIPTION:Docente: BRUNELLI ERNESTO
URL:https://scuolaedilecremona.it/event/area-tecnico-professionale-laboratorio-esercitazioni-pratiche-256/
CATEGORIES:ANNO 3 OPERATORE EDILE - TERZO  ANNO 2025/2026 GOL
END:VEVENT
BEGIN:VEVENT
DTSTART;TZID=UTC:20260508T080000
DTEND;TZID=UTC:20260508T160000
DTSTAMP:20260421T050126
CREATED:20250923T043301Z
LAST-MODIFIED:20250923T043301Z
UID:169103-1778227200-1778256000@scuolaedilecremona.it
SUMMARY:STAGE
DESCRIPTION:
URL:https://scuolaedilecremona.it/event/stage-169/
CATEGORIES:ANNO 1 OPERATORE EDILE - PRIMO ANNO CREMONA 2025/2026
END:VEVENT
BEGIN:VEVENT
DTSTART;TZID=UTC:20260508T081500
DTEND;TZID=UTC:20260508T123000
DTSTAMP:20260421T050126
CREATED:20250923T043458Z
LAST-MODIFIED:20250923T043458Z
UID:169402-1778228100-1778243400@scuolaedilecremona.it
SUMMARY:Area personalizzazione - Laboratorio attivita espressivo motorie
DESCRIPTION:Docente: BODINI DAVIDE
URL:https://scuolaedilecremona.it/event/area-personalizzazione-laboratorio-attivita-espressivo-motorie-36/
CATEGORIES:ANNO 2 OPERATORE EDILE - SECONDO ANNO 2025/2026
END:VEVENT
BEGIN:VEVENT
DTSTART;TZID=UTC:20260508T081500
DTEND;TZID=UTC:20260508T143000
DTSTAMP:20260421T050126
CREATED:20250925T043330Z
LAST-MODIFIED:20250925T043330Z
UID:169973-1778228100-1778250600@scuolaedilecremona.it
SUMMARY:Area tecnico professionale - Laboratorio esercitazioni pratiche
DESCRIPTION:Docente: BRUNELLI ERNESTO
URL:https://scuolaedilecremona.it/event/area-tecnico-professionale-laboratorio-esercitazioni-pratiche-257/
CATEGORIES:ANNO 3 OPERATORE EDILE - TERZO  ANNO 2025/2026 GOL
END:VEVENT
BEGIN:VEVENT
DTSTART;TZID=UTC:20260508T123000
DTEND;TZID=UTC:20260508T143000
DTSTAMP:20260421T050126
CREATED:20250923T043458Z
LAST-MODIFIED:20250923T043458Z
UID:169403-1778243400-1778250600@scuolaedilecremona.it
SUMMARY:Area scientifica - matematica e geometria
DESCRIPTION:Docente: BETTONI FABIO
URL:https://scuolaedilecremona.it/event/area-scientifica-matematica-e-geometria-169/
CATEGORIES:ANNO 2 OPERATORE EDILE - SECONDO ANNO 2025/2026
END:VEVENT
BEGIN:VEVENT
DTSTART;TZID=UTC:20260511T080000
DTEND;TZID=UTC:20260511T160000
DTSTAMP:20260421T050126
CREATED:20250923T043301Z
LAST-MODIFIED:20250923T043301Z
UID:169104-1778486400-1778515200@scuolaedilecremona.it
SUMMARY:STAGE
DESCRIPTION:
URL:https://scuolaedilecremona.it/event/stage-170/
CATEGORIES:ANNO 1 OPERATORE EDILE - PRIMO ANNO CREMONA 2025/2026
END:VEVENT
BEGIN:VEVENT
DTSTART;TZID=UTC:20260511T081500
DTEND;TZID=UTC:20260511T101500
DTSTAMP:20260421T050126
CREATED:20250923T043459Z
LAST-MODIFIED:20250923T043459Z
UID:169404-1778487300-1778494500@scuolaedilecremona.it
SUMMARY:AREA DEI LINGUAGGI - LINGUA INGLESE
DESCRIPTION:Docente: VIRGILIO LAURA LETIZIA
URL:https://scuolaedilecremona.it/event/area-dei-linguaggi-lingua-inglese-96/
CATEGORIES:ANNO 2 OPERATORE EDILE - SECONDO ANNO 2025/2026
END:VEVENT
END:VCALENDAR