BEGIN:VCALENDAR
VERSION:2.0
PRODID:-//Ente Scuola Edile Cremona - C.P.T. - ECPv6.15.18//NONSGML v1.0//EN
CALSCALE:GREGORIAN
METHOD:PUBLISH
X-WR-CALNAME:Ente Scuola Edile Cremona - C.P.T.
X-ORIGINAL-URL:https://scuolaedilecremona.it
X-WR-CALDESC:Eventi per Ente Scuola Edile Cremona - C.P.T.
REFRESH-INTERVAL;VALUE=DURATION:PT1H
X-Robots-Tag:noindex
X-PUBLISHED-TTL:PT1H
BEGIN:VTIMEZONE
TZID:UTC
BEGIN:STANDARD
TZOFFSETFROM:+0000
TZOFFSETTO:+0000
TZNAME:UTC
DTSTART:20240101T000000
END:STANDARD
END:VTIMEZONE
BEGIN:VEVENT
DTSTART;TZID=UTC:20250318T113000
DTEND;TZID=UTC:20250318T133000
DTSTAMP:20260420T014626
CREATED:20250307T045155Z
LAST-MODIFIED:20250307T045155Z
UID:168164-1742297400-1742304600@scuolaedilecremona.it
SUMMARY:Area scientifica - matematica e geometria
DESCRIPTION:Docente: BETTONI FABIO
URL:https://scuolaedilecremona.it/event/area-scientifica-matematica-e-geometria-16/
CATEGORIES:ANNO 3 OPERATORE EDILE - TERZO ANNO 2024/2025
END:VEVENT
BEGIN:VEVENT
DTSTART;TZID=UTC:20250319T080000
DTEND;TZID=UTC:20250319T160000
DTSTAMP:20260420T014626
CREATED:20250307T044256Z
LAST-MODIFIED:20250307T044256Z
UID:167723-1742371200-1742400000@scuolaedilecremona.it
SUMMARY:STAGE
DESCRIPTION:
URL:https://scuolaedilecremona.it/event/stage-141/
CATEGORIES:ANNO 2 OPERATORE EDILE - SECONDO ANNO 2024/2025
END:VEVENT
BEGIN:VEVENT
DTSTART;TZID=UTC:20250319T081500
DTEND;TZID=UTC:20250319T101500
DTSTAMP:20260420T014626
CREATED:20250307T043626Z
LAST-MODIFIED:20250307T043626Z
UID:167399-1742372100-1742379300@scuolaedilecremona.it
SUMMARY:Area tecnico professionale - Disegno tecnico
DESCRIPTION:Docente: SOFFIENTINI ROBERTO
URL:https://scuolaedilecremona.it/event/area-tecnico-professionale-disegno-tecnico-47/
CATEGORIES:ANNO 1 OPERATORE EDILE - PRIMO ANNO CREMONA 2024/2025
END:VEVENT
BEGIN:VEVENT
DTSTART;TZID=UTC:20250319T081500
DTEND;TZID=UTC:20250319T123000
DTSTAMP:20260420T014626
CREATED:20250307T045156Z
LAST-MODIFIED:20250307T045156Z
UID:168165-1742372100-1742387400@scuolaedilecremona.it
SUMMARY:AREA DEI LINGUAGGI - LINGUA ITALIANA
DESCRIPTION:Docente: SPERNAZZATI EMANUELA
URL:https://scuolaedilecremona.it/event/area-dei-linguaggi-lingua-italiana-12/
CATEGORIES:ANNO 3 OPERATORE EDILE - TERZO ANNO 2024/2025
END:VEVENT
BEGIN:VEVENT
DTSTART;TZID=UTC:20250319T101500
DTEND;TZID=UTC:20250319T111500
DTSTAMP:20260420T014626
CREATED:20250307T043627Z
LAST-MODIFIED:20250307T043627Z
UID:167400-1742379300-1742382900@scuolaedilecremona.it
SUMMARY:Area tecnico professionale - Elementi di sicurezza sul lavoro
DESCRIPTION:Docente: SOFFIENTINI ROBERTO
URL:https://scuolaedilecremona.it/event/area-tecnico-professionale-elementi-di-sicurezza-sul-lavoro-59/
CATEGORIES:ANNO 1 OPERATORE EDILE - PRIMO ANNO CREMONA 2024/2025
END:VEVENT
BEGIN:VEVENT
DTSTART;TZID=UTC:20250319T113000
DTEND;TZID=UTC:20250319T133000
DTSTAMP:20260420T014626
CREATED:20250307T043628Z
LAST-MODIFIED:20250307T043628Z
UID:167401-1742383800-1742391000@scuolaedilecremona.it
SUMMARY:Area scientifica - matematica e geometria
DESCRIPTION:Docente: BETTONI FABIO
URL:https://scuolaedilecremona.it/event/area-scientifica-matematica-e-geometria-91/
CATEGORIES:ANNO 1 OPERATORE EDILE - PRIMO ANNO CREMONA 2024/2025
END:VEVENT
BEGIN:VEVENT
DTSTART;TZID=UTC:20250319T123000
DTEND;TZID=UTC:20250319T133000
DTSTAMP:20260420T014626
CREATED:20250307T045157Z
LAST-MODIFIED:20250307T045157Z
UID:168166-1742387400-1742391000@scuolaedilecremona.it
SUMMARY:Area storico-socio-economica - Storia
DESCRIPTION:Docente: SPERNAZZATI EMANUELA
URL:https://scuolaedilecremona.it/event/area-storico-socio-economica-storia-2/
CATEGORIES:ANNO 3 OPERATORE EDILE - TERZO ANNO 2024/2025
END:VEVENT
BEGIN:VEVENT
DTSTART;TZID=UTC:20250319T133000
DTEND;TZID=UTC:20250319T163000
DTSTAMP:20260420T014626
CREATED:20250307T044631Z
LAST-MODIFIED:20250307T044631Z
UID:167900-1742391000-1742401800@scuolaedilecremona.it
SUMMARY:Area scientifica - matematica e geometria
DESCRIPTION:Docente: TAINO CATERINA
URL:https://scuolaedilecremona.it/event/area-scientifica-matematica-e-geometria-32/
CATEGORIES:ANNO 3 OPERATORE EDILE - DUALE TERZO ANNO 2024/2025
END:VEVENT
BEGIN:VEVENT
DTSTART;TZID=UTC:20250320T080000
DTEND;TZID=UTC:20250320T160000
DTSTAMP:20260420T014626
CREATED:20250307T044257Z
LAST-MODIFIED:20250307T044257Z
UID:167724-1742457600-1742486400@scuolaedilecremona.it
SUMMARY:STAGE
DESCRIPTION:
URL:https://scuolaedilecremona.it/event/stage-142/
CATEGORIES:ANNO 2 OPERATORE EDILE - SECONDO ANNO 2024/2025
END:VEVENT
BEGIN:VEVENT
DTSTART;TZID=UTC:20250320T081500
DTEND;TZID=UTC:20250320T133000
DTSTAMP:20260420T014626
CREATED:20250307T043629Z
LAST-MODIFIED:20250307T043629Z
UID:167402-1742458500-1742477400@scuolaedilecremona.it
SUMMARY:Area tecnico professionale - Laboratorio esercitazioni pratiche
DESCRIPTION:Docente: DOSSENA GHERARDO TITO
URL:https://scuolaedilecremona.it/event/area-tecnico-professionale-laboratorio-esercitazioni-pratiche-152/
CATEGORIES:ANNO 1 OPERATORE EDILE - PRIMO ANNO CREMONA 2024/2025
END:VEVENT
BEGIN:VEVENT
DTSTART;TZID=UTC:20250320T081500
DTEND;TZID=UTC:20250320T133000
DTSTAMP:20260420T014626
CREATED:20250307T045159Z
LAST-MODIFIED:20250307T045159Z
UID:168167-1742458500-1742477400@scuolaedilecremona.it
SUMMARY:Area tecnico professionale - Laboratorio esercitazioni pratiche
DESCRIPTION:Docente: REGINI MARIA CRISTINA
URL:https://scuolaedilecremona.it/event/area-tecnico-professionale-laboratorio-esercitazioni-pratiche-17/
CATEGORIES:ANNO 3 OPERATORE EDILE - TERZO ANNO 2024/2025
END:VEVENT
BEGIN:VEVENT
DTSTART;TZID=UTC:20250320T123000
DTEND;TZID=UTC:20250320T163000
DTSTAMP:20260420T014626
CREATED:20250307T044632Z
LAST-MODIFIED:20250307T044632Z
UID:167901-1742473800-1742488200@scuolaedilecremona.it
SUMMARY:AREA DEI LINGUAGGI - LINGUA ITALIANA
DESCRIPTION:Docente: BONIOLI SILVIA
URL:https://scuolaedilecremona.it/event/area-dei-linguaggi-lingua-italiana-38/
CATEGORIES:ANNO 3 OPERATORE EDILE - DUALE TERZO ANNO 2024/2025
END:VEVENT
BEGIN:VEVENT
DTSTART;TZID=UTC:20250321T080000
DTEND;TZID=UTC:20250321T160000
DTSTAMP:20260420T014626
CREATED:20250307T044258Z
LAST-MODIFIED:20250307T044258Z
UID:167725-1742544000-1742572800@scuolaedilecremona.it
SUMMARY:STAGE
DESCRIPTION:
URL:https://scuolaedilecremona.it/event/stage-143/
CATEGORIES:ANNO 2 OPERATORE EDILE - SECONDO ANNO 2024/2025
END:VEVENT
BEGIN:VEVENT
DTSTART;TZID=UTC:20250321T081500
DTEND;TZID=UTC:20250321T101500
DTSTAMP:20260420T014626
CREATED:20250307T045200Z
LAST-MODIFIED:20250307T045200Z
UID:168168-1742544900-1742552100@scuolaedilecremona.it
SUMMARY:Area tecnico professionale - Disegno tecnico
DESCRIPTION:Docente: SOFFIENTINI ROBERTO
URL:https://scuolaedilecremona.it/event/area-tecnico-professionale-disegno-tecnico-8/
CATEGORIES:ANNO 3 OPERATORE EDILE - TERZO ANNO 2024/2025
END:VEVENT
BEGIN:VEVENT
DTSTART;TZID=UTC:20250321T081500
DTEND;TZID=UTC:20250321T111500
DTSTAMP:20260420T014626
CREATED:20250307T043630Z
LAST-MODIFIED:20250307T043630Z
UID:167403-1742544900-1742555700@scuolaedilecremona.it
SUMMARY:Area personalizzazione - Laboratorio attivita espressivo motorie
DESCRIPTION:Docente: BODINI DAVIDE
URL:https://scuolaedilecremona.it/event/area-personalizzazione-laboratorio-attivita-espressivo-motorie-18/
CATEGORIES:ANNO 1 OPERATORE EDILE - PRIMO ANNO CREMONA 2024/2025
END:VEVENT
BEGIN:VEVENT
DTSTART;TZID=UTC:20250321T101500
DTEND;TZID=UTC:20250321T111500
DTSTAMP:20260420T014626
CREATED:20250307T045201Z
LAST-MODIFIED:20250307T045201Z
UID:168169-1742552100-1742555700@scuolaedilecremona.it
SUMMARY:Area tecnico professionale - Elementi di sicurezza sul lavoro
DESCRIPTION:Docente: SOFFIENTINI ROBERTO
URL:https://scuolaedilecremona.it/event/area-tecnico-professionale-elementi-di-sicurezza-sul-lavoro-17/
CATEGORIES:ANNO 3 OPERATORE EDILE - TERZO ANNO 2024/2025
END:VEVENT
BEGIN:VEVENT
DTSTART;TZID=UTC:20250321T113000
DTEND;TZID=UTC:20250321T133000
DTSTAMP:20260420T014626
CREATED:20250307T045203Z
LAST-MODIFIED:20250307T045203Z
UID:168170-1742556600-1742563800@scuolaedilecremona.it
SUMMARY:Area personalizzazione - Laboratorio attivita espressivo motorie
DESCRIPTION:Docente: BODINI DAVIDE
URL:https://scuolaedilecremona.it/event/area-personalizzazione-laboratorio-attivita-espressivo-motorie-5/
CATEGORIES:ANNO 3 OPERATORE EDILE - TERZO ANNO 2024/2025
END:VEVENT
BEGIN:VEVENT
DTSTART;TZID=UTC:20250321T113000
DTEND;TZID=UTC:20250321T133000
DTSTAMP:20260420T014626
CREATED:20250416T043023Z
LAST-MODIFIED:20250416T043023Z
UID:168329-1742556600-1742563800@scuolaedilecremona.it
SUMMARY:Area personalizzazione - Orientamento e capacita personali
DESCRIPTION:Docente: BONDIONI ELISABETTA\, MEAZZI ANNA CHIARA
URL:https://scuolaedilecremona.it/event/area-personalizzazione-orientamento-e-capacita-personali-33/
CATEGORIES:ANNO 1 OPERATORE EDILE - PRIMO ANNO CREMONA 2024/2025
END:VEVENT
BEGIN:VEVENT
DTSTART;TZID=UTC:20250322T081500
DTEND;TZID=UTC:20250322T163000
DTSTAMP:20260420T014626
CREATED:20250307T044633Z
LAST-MODIFIED:20250307T044633Z
UID:167902-1742631300-1742661000@scuolaedilecremona.it
SUMMARY:Area tecnico professionale - Laboratorio esercitazioni pratiche
DESCRIPTION:Docente: BRUNELLI ERNESTO
URL:https://scuolaedilecremona.it/event/area-tecnico-professionale-laboratorio-esercitazioni-pratiche-48/
CATEGORIES:ANNO 3 OPERATORE EDILE - DUALE TERZO ANNO 2024/2025
END:VEVENT
BEGIN:VEVENT
DTSTART;TZID=UTC:20250324T080000
DTEND;TZID=UTC:20250324T160000
DTSTAMP:20260420T014626
CREATED:20250307T044259Z
LAST-MODIFIED:20250307T044259Z
UID:167726-1742803200-1742832000@scuolaedilecremona.it
SUMMARY:STAGE
DESCRIPTION:
URL:https://scuolaedilecremona.it/event/stage-144/
CATEGORIES:ANNO 2 OPERATORE EDILE - SECONDO ANNO 2024/2025
END:VEVENT
BEGIN:VEVENT
DTSTART;TZID=UTC:20250324T081500
DTEND;TZID=UTC:20250324T101500
DTSTAMP:20260420T014626
CREATED:20250307T043634Z
LAST-MODIFIED:20250307T043634Z
UID:167406-1742804100-1742811300@scuolaedilecremona.it
SUMMARY:Area tecnologica - informatica
DESCRIPTION:Docente: BILLA CHIARA
URL:https://scuolaedilecremona.it/event/area-tecnologica-informatica-39/
CATEGORIES:ANNO 1 OPERATORE EDILE - PRIMO ANNO CREMONA 2024/2025
END:VEVENT
BEGIN:VEVENT
DTSTART;TZID=UTC:20250324T081500
DTEND;TZID=UTC:20250324T101500
DTSTAMP:20260420T014626
CREATED:20250307T045204Z
LAST-MODIFIED:20250307T045204Z
UID:168171-1742804100-1742811300@scuolaedilecremona.it
SUMMARY:AREA DEI LINGUAGGI - LINGUA INGLESE
DESCRIPTION:Docente: VIRGILIO LAURA LETIZIA
URL:https://scuolaedilecremona.it/event/area-dei-linguaggi-lingua-inglese-9/
CATEGORIES:ANNO 3 OPERATORE EDILE - TERZO ANNO 2024/2025
END:VEVENT
BEGIN:VEVENT
DTSTART;TZID=UTC:20250324T101500
DTEND;TZID=UTC:20250324T133000
DTSTAMP:20260420T014626
CREATED:20250307T043635Z
LAST-MODIFIED:20250307T043635Z
UID:167407-1742811300-1742823000@scuolaedilecremona.it
SUMMARY:AREA DEI LINGUAGGI - LINGUA INGLESE
DESCRIPTION:Docente: VIRGILIO LAURA LETIZIA
URL:https://scuolaedilecremona.it/event/area-dei-linguaggi-lingua-inglese-54/
CATEGORIES:ANNO 1 OPERATORE EDILE - PRIMO ANNO CREMONA 2024/2025
END:VEVENT
BEGIN:VEVENT
DTSTART;TZID=UTC:20250324T101500
DTEND;TZID=UTC:20250324T133000
DTSTAMP:20260420T014626
CREATED:20250307T045205Z
LAST-MODIFIED:20250307T045205Z
UID:168172-1742811300-1742823000@scuolaedilecremona.it
SUMMARY:Area tecnologica - informatica
DESCRIPTION:Docente: BILLA CHIARA
URL:https://scuolaedilecremona.it/event/area-tecnologica-informatica-10/
CATEGORIES:ANNO 3 OPERATORE EDILE - TERZO ANNO 2024/2025
END:VEVENT
BEGIN:VEVENT
DTSTART;TZID=UTC:20250324T133000
DTEND;TZID=UTC:20250324T163000
DTSTAMP:20260420T014626
CREATED:20250307T044635Z
LAST-MODIFIED:20250307T044635Z
UID:167903-1742823000-1742833800@scuolaedilecremona.it
SUMMARY:Area tecnico professionale - Elementi di tecnologia edile
DESCRIPTION:Docente: TAINO CATERINA
URL:https://scuolaedilecremona.it/event/area-tecnico-professionale-elementi-di-tecnologia-edile-21/
CATEGORIES:ANNO 3 OPERATORE EDILE - DUALE TERZO ANNO 2024/2025
END:VEVENT
BEGIN:VEVENT
DTSTART;TZID=UTC:20250325T080000
DTEND;TZID=UTC:20250325T160000
DTSTAMP:20260420T014626
CREATED:20250307T044301Z
LAST-MODIFIED:20250307T044301Z
UID:167727-1742889600-1742918400@scuolaedilecremona.it
SUMMARY:STAGE
DESCRIPTION:
URL:https://scuolaedilecremona.it/event/stage-145/
CATEGORIES:ANNO 2 OPERATORE EDILE - SECONDO ANNO 2024/2025
END:VEVENT
BEGIN:VEVENT
DTSTART;TZID=UTC:20250325T081500
DTEND;TZID=UTC:20250325T101500
DTSTAMP:20260420T014626
CREATED:20250307T045206Z
LAST-MODIFIED:20250307T045206Z
UID:168173-1742890500-1742897700@scuolaedilecremona.it
SUMMARY:Area tecnico professionale - Disegno tecnico
DESCRIPTION:Docente: SOFFIENTINI ROBERTO
URL:https://scuolaedilecremona.it/event/area-tecnico-professionale-disegno-tecnico-9/
CATEGORIES:ANNO 3 OPERATORE EDILE - TERZO ANNO 2024/2025
END:VEVENT
BEGIN:VEVENT
DTSTART;TZID=UTC:20250325T081500
DTEND;TZID=UTC:20250325T111500
DTSTAMP:20260420T014626
CREATED:20250307T043636Z
LAST-MODIFIED:20250307T043636Z
UID:167408-1742890500-1742901300@scuolaedilecremona.it
SUMMARY:AREA DEI LINGUAGGI - LINGUA ITALIANA
DESCRIPTION:Docente: UCCIARDO  CARMELO
URL:https://scuolaedilecremona.it/event/area-dei-linguaggi-lingua-italiana-119/
CATEGORIES:ANNO 1 OPERATORE EDILE - PRIMO ANNO CREMONA 2024/2025
END:VEVENT
BEGIN:VEVENT
DTSTART;TZID=UTC:20250325T101500
DTEND;TZID=UTC:20250325T111500
DTSTAMP:20260420T014626
CREATED:20250307T045208Z
LAST-MODIFIED:20250307T045208Z
UID:168174-1742897700-1742901300@scuolaedilecremona.it
SUMMARY:Area tecnico professionale - Elementi di sicurezza sul lavoro
DESCRIPTION:Docente: SOFFIENTINI ROBERTO
URL:https://scuolaedilecremona.it/event/area-tecnico-professionale-elementi-di-sicurezza-sul-lavoro-18/
CATEGORIES:ANNO 3 OPERATORE EDILE - TERZO ANNO 2024/2025
END:VEVENT
BEGIN:VEVENT
DTSTART;TZID=UTC:20250325T113000
DTEND;TZID=UTC:20250325T133000
DTSTAMP:20260420T014626
CREATED:20250307T043638Z
LAST-MODIFIED:20250307T043638Z
UID:167409-1742902200-1742909400@scuolaedilecremona.it
SUMMARY:Religione Cattolica (IRC) / Attivita alternativa
DESCRIPTION:Docente: ROSSI GIAMPIETRO
URL:https://scuolaedilecremona.it/event/religione-cattolica-irc-attivita-alternativa-37/
CATEGORIES:ANNO 1 OPERATORE EDILE - PRIMO ANNO CREMONA 2024/2025
END:VEVENT
END:VCALENDAR