BEGIN:VCALENDAR
VERSION:2.0
PRODID:-//Ente Scuola Edile Cremona - C.P.T. - ECPv6.15.18//NONSGML v1.0//EN
CALSCALE:GREGORIAN
METHOD:PUBLISH
X-ORIGINAL-URL:https://scuolaedilecremona.it
X-WR-CALDESC:Eventi per Ente Scuola Edile Cremona - C.P.T.
REFRESH-INTERVAL;VALUE=DURATION:PT1H
X-Robots-Tag:noindex
X-PUBLISHED-TTL:PT1H
BEGIN:VTIMEZONE
TZID:UTC
BEGIN:STANDARD
TZOFFSETFROM:+0000
TZOFFSETTO:+0000
TZNAME:UTC
DTSTART:20240101T000000
END:STANDARD
END:VTIMEZONE
BEGIN:VEVENT
DTSTART;TZID=UTC:20250128T113000
DTEND;TZID=UTC:20250128T133000
DTSTAMP:20260420T023812
CREATED:20250307T043455Z
LAST-MODIFIED:20250307T043455Z
UID:167324-1738063800-1738071000@scuolaedilecremona.it
SUMMARY:Area tecnico professionale - Elementi di tecnologia edile
DESCRIPTION:Docente: BELLADELLI LEONARDO
URL:https://scuolaedilecremona.it/event/area-tecnico-professionale-elementi-di-tecnologia-edile-47/
CATEGORIES:ANNO 1 OPERATORE EDILE - PRIMO ANNO CREMONA 2024/2025
END:VEVENT
BEGIN:VEVENT
DTSTART;TZID=UTC:20250128T113000
DTEND;TZID=UTC:20250128T133000
DTSTAMP:20260420T023812
CREATED:20250307T044200Z
LAST-MODIFIED:20250307T044200Z
UID:167677-1738063800-1738071000@scuolaedilecremona.it
SUMMARY:Area scientifica - matematica e geometria
DESCRIPTION:Docente: BETTONI FABIO
URL:https://scuolaedilecremona.it/event/area-scientifica-matematica-e-geometria-57/
CATEGORIES:ANNO 2 OPERATORE EDILE - SECONDO ANNO 2024/2025
END:VEVENT
BEGIN:VEVENT
DTSTART;TZID=UTC:20250128T123000
DTEND;TZID=UTC:20250128T133000
DTSTAMP:20260420T023812
CREATED:20250307T045017Z
LAST-MODIFIED:20250307T045017Z
UID:168086-1738067400-1738071000@scuolaedilecremona.it
SUMMARY:Area storico-socio-economica - Elementi di economia
DESCRIPTION:Docente: SPOTTI FABIO ENRICO
URL:https://scuolaedilecremona.it/event/area-storico-socio-economica-elementi-di-economia-5/
CATEGORIES:ANNO 3 OPERATORE EDILE - TERZO ANNO 2024/2025
END:VEVENT
BEGIN:VEVENT
DTSTART;TZID=UTC:20250129T081500
DTEND;TZID=UTC:20250129T091500
DTSTAMP:20260420T023812
CREATED:20250307T043456Z
LAST-MODIFIED:20250307T043456Z
UID:167325-1738138500-1738142100@scuolaedilecremona.it
SUMMARY:Religione Cattolica (IRC) / Attivita alternativa
DESCRIPTION:Docente: ROSSI GIAMPIETRO
URL:https://scuolaedilecremona.it/event/religione-cattolica-irc-attivita-alternativa-34/
CATEGORIES:ANNO 1 OPERATORE EDILE - PRIMO ANNO CREMONA 2024/2025
END:VEVENT
BEGIN:VEVENT
DTSTART;TZID=UTC:20250129T081500
DTEND;TZID=UTC:20250129T101500
DTSTAMP:20260420T023812
CREATED:20250307T044201Z
LAST-MODIFIED:20250307T044201Z
UID:167678-1738138500-1738145700@scuolaedilecremona.it
SUMMARY:Area tecnico professionale - Elementi di contabilita
DESCRIPTION:Docente: SOFFIENTINI ROBERTO
URL:https://scuolaedilecremona.it/event/area-tecnico-professionale-elementi-di-contabilita-31/
CATEGORIES:ANNO 2 OPERATORE EDILE - SECONDO ANNO 2024/2025
END:VEVENT
BEGIN:VEVENT
DTSTART;TZID=UTC:20250129T081500
DTEND;TZID=UTC:20250129T111500
DTSTAMP:20260420T023812
CREATED:20250307T045019Z
LAST-MODIFIED:20250307T045019Z
UID:168087-1738138500-1738149300@scuolaedilecremona.it
SUMMARY:AREA DEI LINGUAGGI - LINGUA ITALIANA
DESCRIPTION:Docente: SPERNAZZATI EMANUELA
URL:https://scuolaedilecremona.it/event/area-dei-linguaggi-lingua-italiana-5/
CATEGORIES:ANNO 3 OPERATORE EDILE - TERZO ANNO 2024/2025
END:VEVENT
BEGIN:VEVENT
DTSTART;TZID=UTC:20250129T091500
DTEND;TZID=UTC:20250129T111500
DTSTAMP:20260420T023812
CREATED:20250307T043457Z
LAST-MODIFIED:20250307T043457Z
UID:167326-1738142100-1738149300@scuolaedilecremona.it
SUMMARY:Area scientifica - scienze
DESCRIPTION:Docente: TAINO CATERINA
URL:https://scuolaedilecremona.it/event/area-scientifica-scienze-29/
CATEGORIES:ANNO 1 OPERATORE EDILE - PRIMO ANNO CREMONA 2024/2025
END:VEVENT
BEGIN:VEVENT
DTSTART;TZID=UTC:20250129T101500
DTEND;TZID=UTC:20250129T111500
DTSTAMP:20260420T023812
CREATED:20250307T044202Z
LAST-MODIFIED:20250307T044202Z
UID:167679-1738145700-1738149300@scuolaedilecremona.it
SUMMARY:Area tecnico professionale - Disegno tecnico
DESCRIPTION:Docente: SOFFIENTINI ROBERTO
URL:https://scuolaedilecremona.it/event/area-tecnico-professionale-disegno-tecnico-26/
CATEGORIES:ANNO 2 OPERATORE EDILE - SECONDO ANNO 2024/2025
END:VEVENT
BEGIN:VEVENT
DTSTART;TZID=UTC:20250129T113000
DTEND;TZID=UTC:20250129T133000
DTSTAMP:20260420T023812
CREATED:20250307T043458Z
LAST-MODIFIED:20250307T043458Z
UID:167327-1738150200-1738157400@scuolaedilecremona.it
SUMMARY:Area scientifica - matematica e geometria
DESCRIPTION:Docente: BETTONI FABIO
URL:https://scuolaedilecremona.it/event/area-scientifica-matematica-e-geometria-83/
CATEGORIES:ANNO 1 OPERATORE EDILE - PRIMO ANNO CREMONA 2024/2025
END:VEVENT
BEGIN:VEVENT
DTSTART;TZID=UTC:20250129T113000
DTEND;TZID=UTC:20250129T133000
DTSTAMP:20260420T023812
CREATED:20250307T044203Z
LAST-MODIFIED:20250307T044203Z
UID:167680-1738150200-1738157400@scuolaedilecremona.it
SUMMARY:Religione Cattolica (IRC) / Attivita alternativa
DESCRIPTION:Docente: ROSSI GIAMPIETRO
URL:https://scuolaedilecremona.it/event/religione-cattolica-irc-attivita-alternativa-17/
CATEGORIES:ANNO 2 OPERATORE EDILE - SECONDO ANNO 2024/2025
END:VEVENT
BEGIN:VEVENT
DTSTART;TZID=UTC:20250129T113000
DTEND;TZID=UTC:20250129T133000
DTSTAMP:20260420T023812
CREATED:20250307T045020Z
LAST-MODIFIED:20250307T045020Z
UID:168088-1738150200-1738157400@scuolaedilecremona.it
SUMMARY:Area scientifica - scienze
DESCRIPTION:Docente: TAINO CATERINA
URL:https://scuolaedilecremona.it/event/area-scientifica-scienze-4/
CATEGORIES:ANNO 3 OPERATORE EDILE - TERZO ANNO 2024/2025
END:VEVENT
BEGIN:VEVENT
DTSTART;TZID=UTC:20250129T133000
DTEND;TZID=UTC:20250129T153000
DTSTAMP:20260420T023812
CREATED:20250307T044541Z
LAST-MODIFIED:20250307T044541Z
UID:167859-1738157400-1738164600@scuolaedilecremona.it
SUMMARY:Area tecnico professionale - Elementi di tecnologia edile
DESCRIPTION:Docente: TAINO CATERINA
URL:https://scuolaedilecremona.it/event/area-tecnico-professionale-elementi-di-tecnologia-edile-16/
CATEGORIES:ANNO 3 OPERATORE EDILE - DUALE TERZO ANNO 2024/2025
END:VEVENT
BEGIN:VEVENT
DTSTART;TZID=UTC:20250129T153000
DTEND;TZID=UTC:20250129T163000
DTSTAMP:20260420T023812
CREATED:20250307T044542Z
LAST-MODIFIED:20250307T044542Z
UID:167860-1738164600-1738168200@scuolaedilecremona.it
SUMMARY:Area tecnico professionale - Elementi di contabilita
DESCRIPTION:Docente: TAINO CATERINA
URL:https://scuolaedilecremona.it/event/area-tecnico-professionale-elementi-di-contabilita-16/
CATEGORIES:ANNO 3 OPERATORE EDILE - DUALE TERZO ANNO 2024/2025
END:VEVENT
BEGIN:VEVENT
DTSTART;TZID=UTC:20250130T081500
DTEND;TZID=UTC:20250130T101500
DTSTAMP:20260420T023812
CREATED:20250307T044204Z
LAST-MODIFIED:20250307T044204Z
UID:167681-1738224900-1738232100@scuolaedilecremona.it
SUMMARY:Area tecnico professionale - Elementi di contabilita
DESCRIPTION:Docente: SOFFIENTINI ROBERTO
URL:https://scuolaedilecremona.it/event/area-tecnico-professionale-elementi-di-contabilita-32/
CATEGORIES:ANNO 2 OPERATORE EDILE - SECONDO ANNO 2024/2025
END:VEVENT
BEGIN:VEVENT
DTSTART;TZID=UTC:20250130T081500
DTEND;TZID=UTC:20250130T133000
DTSTAMP:20260420T023812
CREATED:20250307T043500Z
LAST-MODIFIED:20250307T043500Z
UID:167328-1738224900-1738243800@scuolaedilecremona.it
SUMMARY:Area tecnico professionale - Laboratorio esercitazioni pratiche
DESCRIPTION:Docente: DOSSENA GHERARDO TITO
URL:https://scuolaedilecremona.it/event/area-tecnico-professionale-laboratorio-esercitazioni-pratiche-145/
CATEGORIES:ANNO 1 OPERATORE EDILE - PRIMO ANNO CREMONA 2024/2025
END:VEVENT
BEGIN:VEVENT
DTSTART;TZID=UTC:20250130T081500
DTEND;TZID=UTC:20250130T133000
DTSTAMP:20260420T023812
CREATED:20250307T045021Z
LAST-MODIFIED:20250307T045021Z
UID:168089-1738224900-1738243800@scuolaedilecremona.it
SUMMARY:Area tecnico professionale - Laboratorio esercitazioni pratiche
DESCRIPTION:Docente: BRUNELLI ERNESTO
URL:https://scuolaedilecremona.it/event/area-tecnico-professionale-laboratorio-esercitazioni-pratiche-11/
CATEGORIES:ANNO 3 OPERATORE EDILE - TERZO ANNO 2024/2025
END:VEVENT
BEGIN:VEVENT
DTSTART;TZID=UTC:20250130T101500
DTEND;TZID=UTC:20250130T111500
DTSTAMP:20260420T023812
CREATED:20250307T044206Z
LAST-MODIFIED:20250307T044206Z
UID:167682-1738232100-1738235700@scuolaedilecremona.it
SUMMARY:Area tecnico professionale - Disegno tecnico
DESCRIPTION:Docente: SOFFIENTINI ROBERTO
URL:https://scuolaedilecremona.it/event/area-tecnico-professionale-disegno-tecnico-27/
CATEGORIES:ANNO 2 OPERATORE EDILE - SECONDO ANNO 2024/2025
END:VEVENT
BEGIN:VEVENT
DTSTART;TZID=UTC:20250130T113000
DTEND;TZID=UTC:20250130T133000
DTSTAMP:20260420T023812
CREATED:20250307T044207Z
LAST-MODIFIED:20250307T044207Z
UID:167683-1738236600-1738243800@scuolaedilecremona.it
SUMMARY:Area scientifica - matematica e geometria
DESCRIPTION:Docente: BETTONI FABIO
URL:https://scuolaedilecremona.it/event/area-scientifica-matematica-e-geometria-58/
CATEGORIES:ANNO 2 OPERATORE EDILE - SECONDO ANNO 2024/2025
END:VEVENT
BEGIN:VEVENT
DTSTART;TZID=UTC:20250130T123000
DTEND;TZID=UTC:20250130T163000
DTSTAMP:20260420T023812
CREATED:20250307T044544Z
LAST-MODIFIED:20250307T044544Z
UID:167861-1738240200-1738254600@scuolaedilecremona.it
SUMMARY:AREA DEI LINGUAGGI - LINGUA ITALIANA
DESCRIPTION:Docente: BONIOLI SILVIA
URL:https://scuolaedilecremona.it/event/area-dei-linguaggi-lingua-italiana-30/
CATEGORIES:ANNO 3 OPERATORE EDILE - DUALE TERZO ANNO 2024/2025
END:VEVENT
BEGIN:VEVENT
DTSTART;TZID=UTC:20250131T081500
DTEND;TZID=UTC:20250131T101500
DTSTAMP:20260420T023812
CREATED:20250307T045022Z
LAST-MODIFIED:20250307T045022Z
UID:168090-1738311300-1738318500@scuolaedilecremona.it
SUMMARY:Area tecnico professionale - Elementi di contabilita
DESCRIPTION:Docente: SOFFIENTINI ROBERTO
URL:https://scuolaedilecremona.it/event/area-tecnico-professionale-elementi-di-contabilita-7/
CATEGORIES:ANNO 3 OPERATORE EDILE - TERZO ANNO 2024/2025
END:VEVENT
BEGIN:VEVENT
DTSTART;TZID=UTC:20250131T081500
DTEND;TZID=UTC:20250131T133000
DTSTAMP:20260420T023812
CREATED:20250307T043501Z
LAST-MODIFIED:20250307T043501Z
UID:167329-1738311300-1738330200@scuolaedilecremona.it
SUMMARY:Area tecnico professionale - Elementi di tecnologia edile
DESCRIPTION:Docente: BELLADELLI LEONARDO
URL:https://scuolaedilecremona.it/event/area-tecnico-professionale-elementi-di-tecnologia-edile-48/
CATEGORIES:ANNO 1 OPERATORE EDILE - PRIMO ANNO CREMONA 2024/2025
END:VEVENT
BEGIN:VEVENT
DTSTART;TZID=UTC:20250131T081500
DTEND;TZID=UTC:20250131T133000
DTSTAMP:20260420T023812
CREATED:20250307T044208Z
LAST-MODIFIED:20250307T044208Z
UID:167684-1738311300-1738330200@scuolaedilecremona.it
SUMMARY:Area tecnico professionale - Laboratorio esercitazioni pratiche
DESCRIPTION:Docente: BRUNELLI ERNESTO
URL:https://scuolaedilecremona.it/event/area-tecnico-professionale-laboratorio-esercitazioni-pratiche-90/
CATEGORIES:ANNO 2 OPERATORE EDILE - SECONDO ANNO 2024/2025
END:VEVENT
BEGIN:VEVENT
DTSTART;TZID=UTC:20250131T081500
DTEND;TZID=UTC:20250131T163000
DTSTAMP:20260420T023812
CREATED:20250307T044545Z
LAST-MODIFIED:20250307T044545Z
UID:167862-1738311300-1738341000@scuolaedilecremona.it
SUMMARY:Area tecnico professionale - Laboratorio esercitazioni pratiche
DESCRIPTION:Docente: DOSSENA GHERARDO TITO
URL:https://scuolaedilecremona.it/event/area-tecnico-professionale-laboratorio-esercitazioni-pratiche-37/
CATEGORIES:ANNO 3 OPERATORE EDILE - DUALE TERZO ANNO 2024/2025
END:VEVENT
BEGIN:VEVENT
DTSTART;TZID=UTC:20250131T101500
DTEND;TZID=UTC:20250131T111500
DTSTAMP:20260420T023812
CREATED:20250307T045024Z
LAST-MODIFIED:20250307T045024Z
UID:168091-1738318500-1738322100@scuolaedilecremona.it
SUMMARY:Area tecnico professionale - Disegno tecnico
DESCRIPTION:Docente: SOFFIENTINI ROBERTO
URL:https://scuolaedilecremona.it/event/area-tecnico-professionale-disegno-tecnico-2/
CATEGORIES:ANNO 3 OPERATORE EDILE - TERZO ANNO 2024/2025
END:VEVENT
BEGIN:VEVENT
DTSTART;TZID=UTC:20250131T113000
DTEND;TZID=UTC:20250131T133000
DTSTAMP:20260420T023812
CREATED:20250307T045025Z
LAST-MODIFIED:20250307T045025Z
UID:168092-1738323000-1738330200@scuolaedilecremona.it
SUMMARY:Area scientifica - matematica e geometria
DESCRIPTION:Docente: BETTONI FABIO
URL:https://scuolaedilecremona.it/event/area-scientifica-matematica-e-geometria-5/
CATEGORIES:ANNO 3 OPERATORE EDILE - TERZO ANNO 2024/2025
END:VEVENT
BEGIN:VEVENT
DTSTART;TZID=UTC:20250201T081500
DTEND;TZID=UTC:20250201T163000
DTSTAMP:20260420T023812
CREATED:20250307T044546Z
LAST-MODIFIED:20250307T044546Z
UID:167863-1738397700-1738427400@scuolaedilecremona.it
SUMMARY:Area tecnico professionale - Laboratorio esercitazioni pratiche
DESCRIPTION:Docente: BELLADELLI LEONARDO
URL:https://scuolaedilecremona.it/event/area-tecnico-professionale-laboratorio-esercitazioni-pratiche-38/
CATEGORIES:ANNO 3 OPERATORE EDILE - DUALE TERZO ANNO 2024/2025
END:VEVENT
BEGIN:VEVENT
DTSTART;TZID=UTC:20250203T081500
DTEND;TZID=UTC:20250203T101500
DTSTAMP:20260420T023812
CREATED:20250307T044209Z
LAST-MODIFIED:20250307T044209Z
UID:167685-1738570500-1738577700@scuolaedilecremona.it
SUMMARY:AREA DEI LINGUAGGI - LINGUA INGLESE
DESCRIPTION:Docente: VIRGILIO LAURA LETIZIA
URL:https://scuolaedilecremona.it/event/area-dei-linguaggi-lingua-inglese-38/
CATEGORIES:ANNO 2 OPERATORE EDILE - SECONDO ANNO 2024/2025
END:VEVENT
BEGIN:VEVENT
DTSTART;TZID=UTC:20250203T081500
DTEND;TZID=UTC:20250203T101500
DTSTAMP:20260420T023812
CREATED:20250307T045026Z
LAST-MODIFIED:20250307T045026Z
UID:168093-1738570500-1738577700@scuolaedilecremona.it
SUMMARY:Area tecnologica - informatica
DESCRIPTION:Docente: BILLA CHIARA
URL:https://scuolaedilecremona.it/event/area-tecnologica-informatica-4/
CATEGORIES:ANNO 3 OPERATORE EDILE - TERZO ANNO 2024/2025
END:VEVENT
BEGIN:VEVENT
DTSTART;TZID=UTC:20250203T081500
DTEND;TZID=UTC:20250203T111500
DTSTAMP:20260420T023812
CREATED:20250307T043502Z
LAST-MODIFIED:20250307T043502Z
UID:167330-1738570500-1738581300@scuolaedilecremona.it
SUMMARY:Area tecnico professionale - Elementi di tecnologia edile
DESCRIPTION:Docente: BELLADELLI LEONARDO
URL:https://scuolaedilecremona.it/event/area-tecnico-professionale-elementi-di-tecnologia-edile-49/
CATEGORIES:ANNO 1 OPERATORE EDILE - PRIMO ANNO CREMONA 2024/2025
END:VEVENT
BEGIN:VEVENT
DTSTART;TZID=UTC:20250203T101500
DTEND;TZID=UTC:20250203T111500
DTSTAMP:20260420T023812
CREATED:20250307T044210Z
LAST-MODIFIED:20250307T044210Z
UID:167686-1738577700-1738581300@scuolaedilecremona.it
SUMMARY:Area tecnologica - informatica
DESCRIPTION:Docente: BILLA CHIARA
URL:https://scuolaedilecremona.it/event/area-tecnologica-informatica-25/
CATEGORIES:ANNO 2 OPERATORE EDILE - SECONDO ANNO 2024/2025
END:VEVENT
END:VCALENDAR