BEGIN:VCALENDAR
VERSION:2.0
PRODID:-//Ente Scuola Edile Cremona - C.P.T. - ECPv6.15.18//NONSGML v1.0//EN
CALSCALE:GREGORIAN
METHOD:PUBLISH
X-ORIGINAL-URL:https://scuolaedilecremona.it
X-WR-CALDESC:Eventi per Ente Scuola Edile Cremona - C.P.T.
REFRESH-INTERVAL;VALUE=DURATION:PT1H
X-Robots-Tag:noindex
X-PUBLISHED-TTL:PT1H
BEGIN:VTIMEZONE
TZID:UTC
BEGIN:STANDARD
TZOFFSETFROM:+0000
TZOFFSETTO:+0000
TZNAME:UTC
DTSTART:20230101T000000
END:STANDARD
END:VTIMEZONE
BEGIN:VEVENT
DTSTART;TZID=UTC:20241127T080000
DTEND;TZID=UTC:20241127T160000
DTSTAMP:20260420T070936
CREATED:20250307T044903Z
LAST-MODIFIED:20250307T044903Z
UID:168026-1732694400-1732723200@scuolaedilecremona.it
SUMMARY:STAGE
DESCRIPTION:
URL:https://scuolaedilecremona.it/event/stage-38/
CATEGORIES:ANNO 3 OPERATORE EDILE - TERZO ANNO 2024/2025
END:VEVENT
BEGIN:VEVENT
DTSTART;TZID=UTC:20241127T081500
DTEND;TZID=UTC:20241127T091500
DTSTAMP:20260420T070936
CREATED:20250307T043304Z
LAST-MODIFIED:20250307T043304Z
UID:167233-1732695300-1732698900@scuolaedilecremona.it
SUMMARY:Area storico-socio-economica - Storia
DESCRIPTION:Docente: ROSSI GIAMPIETRO
URL:https://scuolaedilecremona.it/event/area-storico-socio-economica-storia-28/
CATEGORIES:ANNO 1 OPERATORE EDILE - PRIMO ANNO CREMONA 2024/2025
END:VEVENT
BEGIN:VEVENT
DTSTART;TZID=UTC:20241127T081500
DTEND;TZID=UTC:20241127T111500
DTSTAMP:20260420T070936
CREATED:20250307T044025Z
LAST-MODIFIED:20250307T044025Z
UID:167599-1732695300-1732706100@scuolaedilecremona.it
SUMMARY:Area scientifica - scienze
DESCRIPTION:Docente: TAINO CATERINA
URL:https://scuolaedilecremona.it/event/area-scientifica-scienze-16/
CATEGORIES:ANNO 2 OPERATORE EDILE - SECONDO ANNO 2024/2025
END:VEVENT
BEGIN:VEVENT
DTSTART;TZID=UTC:20241127T091500
DTEND;TZID=UTC:20241127T111500
DTSTAMP:20260420T070936
CREATED:20250307T043305Z
LAST-MODIFIED:20250307T043305Z
UID:167234-1732698900-1732706100@scuolaedilecremona.it
SUMMARY:Area storico-socio-economica - Geografia
DESCRIPTION:Docente: ROSSI GIAMPIETRO
URL:https://scuolaedilecremona.it/event/area-storico-socio-economica-geografia-28/
CATEGORIES:ANNO 1 OPERATORE EDILE - PRIMO ANNO CREMONA 2024/2025
END:VEVENT
BEGIN:VEVENT
DTSTART;TZID=UTC:20241127T113000
DTEND;TZID=UTC:20241127T133000
DTSTAMP:20260420T070936
CREATED:20250307T043306Z
LAST-MODIFIED:20250307T043306Z
UID:167235-1732707000-1732714200@scuolaedilecremona.it
SUMMARY:Area scientifica - scienze
DESCRIPTION:Docente: TAINO CATERINA
URL:https://scuolaedilecremona.it/event/area-scientifica-scienze-25/
CATEGORIES:ANNO 1 OPERATORE EDILE - PRIMO ANNO CREMONA 2024/2025
END:VEVENT
BEGIN:VEVENT
DTSTART;TZID=UTC:20241127T113000
DTEND;TZID=UTC:20241127T133000
DTSTAMP:20260420T070936
CREATED:20250307T044026Z
LAST-MODIFIED:20250307T044026Z
UID:167600-1732707000-1732714200@scuolaedilecremona.it
SUMMARY:Area scientifica - matematica e geometria
DESCRIPTION:Docente: BETTONI FABIO
URL:https://scuolaedilecremona.it/event/area-scientifica-matematica-e-geometria-48/
CATEGORIES:ANNO 2 OPERATORE EDILE - SECONDO ANNO 2024/2025
END:VEVENT
BEGIN:VEVENT
DTSTART;TZID=UTC:20241128T080000
DTEND;TZID=UTC:20241128T160000
DTSTAMP:20260420T070936
CREATED:20250307T044453Z
LAST-MODIFIED:20250307T044453Z
UID:167819-1732780800-1732809600@scuolaedilecremona.it
SUMMARY:STAGE
DESCRIPTION:
URL:https://scuolaedilecremona.it/event/stage-82/
CATEGORIES:ANNO 3 OPERATORE EDILE - DUALE TERZO ANNO 2024/2025
END:VEVENT
BEGIN:VEVENT
DTSTART;TZID=UTC:20241128T080000
DTEND;TZID=UTC:20241128T160000
DTSTAMP:20260420T070936
CREATED:20250307T044905Z
LAST-MODIFIED:20250307T044905Z
UID:168027-1732780800-1732809600@scuolaedilecremona.it
SUMMARY:STAGE
DESCRIPTION:
URL:https://scuolaedilecremona.it/event/stage-39/
CATEGORIES:ANNO 3 OPERATORE EDILE - TERZO ANNO 2024/2025
END:VEVENT
BEGIN:VEVENT
DTSTART;TZID=UTC:20241128T081500
DTEND;TZID=UTC:20241128T101500
DTSTAMP:20260420T070936
CREATED:20250307T043308Z
LAST-MODIFIED:20250307T043308Z
UID:167236-1732781700-1732788900@scuolaedilecremona.it
SUMMARY:Area tecnico professionale - Elementi di sicurezza sul lavoro
DESCRIPTION:Docente: SOFFIENTINI ROBERTO
URL:https://scuolaedilecremona.it/event/area-tecnico-professionale-elementi-di-sicurezza-sul-lavoro-50/
CATEGORIES:ANNO 1 OPERATORE EDILE - PRIMO ANNO CREMONA 2024/2025
END:VEVENT
BEGIN:VEVENT
DTSTART;TZID=UTC:20241128T081500
DTEND;TZID=UTC:20241128T133000
DTSTAMP:20260420T070936
CREATED:20250307T044028Z
LAST-MODIFIED:20250307T044028Z
UID:167601-1732781700-1732800600@scuolaedilecremona.it
SUMMARY:Area tecnico professionale - Laboratorio esercitazioni pratiche
DESCRIPTION:Docente: DOSSENA GHERARDO TITO
URL:https://scuolaedilecremona.it/event/area-tecnico-professionale-laboratorio-esercitazioni-pratiche-81/
CATEGORIES:ANNO 2 OPERATORE EDILE - SECONDO ANNO 2024/2025
END:VEVENT
BEGIN:VEVENT
DTSTART;TZID=UTC:20241128T101500
DTEND;TZID=UTC:20241128T111500
DTSTAMP:20260420T070936
CREATED:20250307T043309Z
LAST-MODIFIED:20250307T043309Z
UID:167237-1732788900-1732792500@scuolaedilecremona.it
SUMMARY:Area tecnico professionale - Elementi di contabilita
DESCRIPTION:Docente: SOFFIENTINI ROBERTO
URL:https://scuolaedilecremona.it/event/area-tecnico-professionale-elementi-di-contabilita-41/
CATEGORIES:ANNO 1 OPERATORE EDILE - PRIMO ANNO CREMONA 2024/2025
END:VEVENT
BEGIN:VEVENT
DTSTART;TZID=UTC:20241128T113000
DTEND;TZID=UTC:20241128T133000
DTSTAMP:20260420T070936
CREATED:20250307T043310Z
LAST-MODIFIED:20250307T043310Z
UID:167238-1732793400-1732800600@scuolaedilecremona.it
SUMMARY:Area scientifica - matematica e geometria
DESCRIPTION:Docente: BETTONI FABIO
URL:https://scuolaedilecremona.it/event/area-scientifica-matematica-e-geometria-75/
CATEGORIES:ANNO 1 OPERATORE EDILE - PRIMO ANNO CREMONA 2024/2025
END:VEVENT
BEGIN:VEVENT
DTSTART;TZID=UTC:20241129T080000
DTEND;TZID=UTC:20241129T160000
DTSTAMP:20260420T070936
CREATED:20250307T044454Z
LAST-MODIFIED:20250307T044454Z
UID:167820-1732867200-1732896000@scuolaedilecremona.it
SUMMARY:STAGE
DESCRIPTION:
URL:https://scuolaedilecremona.it/event/stage-83/
CATEGORIES:ANNO 3 OPERATORE EDILE - DUALE TERZO ANNO 2024/2025
END:VEVENT
BEGIN:VEVENT
DTSTART;TZID=UTC:20241129T080000
DTEND;TZID=UTC:20241129T160000
DTSTAMP:20260420T070936
CREATED:20250307T044906Z
LAST-MODIFIED:20250307T044906Z
UID:168028-1732867200-1732896000@scuolaedilecremona.it
SUMMARY:STAGE
DESCRIPTION:
URL:https://scuolaedilecremona.it/event/stage-40/
CATEGORIES:ANNO 3 OPERATORE EDILE - TERZO ANNO 2024/2025
END:VEVENT
BEGIN:VEVENT
DTSTART;TZID=UTC:20241129T081500
DTEND;TZID=UTC:20241129T091500
DTSTAMP:20260420T070936
CREATED:20250307T043311Z
LAST-MODIFIED:20250307T043311Z
UID:167239-1732868100-1732871700@scuolaedilecremona.it
SUMMARY:Religione Cattolica (IRC) / Attivita alternativa
DESCRIPTION:Docente: ROSSI GIAMPIETRO
URL:https://scuolaedilecremona.it/event/religione-cattolica-irc-attivita-alternativa-30/
CATEGORIES:ANNO 1 OPERATORE EDILE - PRIMO ANNO CREMONA 2024/2025
END:VEVENT
BEGIN:VEVENT
DTSTART;TZID=UTC:20241129T081500
DTEND;TZID=UTC:20241129T133000
DTSTAMP:20260420T070936
CREATED:20250307T044029Z
LAST-MODIFIED:20250307T044029Z
UID:167602-1732868100-1732887000@scuolaedilecremona.it
SUMMARY:Area tecnico professionale - Elementi di tecnologia edile
DESCRIPTION:Docente: BELLADELLI LEONARDO
URL:https://scuolaedilecremona.it/event/area-tecnico-professionale-elementi-di-tecnologia-edile-29/
CATEGORIES:ANNO 2 OPERATORE EDILE - SECONDO ANNO 2024/2025
END:VEVENT
BEGIN:VEVENT
DTSTART;TZID=UTC:20241129T091500
DTEND;TZID=UTC:20241129T101500
DTSTAMP:20260420T070936
CREATED:20250307T043312Z
LAST-MODIFIED:20250307T043312Z
UID:167240-1732871700-1732875300@scuolaedilecremona.it
SUMMARY:Area storico-socio-economica - Storia
DESCRIPTION:Docente: ROSSI GIAMPIETRO
URL:https://scuolaedilecremona.it/event/area-storico-socio-economica-storia-29/
CATEGORIES:ANNO 1 OPERATORE EDILE - PRIMO ANNO CREMONA 2024/2025
END:VEVENT
BEGIN:VEVENT
DTSTART;TZID=UTC:20241129T101500
DTEND;TZID=UTC:20241129T111500
DTSTAMP:20260420T070936
CREATED:20250307T043314Z
LAST-MODIFIED:20250307T043314Z
UID:167241-1732875300-1732878900@scuolaedilecremona.it
SUMMARY:Area storico-socio-economica - Geografia
DESCRIPTION:Docente: ROSSI GIAMPIETRO
URL:https://scuolaedilecremona.it/event/area-storico-socio-economica-geografia-29/
CATEGORIES:ANNO 1 OPERATORE EDILE - PRIMO ANNO CREMONA 2024/2025
END:VEVENT
BEGIN:VEVENT
DTSTART;TZID=UTC:20241129T113000
DTEND;TZID=UTC:20241129T133000
DTSTAMP:20260420T070936
CREATED:20250307T043315Z
LAST-MODIFIED:20250307T043315Z
UID:167242-1732879800-1732887000@scuolaedilecremona.it
SUMMARY:AREA DEI LINGUAGGI - LINGUA ITALIANA
DESCRIPTION:Docente: UCCIARDO  CARMELO
URL:https://scuolaedilecremona.it/event/area-dei-linguaggi-lingua-italiana-104/
CATEGORIES:ANNO 1 OPERATORE EDILE - PRIMO ANNO CREMONA 2024/2025
END:VEVENT
BEGIN:VEVENT
DTSTART;TZID=UTC:20241130T081500
DTEND;TZID=UTC:20241130T133000
DTSTAMP:20260420T070936
CREATED:20250307T043316Z
LAST-MODIFIED:20250307T043316Z
UID:167243-1732954500-1732973400@scuolaedilecremona.it
SUMMARY:Area tecnico professionale - Laboratorio esercitazioni pratiche
DESCRIPTION:Docente: DOSSENA GHERARDO TITO
URL:https://scuolaedilecremona.it/event/area-tecnico-professionale-laboratorio-esercitazioni-pratiche-123/
CATEGORIES:ANNO 1 OPERATORE EDILE - PRIMO ANNO CREMONA 2024/2025
END:VEVENT
BEGIN:VEVENT
DTSTART;TZID=UTC:20241202T080000
DTEND;TZID=UTC:20241202T160000
DTSTAMP:20260420T070936
CREATED:20250307T044455Z
LAST-MODIFIED:20250307T044455Z
UID:167821-1733126400-1733155200@scuolaedilecremona.it
SUMMARY:STAGE
DESCRIPTION:
URL:https://scuolaedilecremona.it/event/stage-84/
CATEGORIES:ANNO 3 OPERATORE EDILE - DUALE TERZO ANNO 2024/2025
END:VEVENT
BEGIN:VEVENT
DTSTART;TZID=UTC:20241202T080000
DTEND;TZID=UTC:20241202T160000
DTSTAMP:20260420T070936
CREATED:20250307T044907Z
LAST-MODIFIED:20250307T044907Z
UID:168029-1733126400-1733155200@scuolaedilecremona.it
SUMMARY:STAGE
DESCRIPTION:
URL:https://scuolaedilecremona.it/event/stage-41/
CATEGORIES:ANNO 3 OPERATORE EDILE - TERZO ANNO 2024/2025
END:VEVENT
BEGIN:VEVENT
DTSTART;TZID=UTC:20241202T081500
DTEND;TZID=UTC:20241202T091500
DTSTAMP:20260420T070936
CREATED:20250307T043317Z
LAST-MODIFIED:20250307T043317Z
UID:167244-1733127300-1733130900@scuolaedilecremona.it
SUMMARY:Area storico-socio-economica - Storia
DESCRIPTION:Docente: ROSSI GIAMPIETRO
URL:https://scuolaedilecremona.it/event/area-storico-socio-economica-storia-30/
CATEGORIES:ANNO 1 OPERATORE EDILE - PRIMO ANNO CREMONA 2024/2025
END:VEVENT
BEGIN:VEVENT
DTSTART;TZID=UTC:20241202T081500
DTEND;TZID=UTC:20241202T101500
DTSTAMP:20260420T070936
CREATED:20250307T044030Z
LAST-MODIFIED:20250307T044030Z
UID:167603-1733127300-1733134500@scuolaedilecremona.it
SUMMARY:AREA DEI LINGUAGGI - LINGUA INGLESE
DESCRIPTION:Docente: VIRGILIO LAURA LETIZIA
URL:https://scuolaedilecremona.it/event/area-dei-linguaggi-lingua-inglese-34/
CATEGORIES:ANNO 2 OPERATORE EDILE - SECONDO ANNO 2024/2025
END:VEVENT
BEGIN:VEVENT
DTSTART;TZID=UTC:20241202T091500
DTEND;TZID=UTC:20241202T101500
DTSTAMP:20260420T070936
CREATED:20250307T043319Z
LAST-MODIFIED:20250307T043319Z
UID:167245-1733130900-1733134500@scuolaedilecremona.it
SUMMARY:Area storico-socio-economica - Geografia
DESCRIPTION:Docente: ROSSI GIAMPIETRO
URL:https://scuolaedilecremona.it/event/area-storico-socio-economica-geografia-30/
CATEGORIES:ANNO 1 OPERATORE EDILE - PRIMO ANNO CREMONA 2024/2025
END:VEVENT
BEGIN:VEVENT
DTSTART;TZID=UTC:20241202T101500
DTEND;TZID=UTC:20241202T111500
DTSTAMP:20260420T070936
CREATED:20250307T044031Z
LAST-MODIFIED:20250307T044031Z
UID:167604-1733134500-1733138100@scuolaedilecremona.it
SUMMARY:Area storico-socio-economica - Geografia
DESCRIPTION:Docente: ROSSI GIAMPIETRO
URL:https://scuolaedilecremona.it/event/area-storico-socio-economica-geografia-19/
CATEGORIES:ANNO 2 OPERATORE EDILE - SECONDO ANNO 2024/2025
END:VEVENT
BEGIN:VEVENT
DTSTART;TZID=UTC:20241202T101500
DTEND;TZID=UTC:20241202T133000
DTSTAMP:20260420T070936
CREATED:20250307T043320Z
LAST-MODIFIED:20250307T043320Z
UID:167246-1733134500-1733146200@scuolaedilecremona.it
SUMMARY:AREA DEI LINGUAGGI - LINGUA INGLESE
DESCRIPTION:Docente: VIRGILIO LAURA LETIZIA
URL:https://scuolaedilecremona.it/event/area-dei-linguaggi-lingua-inglese-47/
CATEGORIES:ANNO 1 OPERATORE EDILE - PRIMO ANNO CREMONA 2024/2025
END:VEVENT
BEGIN:VEVENT
DTSTART;TZID=UTC:20241202T113000
DTEND;TZID=UTC:20241202T133000
DTSTAMP:20260420T070936
CREATED:20250307T044033Z
LAST-MODIFIED:20250307T044033Z
UID:167605-1733139000-1733146200@scuolaedilecremona.it
SUMMARY:AREA DEI LINGUAGGI - LINGUA ITALIANA
DESCRIPTION:Docente: UCCIARDO  CARMELO
URL:https://scuolaedilecremona.it/event/area-dei-linguaggi-lingua-italiana-71/
CATEGORIES:ANNO 2 OPERATORE EDILE - SECONDO ANNO 2024/2025
END:VEVENT
BEGIN:VEVENT
DTSTART;TZID=UTC:20241203T080000
DTEND;TZID=UTC:20241203T160000
DTSTAMP:20260420T070936
CREATED:20250307T044456Z
LAST-MODIFIED:20250307T044456Z
UID:167822-1733212800-1733241600@scuolaedilecremona.it
SUMMARY:STAGE
DESCRIPTION:
URL:https://scuolaedilecremona.it/event/stage-85/
CATEGORIES:ANNO 3 OPERATORE EDILE - DUALE TERZO ANNO 2024/2025
END:VEVENT
BEGIN:VEVENT
DTSTART;TZID=UTC:20241203T080000
DTEND;TZID=UTC:20241203T160000
DTSTAMP:20260420T070936
CREATED:20250307T044908Z
LAST-MODIFIED:20250307T044908Z
UID:168030-1733212800-1733241600@scuolaedilecremona.it
SUMMARY:STAGE
DESCRIPTION:
URL:https://scuolaedilecremona.it/event/stage-42/
CATEGORIES:ANNO 3 OPERATORE EDILE - TERZO ANNO 2024/2025
END:VEVENT
END:VCALENDAR