BEGIN:VCALENDAR
VERSION:2.0
PRODID:-//Ente Scuola Edile Cremona - C.P.T. - ECPv6.15.18//NONSGML v1.0//EN
CALSCALE:GREGORIAN
METHOD:PUBLISH
X-WR-CALNAME:Ente Scuola Edile Cremona - C.P.T.
X-ORIGINAL-URL:https://scuolaedilecremona.it
X-WR-CALDESC:Eventi per Ente Scuola Edile Cremona - C.P.T.
REFRESH-INTERVAL;VALUE=DURATION:PT1H
X-Robots-Tag:noindex
X-PUBLISHED-TTL:PT1H
BEGIN:VTIMEZONE
TZID:UTC
BEGIN:STANDARD
TZOFFSETFROM:+0000
TZOFFSETTO:+0000
TZNAME:UTC
DTSTART:20230101T000000
END:STANDARD
END:VTIMEZONE
BEGIN:VEVENT
DTSTART;TZID=UTC:20241202T081500
DTEND;TZID=UTC:20241202T091500
DTSTAMP:20260420T050233
CREATED:20250307T043317Z
LAST-MODIFIED:20250307T043317Z
UID:167244-1733127300-1733130900@scuolaedilecremona.it
SUMMARY:Area storico-socio-economica - Storia
DESCRIPTION:Docente: ROSSI GIAMPIETRO
URL:https://scuolaedilecremona.it/event/area-storico-socio-economica-storia-30/
CATEGORIES:ANNO 1 OPERATORE EDILE - PRIMO ANNO CREMONA 2024/2025
END:VEVENT
BEGIN:VEVENT
DTSTART;TZID=UTC:20241202T081500
DTEND;TZID=UTC:20241202T101500
DTSTAMP:20260420T050233
CREATED:20250307T044030Z
LAST-MODIFIED:20250307T044030Z
UID:167603-1733127300-1733134500@scuolaedilecremona.it
SUMMARY:AREA DEI LINGUAGGI - LINGUA INGLESE
DESCRIPTION:Docente: VIRGILIO LAURA LETIZIA
URL:https://scuolaedilecremona.it/event/area-dei-linguaggi-lingua-inglese-34/
CATEGORIES:ANNO 2 OPERATORE EDILE - SECONDO ANNO 2024/2025
END:VEVENT
BEGIN:VEVENT
DTSTART;TZID=UTC:20241202T091500
DTEND;TZID=UTC:20241202T101500
DTSTAMP:20260420T050233
CREATED:20250307T043319Z
LAST-MODIFIED:20250307T043319Z
UID:167245-1733130900-1733134500@scuolaedilecremona.it
SUMMARY:Area storico-socio-economica - Geografia
DESCRIPTION:Docente: ROSSI GIAMPIETRO
URL:https://scuolaedilecremona.it/event/area-storico-socio-economica-geografia-30/
CATEGORIES:ANNO 1 OPERATORE EDILE - PRIMO ANNO CREMONA 2024/2025
END:VEVENT
BEGIN:VEVENT
DTSTART;TZID=UTC:20241202T101500
DTEND;TZID=UTC:20241202T111500
DTSTAMP:20260420T050233
CREATED:20250307T044031Z
LAST-MODIFIED:20250307T044031Z
UID:167604-1733134500-1733138100@scuolaedilecremona.it
SUMMARY:Area storico-socio-economica - Geografia
DESCRIPTION:Docente: ROSSI GIAMPIETRO
URL:https://scuolaedilecremona.it/event/area-storico-socio-economica-geografia-19/
CATEGORIES:ANNO 2 OPERATORE EDILE - SECONDO ANNO 2024/2025
END:VEVENT
BEGIN:VEVENT
DTSTART;TZID=UTC:20241202T101500
DTEND;TZID=UTC:20241202T133000
DTSTAMP:20260420T050233
CREATED:20250307T043320Z
LAST-MODIFIED:20250307T043320Z
UID:167246-1733134500-1733146200@scuolaedilecremona.it
SUMMARY:AREA DEI LINGUAGGI - LINGUA INGLESE
DESCRIPTION:Docente: VIRGILIO LAURA LETIZIA
URL:https://scuolaedilecremona.it/event/area-dei-linguaggi-lingua-inglese-47/
CATEGORIES:ANNO 1 OPERATORE EDILE - PRIMO ANNO CREMONA 2024/2025
END:VEVENT
BEGIN:VEVENT
DTSTART;TZID=UTC:20241202T113000
DTEND;TZID=UTC:20241202T133000
DTSTAMP:20260420T050233
CREATED:20250307T044033Z
LAST-MODIFIED:20250307T044033Z
UID:167605-1733139000-1733146200@scuolaedilecremona.it
SUMMARY:AREA DEI LINGUAGGI - LINGUA ITALIANA
DESCRIPTION:Docente: UCCIARDO  CARMELO
URL:https://scuolaedilecremona.it/event/area-dei-linguaggi-lingua-italiana-71/
CATEGORIES:ANNO 2 OPERATORE EDILE - SECONDO ANNO 2024/2025
END:VEVENT
BEGIN:VEVENT
DTSTART;TZID=UTC:20241203T080000
DTEND;TZID=UTC:20241203T160000
DTSTAMP:20260420T050233
CREATED:20250307T044456Z
LAST-MODIFIED:20250307T044456Z
UID:167822-1733212800-1733241600@scuolaedilecremona.it
SUMMARY:STAGE
DESCRIPTION:
URL:https://scuolaedilecremona.it/event/stage-85/
CATEGORIES:ANNO 3 OPERATORE EDILE - DUALE TERZO ANNO 2024/2025
END:VEVENT
BEGIN:VEVENT
DTSTART;TZID=UTC:20241203T080000
DTEND;TZID=UTC:20241203T160000
DTSTAMP:20260420T050233
CREATED:20250307T044908Z
LAST-MODIFIED:20250307T044908Z
UID:168030-1733212800-1733241600@scuolaedilecremona.it
SUMMARY:STAGE
DESCRIPTION:
URL:https://scuolaedilecremona.it/event/stage-42/
CATEGORIES:ANNO 3 OPERATORE EDILE - TERZO ANNO 2024/2025
END:VEVENT
BEGIN:VEVENT
DTSTART;TZID=UTC:20241203T081500
DTEND;TZID=UTC:20241203T091500
DTSTAMP:20260420T050233
CREATED:20250307T043321Z
LAST-MODIFIED:20250307T043321Z
UID:167247-1733213700-1733217300@scuolaedilecremona.it
SUMMARY:Religione Cattolica (IRC) / Attivita alternativa
DESCRIPTION:Docente: ROSSI GIAMPIETRO
URL:https://scuolaedilecremona.it/event/religione-cattolica-irc-attivita-alternativa-31/
CATEGORIES:ANNO 1 OPERATORE EDILE - PRIMO ANNO CREMONA 2024/2025
END:VEVENT
BEGIN:VEVENT
DTSTART;TZID=UTC:20241203T081500
DTEND;TZID=UTC:20241203T091500
DTSTAMP:20260420T050233
CREATED:20250307T044034Z
LAST-MODIFIED:20250307T044034Z
UID:167606-1733213700-1733217300@scuolaedilecremona.it
SUMMARY:Area storico-socio-economica - Elementi di diritto del lavoro
DESCRIPTION:Docente: SPOTTI FABIO ENRICO
URL:https://scuolaedilecremona.it/event/area-storico-socio-economica-elementi-di-diritto-del-lavoro-15/
CATEGORIES:ANNO 2 OPERATORE EDILE - SECONDO ANNO 2024/2025
END:VEVENT
BEGIN:VEVENT
DTSTART;TZID=UTC:20241203T091500
DTEND;TZID=UTC:20241203T101500
DTSTAMP:20260420T050233
CREATED:20250307T043322Z
LAST-MODIFIED:20250307T043322Z
UID:167248-1733217300-1733220900@scuolaedilecremona.it
SUMMARY:Area storico-socio-economica - Elementi di economia
DESCRIPTION:Docente: SPOTTI FABIO ENRICO
URL:https://scuolaedilecremona.it/event/area-storico-socio-economica-elementi-di-economia-28/
CATEGORIES:ANNO 1 OPERATORE EDILE - PRIMO ANNO CREMONA 2024/2025
END:VEVENT
BEGIN:VEVENT
DTSTART;TZID=UTC:20241203T091500
DTEND;TZID=UTC:20241203T101500
DTSTAMP:20260420T050233
CREATED:20250309T203808Z
LAST-MODIFIED:20250309T203808Z
UID:168263-1733217300-1733220900@scuolaedilecremona.it
SUMMARY:Area storico-socio-economica - Storia
DESCRIPTION:Docente: ROSSI GIAMPIETRO\, UCCIARDO  CARMELO
URL:https://scuolaedilecremona.it/event/area-storico-socio-economica-storia-19/
CATEGORIES:ANNO 2 OPERATORE EDILE - SECONDO ANNO 2024/2025
END:VEVENT
BEGIN:VEVENT
DTSTART;TZID=UTC:20241203T101500
DTEND;TZID=UTC:20241203T111500
DTSTAMP:20260420T050233
CREATED:20250307T043323Z
LAST-MODIFIED:20250307T043323Z
UID:167249-1733220900-1733224500@scuolaedilecremona.it
SUMMARY:Area storico-socio-economica - Elementi di diritto del lavoro
DESCRIPTION:Docente: SPOTTI FABIO ENRICO
URL:https://scuolaedilecremona.it/event/area-storico-socio-economica-elementi-di-diritto-del-lavoro-28/
CATEGORIES:ANNO 1 OPERATORE EDILE - PRIMO ANNO CREMONA 2024/2025
END:VEVENT
BEGIN:VEVENT
DTSTART;TZID=UTC:20241203T101500
DTEND;TZID=UTC:20241203T111500
DTSTAMP:20260420T050233
CREATED:20250307T044036Z
LAST-MODIFIED:20250307T044036Z
UID:167608-1733220900-1733224500@scuolaedilecremona.it
SUMMARY:Area storico-socio-economica - Geografia
DESCRIPTION:Docente: ROSSI GIAMPIETRO\, UCCIARDO  CARMELO
URL:https://scuolaedilecremona.it/event/area-storico-socio-economica-geografia-20/
CATEGORIES:ANNO 2 OPERATORE EDILE - SECONDO ANNO 2024/2025
END:VEVENT
BEGIN:VEVENT
DTSTART;TZID=UTC:20241203T113000
DTEND;TZID=UTC:20241203T133000
DTSTAMP:20260420T050233
CREATED:20250307T043325Z
LAST-MODIFIED:20250307T043325Z
UID:167250-1733225400-1733232600@scuolaedilecremona.it
SUMMARY:Area scientifica - matematica e geometria
DESCRIPTION:Docente: BETTONI FABIO
URL:https://scuolaedilecremona.it/event/area-scientifica-matematica-e-geometria-76/
CATEGORIES:ANNO 1 OPERATORE EDILE - PRIMO ANNO CREMONA 2024/2025
END:VEVENT
BEGIN:VEVENT
DTSTART;TZID=UTC:20241203T113000
DTEND;TZID=UTC:20241203T133000
DTSTAMP:20260420T050233
CREATED:20250307T044037Z
LAST-MODIFIED:20250307T044037Z
UID:167609-1733225400-1733232600@scuolaedilecremona.it
SUMMARY:AREA DEI LINGUAGGI - LINGUA ITALIANA
DESCRIPTION:Docente: UCCIARDO  CARMELO
URL:https://scuolaedilecremona.it/event/area-dei-linguaggi-lingua-italiana-72/
CATEGORIES:ANNO 2 OPERATORE EDILE - SECONDO ANNO 2024/2025
END:VEVENT
BEGIN:VEVENT
DTSTART;TZID=UTC:20241204T080000
DTEND;TZID=UTC:20241204T160000
DTSTAMP:20260420T050233
CREATED:20250307T044457Z
LAST-MODIFIED:20250307T044457Z
UID:167823-1733299200-1733328000@scuolaedilecremona.it
SUMMARY:STAGE
DESCRIPTION:
URL:https://scuolaedilecremona.it/event/stage-86/
CATEGORIES:ANNO 3 OPERATORE EDILE - DUALE TERZO ANNO 2024/2025
END:VEVENT
BEGIN:VEVENT
DTSTART;TZID=UTC:20241204T080000
DTEND;TZID=UTC:20241204T160000
DTSTAMP:20260420T050233
CREATED:20250307T044909Z
LAST-MODIFIED:20250307T044909Z
UID:168031-1733299200-1733328000@scuolaedilecremona.it
SUMMARY:STAGE
DESCRIPTION:
URL:https://scuolaedilecremona.it/event/stage-43/
CATEGORIES:ANNO 3 OPERATORE EDILE - TERZO ANNO 2024/2025
END:VEVENT
BEGIN:VEVENT
DTSTART;TZID=UTC:20241204T081500
DTEND;TZID=UTC:20241204T091500
DTSTAMP:20260420T050233
CREATED:20250307T043326Z
LAST-MODIFIED:20250307T043326Z
UID:167251-1733300100-1733303700@scuolaedilecremona.it
SUMMARY:Area storico-socio-economica - Storia
DESCRIPTION:Docente: ROSSI GIAMPIETRO
URL:https://scuolaedilecremona.it/event/area-storico-socio-economica-storia-31/
CATEGORIES:ANNO 1 OPERATORE EDILE - PRIMO ANNO CREMONA 2024/2025
END:VEVENT
BEGIN:VEVENT
DTSTART;TZID=UTC:20241204T081500
DTEND;TZID=UTC:20241204T101500
DTSTAMP:20260420T050233
CREATED:20250307T044039Z
LAST-MODIFIED:20250307T044039Z
UID:167610-1733300100-1733307300@scuolaedilecremona.it
SUMMARY:Area tecnico professionale - Elementi di tecnologia edile
DESCRIPTION:Docente: BELLADELLI LEONARDO
URL:https://scuolaedilecremona.it/event/area-tecnico-professionale-elementi-di-tecnologia-edile-30/
CATEGORIES:ANNO 2 OPERATORE EDILE - SECONDO ANNO 2024/2025
END:VEVENT
BEGIN:VEVENT
DTSTART;TZID=UTC:20241204T091500
DTEND;TZID=UTC:20241204T101500
DTSTAMP:20260420T050233
CREATED:20250307T043327Z
LAST-MODIFIED:20250307T043327Z
UID:167252-1733303700-1733307300@scuolaedilecremona.it
SUMMARY:Area storico-socio-economica - Geografia
DESCRIPTION:Docente: ROSSI GIAMPIETRO
URL:https://scuolaedilecremona.it/event/area-storico-socio-economica-geografia-31/
CATEGORIES:ANNO 1 OPERATORE EDILE - PRIMO ANNO CREMONA 2024/2025
END:VEVENT
BEGIN:VEVENT
DTSTART;TZID=UTC:20241204T101500
DTEND;TZID=UTC:20241204T133000
DTSTAMP:20260420T050233
CREATED:20250307T043328Z
LAST-MODIFIED:20250307T043328Z
UID:167253-1733307300-1733319000@scuolaedilecremona.it
SUMMARY:Area tecnico professionale - Elementi di tecnologia edile
DESCRIPTION:Docente: BELLADELLI LEONARDO
URL:https://scuolaedilecremona.it/event/area-tecnico-professionale-elementi-di-tecnologia-edile-43/
CATEGORIES:ANNO 1 OPERATORE EDILE - PRIMO ANNO CREMONA 2024/2025
END:VEVENT
BEGIN:VEVENT
DTSTART;TZID=UTC:20241204T101500
DTEND;TZID=UTC:20241204T133000
DTSTAMP:20260420T050233
CREATED:20250307T044040Z
LAST-MODIFIED:20250307T044040Z
UID:167611-1733307300-1733319000@scuolaedilecremona.it
SUMMARY:Area scientifica - matematica e geometria
DESCRIPTION:Docente: BETTONI FABIO
URL:https://scuolaedilecremona.it/event/area-scientifica-matematica-e-geometria-49/
CATEGORIES:ANNO 2 OPERATORE EDILE - SECONDO ANNO 2024/2025
END:VEVENT
BEGIN:VEVENT
DTSTART;TZID=UTC:20241205T080000
DTEND;TZID=UTC:20241205T160000
DTSTAMP:20260420T050233
CREATED:20250307T044459Z
LAST-MODIFIED:20250307T044459Z
UID:167824-1733385600-1733414400@scuolaedilecremona.it
SUMMARY:STAGE
DESCRIPTION:
URL:https://scuolaedilecremona.it/event/stage-87/
CATEGORIES:ANNO 3 OPERATORE EDILE - DUALE TERZO ANNO 2024/2025
END:VEVENT
BEGIN:VEVENT
DTSTART;TZID=UTC:20241205T080000
DTEND;TZID=UTC:20241205T160000
DTSTAMP:20260420T050233
CREATED:20250307T044911Z
LAST-MODIFIED:20250307T044911Z
UID:168032-1733385600-1733414400@scuolaedilecremona.it
SUMMARY:STAGE
DESCRIPTION:
URL:https://scuolaedilecremona.it/event/stage-44/
CATEGORIES:ANNO 3 OPERATORE EDILE - TERZO ANNO 2024/2025
END:VEVENT
BEGIN:VEVENT
DTSTART;TZID=UTC:20241205T081500
DTEND;TZID=UTC:20241205T133000
DTSTAMP:20260420T050233
CREATED:20250307T043329Z
LAST-MODIFIED:20250307T043329Z
UID:167254-1733386500-1733405400@scuolaedilecremona.it
SUMMARY:Area tecnico professionale - Laboratorio esercitazioni pratiche
DESCRIPTION:Docente: DOSSENA GHERARDO TITO
URL:https://scuolaedilecremona.it/event/area-tecnico-professionale-laboratorio-esercitazioni-pratiche-124/
CATEGORIES:ANNO 1 OPERATORE EDILE - PRIMO ANNO CREMONA 2024/2025
END:VEVENT
BEGIN:VEVENT
DTSTART;TZID=UTC:20241205T081500
DTEND;TZID=UTC:20241205T133000
DTSTAMP:20260420T050233
CREATED:20250307T044041Z
LAST-MODIFIED:20250307T044041Z
UID:167612-1733386500-1733405400@scuolaedilecremona.it
SUMMARY:Area tecnico professionale - Laboratorio esercitazioni pratiche
DESCRIPTION:Docente: BRUNELLI ERNESTO
URL:https://scuolaedilecremona.it/event/area-tecnico-professionale-laboratorio-esercitazioni-pratiche-82/
CATEGORIES:ANNO 2 OPERATORE EDILE - SECONDO ANNO 2024/2025
END:VEVENT
BEGIN:VEVENT
DTSTART;TZID=UTC:20241206T080000
DTEND;TZID=UTC:20241206T160000
DTSTAMP:20260420T050233
CREATED:20250307T044500Z
LAST-MODIFIED:20250307T044500Z
UID:167825-1733472000-1733500800@scuolaedilecremona.it
SUMMARY:STAGE
DESCRIPTION:
URL:https://scuolaedilecremona.it/event/stage-88/
CATEGORIES:ANNO 3 OPERATORE EDILE - DUALE TERZO ANNO 2024/2025
END:VEVENT
BEGIN:VEVENT
DTSTART;TZID=UTC:20241206T080000
DTEND;TZID=UTC:20241206T160000
DTSTAMP:20260420T050233
CREATED:20250307T044912Z
LAST-MODIFIED:20250307T044912Z
UID:168033-1733472000-1733500800@scuolaedilecremona.it
SUMMARY:STAGE
DESCRIPTION:
URL:https://scuolaedilecremona.it/event/stage-45/
CATEGORIES:ANNO 3 OPERATORE EDILE - TERZO ANNO 2024/2025
END:VEVENT
BEGIN:VEVENT
DTSTART;TZID=UTC:20241206T081500
DTEND;TZID=UTC:20241206T101500
DTSTAMP:20260420T050233
CREATED:20250307T044042Z
LAST-MODIFIED:20250307T044042Z
UID:167613-1733472900-1733480100@scuolaedilecremona.it
SUMMARY:Area tecnico professionale - Disegno tecnico
DESCRIPTION:Docente: SOFFIENTINI ROBERTO
URL:https://scuolaedilecremona.it/event/area-tecnico-professionale-disegno-tecnico-25/
CATEGORIES:ANNO 2 OPERATORE EDILE - SECONDO ANNO 2024/2025
END:VEVENT
END:VCALENDAR