BEGIN:VCALENDAR
VERSION:2.0
PRODID:-//Ente Scuola Edile Cremona - C.P.T. - ECPv6.15.18//NONSGML v1.0//EN
CALSCALE:GREGORIAN
METHOD:PUBLISH
X-ORIGINAL-URL:https://scuolaedilecremona.it
X-WR-CALDESC:Eventi per Ente Scuola Edile Cremona - C.P.T.
REFRESH-INTERVAL;VALUE=DURATION:PT1H
X-Robots-Tag:noindex
X-PUBLISHED-TTL:PT1H
BEGIN:VTIMEZONE
TZID:UTC
BEGIN:STANDARD
TZOFFSETFROM:+0000
TZOFFSETTO:+0000
TZNAME:UTC
DTSTART:20230101T000000
END:STANDARD
END:VTIMEZONE
BEGIN:VEVENT
DTSTART;TZID=UTC:20241021T080000
DTEND;TZID=UTC:20241021T160000
DTSTAMP:20260420T070956
CREATED:20250307T044833Z
LAST-MODIFIED:20250307T044833Z
UID:168001-1729497600-1729526400@scuolaedilecremona.it
SUMMARY:STAGE
DESCRIPTION:
URL:https://scuolaedilecremona.it/event/stage-13/
CATEGORIES:ANNO 3 OPERATORE EDILE - TERZO ANNO 2024/2025
END:VEVENT
BEGIN:VEVENT
DTSTART;TZID=UTC:20241021T081500
DTEND;TZID=UTC:20241021T111500
DTSTAMP:20260420T070956
CREATED:20250307T043912Z
LAST-MODIFIED:20250307T043912Z
UID:167538-1729498500-1729509300@scuolaedilecremona.it
SUMMARY:AREA DEI LINGUAGGI - LINGUA INGLESE
DESCRIPTION:Docente: VIRGILIO LAURA LETIZIA
URL:https://scuolaedilecremona.it/event/area-dei-linguaggi-lingua-inglese-30/
CATEGORIES:ANNO 2 OPERATORE EDILE - SECONDO ANNO 2024/2025
END:VEVENT
BEGIN:VEVENT
DTSTART;TZID=UTC:20241021T081500
DTEND;TZID=UTC:20241021T163000
DTSTAMP:20260420T070956
CREATED:20250307T043150Z
LAST-MODIFIED:20250307T043150Z
UID:167172-1729498500-1729528200@scuolaedilecremona.it
SUMMARY:Area tecnico professionale - Laboratorio esercitazioni pratiche
DESCRIPTION:Docente: DOSSENA GHERARDO TITO
URL:https://scuolaedilecremona.it/event/area-tecnico-professionale-laboratorio-esercitazioni-pratiche-108/
CATEGORIES:ANNO 1 OPERATORE EDILE - PRIMO ANNO CREMONA 2024/2025
END:VEVENT
BEGIN:VEVENT
DTSTART;TZID=UTC:20241021T113000
DTEND;TZID=UTC:20241021T133000
DTSTAMP:20260420T070956
CREATED:20250307T043913Z
LAST-MODIFIED:20250307T043913Z
UID:167539-1729510200-1729517400@scuolaedilecremona.it
SUMMARY:Area scientifica - matematica e geometria
DESCRIPTION:Docente: BETTONI FABIO
URL:https://scuolaedilecremona.it/event/area-scientifica-matematica-e-geometria-41/
CATEGORIES:ANNO 2 OPERATORE EDILE - SECONDO ANNO 2024/2025
END:VEVENT
BEGIN:VEVENT
DTSTART;TZID=UTC:20241022T080000
DTEND;TZID=UTC:20241022T160000
DTSTAMP:20260420T070956
CREATED:20250307T044423Z
LAST-MODIFIED:20250307T044423Z
UID:167794-1729584000-1729612800@scuolaedilecremona.it
SUMMARY:STAGE
DESCRIPTION:
URL:https://scuolaedilecremona.it/event/stage-57/
CATEGORIES:ANNO 3 OPERATORE EDILE - DUALE TERZO ANNO 2024/2025
END:VEVENT
BEGIN:VEVENT
DTSTART;TZID=UTC:20241022T080000
DTEND;TZID=UTC:20241022T160000
DTSTAMP:20260420T070956
CREATED:20250307T044835Z
LAST-MODIFIED:20250307T044835Z
UID:168002-1729584000-1729612800@scuolaedilecremona.it
SUMMARY:STAGE
DESCRIPTION:
URL:https://scuolaedilecremona.it/event/stage-14/
CATEGORIES:ANNO 3 OPERATORE EDILE - TERZO ANNO 2024/2025
END:VEVENT
BEGIN:VEVENT
DTSTART;TZID=UTC:20241022T081500
DTEND;TZID=UTC:20241022T133000
DTSTAMP:20260420T070956
CREATED:20250307T043914Z
LAST-MODIFIED:20250307T043914Z
UID:167540-1729584900-1729603800@scuolaedilecremona.it
SUMMARY:Area tecnico professionale - Elementi di tecnologia edile
DESCRIPTION:Docente: BELLADELLI LEONARDO
URL:https://scuolaedilecremona.it/event/area-tecnico-professionale-elementi-di-tecnologia-edile-25/
CATEGORIES:ANNO 2 OPERATORE EDILE - SECONDO ANNO 2024/2025
END:VEVENT
BEGIN:VEVENT
DTSTART;TZID=UTC:20241022T081500
DTEND;TZID=UTC:20241022T163000
DTSTAMP:20260420T070956
CREATED:20250307T043151Z
LAST-MODIFIED:20250307T043151Z
UID:167173-1729584900-1729614600@scuolaedilecremona.it
SUMMARY:Area tecnico professionale - Laboratorio esercitazioni pratiche
DESCRIPTION:Docente: BRUNELLI ERNESTO
URL:https://scuolaedilecremona.it/event/area-tecnico-professionale-laboratorio-esercitazioni-pratiche-109/
CATEGORIES:ANNO 1 OPERATORE EDILE - PRIMO ANNO CREMONA 2024/2025
END:VEVENT
BEGIN:VEVENT
DTSTART;TZID=UTC:20241023T080000
DTEND;TZID=UTC:20241023T160000
DTSTAMP:20260420T070956
CREATED:20250307T044424Z
LAST-MODIFIED:20250307T044424Z
UID:167795-1729670400-1729699200@scuolaedilecremona.it
SUMMARY:STAGE
DESCRIPTION:
URL:https://scuolaedilecremona.it/event/stage-58/
CATEGORIES:ANNO 3 OPERATORE EDILE - DUALE TERZO ANNO 2024/2025
END:VEVENT
BEGIN:VEVENT
DTSTART;TZID=UTC:20241023T080000
DTEND;TZID=UTC:20241023T160000
DTSTAMP:20260420T070956
CREATED:20250307T044836Z
LAST-MODIFIED:20250307T044836Z
UID:168003-1729670400-1729699200@scuolaedilecremona.it
SUMMARY:STAGE
DESCRIPTION:
URL:https://scuolaedilecremona.it/event/stage-15/
CATEGORIES:ANNO 3 OPERATORE EDILE - TERZO ANNO 2024/2025
END:VEVENT
BEGIN:VEVENT
DTSTART;TZID=UTC:20241023T081500
DTEND;TZID=UTC:20241023T091500
DTSTAMP:20260420T070956
CREATED:20250307T043915Z
LAST-MODIFIED:20250307T043915Z
UID:167541-1729671300-1729674900@scuolaedilecremona.it
SUMMARY:Area scientifica - scienze
DESCRIPTION:Docente: TAINO CATERINA\, UCCIARDO  CARMELO
URL:https://scuolaedilecremona.it/event/area-scientifica-scienze-13/
CATEGORIES:ANNO 2 OPERATORE EDILE - SECONDO ANNO 2024/2025
END:VEVENT
BEGIN:VEVENT
DTSTART;TZID=UTC:20241023T081500
DTEND;TZID=UTC:20241023T133000
DTSTAMP:20260420T070956
CREATED:20250307T043153Z
LAST-MODIFIED:20250307T043153Z
UID:167174-1729671300-1729690200@scuolaedilecremona.it
SUMMARY:Area tecnico professionale - Laboratorio esercitazioni pratiche
DESCRIPTION:Docente: BRUNELLI ERNESTO
URL:https://scuolaedilecremona.it/event/area-tecnico-professionale-laboratorio-esercitazioni-pratiche-110/
CATEGORIES:ANNO 1 OPERATORE EDILE - PRIMO ANNO CREMONA 2024/2025
END:VEVENT
BEGIN:VEVENT
DTSTART;TZID=UTC:20241023T091500
DTEND;TZID=UTC:20241023T123000
DTSTAMP:20260420T070956
CREATED:20250307T043916Z
LAST-MODIFIED:20250307T043916Z
UID:167542-1729674900-1729686600@scuolaedilecremona.it
SUMMARY:Area scientifica - scienze
DESCRIPTION:Docente: TAINO CATERINA
URL:https://scuolaedilecremona.it/event/area-scientifica-scienze-14/
CATEGORIES:ANNO 2 OPERATORE EDILE - SECONDO ANNO 2024/2025
END:VEVENT
BEGIN:VEVENT
DTSTART;TZID=UTC:20241023T101500
DTEND;TZID=UTC:20241023T133000
DTSTAMP:20260420T070956
CREATED:20250307T043917Z
LAST-MODIFIED:20250307T043917Z
UID:167543-1729678500-1729690200@scuolaedilecremona.it
SUMMARY:AREA DEI LINGUAGGI - LINGUA ITALIANA
DESCRIPTION:Docente: UCCIARDO  CARMELO
URL:https://scuolaedilecremona.it/event/area-dei-linguaggi-lingua-italiana-61/
CATEGORIES:ANNO 2 OPERATORE EDILE - SECONDO ANNO 2024/2025
END:VEVENT
BEGIN:VEVENT
DTSTART;TZID=UTC:20241024T080000
DTEND;TZID=UTC:20241024T160000
DTSTAMP:20260420T070956
CREATED:20250307T044425Z
LAST-MODIFIED:20250307T044425Z
UID:167796-1729756800-1729785600@scuolaedilecremona.it
SUMMARY:STAGE
DESCRIPTION:
URL:https://scuolaedilecremona.it/event/stage-59/
CATEGORIES:ANNO 3 OPERATORE EDILE - DUALE TERZO ANNO 2024/2025
END:VEVENT
BEGIN:VEVENT
DTSTART;TZID=UTC:20241024T080000
DTEND;TZID=UTC:20241024T160000
DTSTAMP:20260420T070956
CREATED:20250307T044837Z
LAST-MODIFIED:20250307T044837Z
UID:168004-1729756800-1729785600@scuolaedilecremona.it
SUMMARY:STAGE
DESCRIPTION:
URL:https://scuolaedilecremona.it/event/stage-16/
CATEGORIES:ANNO 3 OPERATORE EDILE - TERZO ANNO 2024/2025
END:VEVENT
BEGIN:VEVENT
DTSTART;TZID=UTC:20241024T081500
DTEND;TZID=UTC:20241024T101500
DTSTAMP:20260420T070956
CREATED:20250307T043919Z
LAST-MODIFIED:20250307T043919Z
UID:167544-1729757700-1729764900@scuolaedilecremona.it
SUMMARY:Area tecnico professionale - Disegno tecnico
DESCRIPTION:Docente: SOFFIENTINI ROBERTO
URL:https://scuolaedilecremona.it/event/area-tecnico-professionale-disegno-tecnico-23/
CATEGORIES:ANNO 2 OPERATORE EDILE - SECONDO ANNO 2024/2025
END:VEVENT
BEGIN:VEVENT
DTSTART;TZID=UTC:20241024T081500
DTEND;TZID=UTC:20241024T133000
DTSTAMP:20260420T070956
CREATED:20250307T043154Z
LAST-MODIFIED:20250307T043154Z
UID:167175-1729757700-1729776600@scuolaedilecremona.it
SUMMARY:Area tecnico professionale - Laboratorio esercitazioni pratiche
DESCRIPTION:Docente: DOSSENA GHERARDO TITO
URL:https://scuolaedilecremona.it/event/area-tecnico-professionale-laboratorio-esercitazioni-pratiche-111/
CATEGORIES:ANNO 1 OPERATORE EDILE - PRIMO ANNO CREMONA 2024/2025
END:VEVENT
BEGIN:VEVENT
DTSTART;TZID=UTC:20241024T101500
DTEND;TZID=UTC:20241024T111500
DTSTAMP:20260420T070956
CREATED:20250307T043920Z
LAST-MODIFIED:20250307T043920Z
UID:167545-1729764900-1729768500@scuolaedilecremona.it
SUMMARY:Area tecnico professionale - Elementi di contabilita
DESCRIPTION:Docente: SOFFIENTINI ROBERTO
URL:https://scuolaedilecremona.it/event/area-tecnico-professionale-elementi-di-contabilita-23/
CATEGORIES:ANNO 2 OPERATORE EDILE - SECONDO ANNO 2024/2025
END:VEVENT
BEGIN:VEVENT
DTSTART;TZID=UTC:20241024T113000
DTEND;TZID=UTC:20241024T133000
DTSTAMP:20260420T070956
CREATED:20250307T043921Z
LAST-MODIFIED:20250307T043921Z
UID:167546-1729769400-1729776600@scuolaedilecremona.it
SUMMARY:AREA DEI LINGUAGGI - LINGUA ITALIANA
DESCRIPTION:Docente: UCCIARDO  CARMELO
URL:https://scuolaedilecremona.it/event/area-dei-linguaggi-lingua-italiana-62/
CATEGORIES:ANNO 2 OPERATORE EDILE - SECONDO ANNO 2024/2025
END:VEVENT
BEGIN:VEVENT
DTSTART;TZID=UTC:20241025T080000
DTEND;TZID=UTC:20241025T160000
DTSTAMP:20260420T070956
CREATED:20250307T044426Z
LAST-MODIFIED:20250307T044426Z
UID:167797-1729843200-1729872000@scuolaedilecremona.it
SUMMARY:STAGE
DESCRIPTION:
URL:https://scuolaedilecremona.it/event/stage-60/
CATEGORIES:ANNO 3 OPERATORE EDILE - DUALE TERZO ANNO 2024/2025
END:VEVENT
BEGIN:VEVENT
DTSTART;TZID=UTC:20241025T080000
DTEND;TZID=UTC:20241025T160000
DTSTAMP:20260420T070956
CREATED:20250307T044838Z
LAST-MODIFIED:20250307T044838Z
UID:168005-1729843200-1729872000@scuolaedilecremona.it
SUMMARY:STAGE
DESCRIPTION:
URL:https://scuolaedilecremona.it/event/stage-17/
CATEGORIES:ANNO 3 OPERATORE EDILE - TERZO ANNO 2024/2025
END:VEVENT
BEGIN:VEVENT
DTSTART;TZID=UTC:20241025T081500
DTEND;TZID=UTC:20241025T111500
DTSTAMP:20260420T070956
CREATED:20250307T043155Z
LAST-MODIFIED:20250307T043155Z
UID:167176-1729844100-1729854900@scuolaedilecremona.it
SUMMARY:AREA DEI LINGUAGGI - LINGUA ITALIANA
DESCRIPTION:Docente: UCCIARDO  CARMELO
URL:https://scuolaedilecremona.it/event/area-dei-linguaggi-lingua-italiana-99/
CATEGORIES:ANNO 1 OPERATORE EDILE - PRIMO ANNO CREMONA 2024/2025
END:VEVENT
BEGIN:VEVENT
DTSTART;TZID=UTC:20241025T081500
DTEND;TZID=UTC:20241025T111500
DTSTAMP:20260420T070956
CREATED:20250307T043922Z
LAST-MODIFIED:20250307T043922Z
UID:167547-1729844100-1729854900@scuolaedilecremona.it
SUMMARY:Area tecnico professionale - Elementi di sicurezza sul lavoro
DESCRIPTION:Docente: SOFFIENTINI ROBERTO
URL:https://scuolaedilecremona.it/event/area-tecnico-professionale-elementi-di-sicurezza-sul-lavoro-32/
CATEGORIES:ANNO 2 OPERATORE EDILE - SECONDO ANNO 2024/2025
END:VEVENT
BEGIN:VEVENT
DTSTART;TZID=UTC:20241025T113000
DTEND;TZID=UTC:20241025T133000
DTSTAMP:20260420T070956
CREATED:20250307T043156Z
LAST-MODIFIED:20250307T043156Z
UID:167177-1729855800-1729863000@scuolaedilecremona.it
SUMMARY:Area personalizzazione - Orientamento e capacita personali
DESCRIPTION:Docente: BONDIONI ELISABETTA
URL:https://scuolaedilecremona.it/event/area-personalizzazione-orientamento-e-capacita-personali-18/
CATEGORIES:ANNO 1 OPERATORE EDILE - PRIMO ANNO CREMONA 2024/2025
END:VEVENT
BEGIN:VEVENT
DTSTART;TZID=UTC:20241025T113000
DTEND;TZID=UTC:20241025T133000
DTSTAMP:20260420T070956
CREATED:20250307T043923Z
LAST-MODIFIED:20250307T043923Z
UID:167548-1729855800-1729863000@scuolaedilecremona.it
SUMMARY:Area personalizzazione - Orientamento e capacita personali
DESCRIPTION:Docente: UCCIARDO  CARMELO
URL:https://scuolaedilecremona.it/event/area-personalizzazione-orientamento-e-capacita-personali-9/
CATEGORIES:ANNO 2 OPERATORE EDILE - SECONDO ANNO 2024/2025
END:VEVENT
BEGIN:VEVENT
DTSTART;TZID=UTC:20241026T081500
DTEND;TZID=UTC:20241026T143000
DTSTAMP:20260420T070956
CREATED:20250307T043157Z
LAST-MODIFIED:20250307T043157Z
UID:167178-1729930500-1729953000@scuolaedilecremona.it
SUMMARY:Area tecnico professionale - Laboratorio esercitazioni pratiche
DESCRIPTION:Docente: DOSSENA GHERARDO TITO
URL:https://scuolaedilecremona.it/event/area-tecnico-professionale-laboratorio-esercitazioni-pratiche-112/
CATEGORIES:ANNO 1 OPERATORE EDILE - PRIMO ANNO CREMONA 2024/2025
END:VEVENT
BEGIN:VEVENT
DTSTART;TZID=UTC:20241028T080000
DTEND;TZID=UTC:20241028T160000
DTSTAMP:20260420T070956
CREATED:20250307T044428Z
LAST-MODIFIED:20250307T044428Z
UID:167798-1730102400-1730131200@scuolaedilecremona.it
SUMMARY:STAGE
DESCRIPTION:
URL:https://scuolaedilecremona.it/event/stage-61/
CATEGORIES:ANNO 3 OPERATORE EDILE - DUALE TERZO ANNO 2024/2025
END:VEVENT
BEGIN:VEVENT
DTSTART;TZID=UTC:20241028T080000
DTEND;TZID=UTC:20241028T160000
DTSTAMP:20260420T070956
CREATED:20250307T044839Z
LAST-MODIFIED:20250307T044839Z
UID:168006-1730102400-1730131200@scuolaedilecremona.it
SUMMARY:STAGE
DESCRIPTION:
URL:https://scuolaedilecremona.it/event/stage-18/
CATEGORIES:ANNO 3 OPERATORE EDILE - TERZO ANNO 2024/2025
END:VEVENT
BEGIN:VEVENT
DTSTART;TZID=UTC:20241028T081500
DTEND;TZID=UTC:20241028T091500
DTSTAMP:20260420T070956
CREATED:20250307T043924Z
LAST-MODIFIED:20250307T043924Z
UID:167549-1730103300-1730106900@scuolaedilecremona.it
SUMMARY:Area tecnico professionale - Disegno tecnico
DESCRIPTION:Docente: SOFFIENTINI ROBERTO
URL:https://scuolaedilecremona.it/event/area-tecnico-professionale-disegno-tecnico-24/
CATEGORIES:ANNO 2 OPERATORE EDILE - SECONDO ANNO 2024/2025
END:VEVENT
END:VCALENDAR