BEGIN:VCALENDAR
VERSION:2.0
PRODID:-//Ente Scuola Edile Cremona - C.P.T. - ECPv6.15.18//NONSGML v1.0//EN
CALSCALE:GREGORIAN
METHOD:PUBLISH
X-WR-CALNAME:Ente Scuola Edile Cremona - C.P.T.
X-ORIGINAL-URL:https://scuolaedilecremona.it
X-WR-CALDESC:Eventi per Ente Scuola Edile Cremona - C.P.T.
REFRESH-INTERVAL;VALUE=DURATION:PT1H
X-Robots-Tag:noindex
X-PUBLISHED-TTL:PT1H
BEGIN:VTIMEZONE
TZID:UTC
BEGIN:STANDARD
TZOFFSETFROM:+0000
TZOFFSETTO:+0000
TZNAME:UTC
DTSTART:20230101T000000
END:STANDARD
END:VTIMEZONE
BEGIN:VEVENT
DTSTART;TZID=UTC:20241105T113000
DTEND;TZID=UTC:20241105T133000
DTSTAMP:20260420T051507
CREATED:20250307T043214Z
LAST-MODIFIED:20250307T043214Z
UID:167192-1730806200-1730813400@scuolaedilecremona.it
SUMMARY:Area scientifica - matematica e geometria
DESCRIPTION:Docente: BETTONI FABIO
URL:https://scuolaedilecremona.it/event/area-scientifica-matematica-e-geometria-69/
CATEGORIES:ANNO 1 OPERATORE EDILE - PRIMO ANNO CREMONA 2024/2025
END:VEVENT
BEGIN:VEVENT
DTSTART;TZID=UTC:20241105T113000
DTEND;TZID=UTC:20241105T123000
DTSTAMP:20260420T051507
CREATED:20250307T043940Z
LAST-MODIFIED:20250307T043940Z
UID:167562-1730806200-1730809800@scuolaedilecremona.it
SUMMARY:Area storico-socio-economica - Elementi di diritto del lavoro
DESCRIPTION:Docente: SPOTTI FABIO ENRICO
URL:https://scuolaedilecremona.it/event/area-storico-socio-economica-elementi-di-diritto-del-lavoro-13/
CATEGORIES:ANNO 2 OPERATORE EDILE - SECONDO ANNO 2024/2025
END:VEVENT
BEGIN:VEVENT
DTSTART;TZID=UTC:20241105T101500
DTEND;TZID=UTC:20241105T111500
DTSTAMP:20260420T051507
CREATED:20250307T043939Z
LAST-MODIFIED:20250307T043939Z
UID:167561-1730801700-1730805300@scuolaedilecremona.it
SUMMARY:Area storico-socio-economica - Geografia
DESCRIPTION:Docente: ROSSI GIAMPIETRO
URL:https://scuolaedilecremona.it/event/area-storico-socio-economica-geografia-16/
CATEGORIES:ANNO 2 OPERATORE EDILE - SECONDO ANNO 2024/2025
END:VEVENT
BEGIN:VEVENT
DTSTART;TZID=UTC:20241105T101500
DTEND;TZID=UTC:20241105T111500
DTSTAMP:20260420T051507
CREATED:20250307T043213Z
LAST-MODIFIED:20250307T043213Z
UID:167191-1730801700-1730805300@scuolaedilecremona.it
SUMMARY:Area storico-socio-economica - Elementi di diritto del lavoro
DESCRIPTION:Docente: SPOTTI FABIO ENRICO
URL:https://scuolaedilecremona.it/event/area-storico-socio-economica-elementi-di-diritto-del-lavoro-24/
CATEGORIES:ANNO 1 OPERATORE EDILE - PRIMO ANNO CREMONA 2024/2025
END:VEVENT
BEGIN:VEVENT
DTSTART;TZID=UTC:20241105T091500
DTEND;TZID=UTC:20241105T101500
DTSTAMP:20260420T051507
CREATED:20250307T043938Z
LAST-MODIFIED:20250307T043938Z
UID:167560-1730798100-1730801700@scuolaedilecremona.it
SUMMARY:Area storico-socio-economica - Storia
DESCRIPTION:Docente: ROSSI GIAMPIETRO
URL:https://scuolaedilecremona.it/event/area-storico-socio-economica-storia-16/
CATEGORIES:ANNO 2 OPERATORE EDILE - SECONDO ANNO 2024/2025
END:VEVENT
BEGIN:VEVENT
DTSTART;TZID=UTC:20241105T091500
DTEND;TZID=UTC:20241105T101500
DTSTAMP:20260420T051507
CREATED:20250307T043212Z
LAST-MODIFIED:20250307T043212Z
UID:167190-1730798100-1730801700@scuolaedilecremona.it
SUMMARY:Area storico-socio-economica - Elementi di economia
DESCRIPTION:Docente: SPOTTI FABIO ENRICO
URL:https://scuolaedilecremona.it/event/area-storico-socio-economica-elementi-di-economia-24/
CATEGORIES:ANNO 1 OPERATORE EDILE - PRIMO ANNO CREMONA 2024/2025
END:VEVENT
BEGIN:VEVENT
DTSTART;TZID=UTC:20241105T081500
DTEND;TZID=UTC:20241105T133000
DTSTAMP:20260420T051507
CREATED:20250307T043937Z
LAST-MODIFIED:20250307T043937Z
UID:167559-1730794500-1730813400@scuolaedilecremona.it
SUMMARY:AREA DEI LINGUAGGI - LINGUA ITALIANA
DESCRIPTION:Docente: UCCIARDO  CARMELO
URL:https://scuolaedilecremona.it/event/area-dei-linguaggi-lingua-italiana-64/
CATEGORIES:ANNO 2 OPERATORE EDILE - SECONDO ANNO 2024/2025
END:VEVENT
BEGIN:VEVENT
DTSTART;TZID=UTC:20241105T081500
DTEND;TZID=UTC:20241105T091500
DTSTAMP:20260420T051507
CREATED:20250307T043211Z
LAST-MODIFIED:20250307T043211Z
UID:167189-1730794500-1730798100@scuolaedilecremona.it
SUMMARY:Religione Cattolica (IRC) / Attivita alternativa
DESCRIPTION:Docente: ROSSI GIAMPIETRO
URL:https://scuolaedilecremona.it/event/religione-cattolica-irc-attivita-alternativa-26/
CATEGORIES:ANNO 1 OPERATORE EDILE - PRIMO ANNO CREMONA 2024/2025
END:VEVENT
BEGIN:VEVENT
DTSTART;TZID=UTC:20241105T080000
DTEND;TZID=UTC:20241105T160000
DTSTAMP:20260420T051507
CREATED:20250307T044846Z
LAST-MODIFIED:20250307T044846Z
UID:168011-1730793600-1730822400@scuolaedilecremona.it
SUMMARY:STAGE
DESCRIPTION:
URL:https://scuolaedilecremona.it/event/stage-23/
CATEGORIES:ANNO 3 OPERATORE EDILE - TERZO ANNO 2024/2025
END:VEVENT
BEGIN:VEVENT
DTSTART;TZID=UTC:20241105T080000
DTEND;TZID=UTC:20241105T160000
DTSTAMP:20260420T051507
CREATED:20250307T044433Z
LAST-MODIFIED:20250307T044433Z
UID:167803-1730793600-1730822400@scuolaedilecremona.it
SUMMARY:STAGE
DESCRIPTION:
URL:https://scuolaedilecremona.it/event/stage-66/
CATEGORIES:ANNO 3 OPERATORE EDILE - DUALE TERZO ANNO 2024/2025
END:VEVENT
BEGIN:VEVENT
DTSTART;TZID=UTC:20241104T113000
DTEND;TZID=UTC:20241104T133000
DTSTAMP:20260420T051507
CREATED:20250307T043935Z
LAST-MODIFIED:20250307T043935Z
UID:167558-1730719800-1730727000@scuolaedilecremona.it
SUMMARY:Area scientifica - matematica e geometria
DESCRIPTION:Docente: BETTONI FABIO
URL:https://scuolaedilecremona.it/event/area-scientifica-matematica-e-geometria-43/
CATEGORIES:ANNO 2 OPERATORE EDILE - SECONDO ANNO 2024/2025
END:VEVENT
BEGIN:VEVENT
DTSTART;TZID=UTC:20241104T113000
DTEND;TZID=UTC:20241104T133000
DTSTAMP:20260420T051507
CREATED:20250307T043210Z
LAST-MODIFIED:20250307T043210Z
UID:167188-1730719800-1730727000@scuolaedilecremona.it
SUMMARY:AREA DEI LINGUAGGI - LINGUA ITALIANA
DESCRIPTION:Docente: UCCIARDO  CARMELO
URL:https://scuolaedilecremona.it/event/area-dei-linguaggi-lingua-italiana-100/
CATEGORIES:ANNO 1 OPERATORE EDILE - PRIMO ANNO CREMONA 2024/2025
END:VEVENT
BEGIN:VEVENT
DTSTART;TZID=UTC:20241104T101500
DTEND;TZID=UTC:20241104T111500
DTSTAMP:20260420T051507
CREATED:20250307T043934Z
LAST-MODIFIED:20250307T043934Z
UID:167557-1730715300-1730718900@scuolaedilecremona.it
SUMMARY:Area tecnologica - informatica
DESCRIPTION:Docente: BILLA CHIARA
URL:https://scuolaedilecremona.it/event/area-tecnologica-informatica-17/
CATEGORIES:ANNO 2 OPERATORE EDILE - SECONDO ANNO 2024/2025
END:VEVENT
BEGIN:VEVENT
DTSTART;TZID=UTC:20241104T101500
DTEND;TZID=UTC:20241104T111500
DTSTAMP:20260420T051507
CREATED:20250307T043209Z
LAST-MODIFIED:20250307T043209Z
UID:167187-1730715300-1730718900@scuolaedilecremona.it
SUMMARY:Religione Cattolica (IRC) / Attivita alternativa
DESCRIPTION:Docente: ROSSI GIAMPIETRO
URL:https://scuolaedilecremona.it/event/religione-cattolica-irc-attivita-alternativa-25/
CATEGORIES:ANNO 1 OPERATORE EDILE - PRIMO ANNO CREMONA 2024/2025
END:VEVENT
BEGIN:VEVENT
DTSTART;TZID=UTC:20241104T091500
DTEND;TZID=UTC:20241104T101500
DTSTAMP:20260420T051507
CREATED:20250307T043933Z
LAST-MODIFIED:20250307T043933Z
UID:167556-1730711700-1730715300@scuolaedilecremona.it
SUMMARY:Area storico-socio-economica - Geografia
DESCRIPTION:Docente: ROSSI GIAMPIETRO
URL:https://scuolaedilecremona.it/event/area-storico-socio-economica-geografia-15/
CATEGORIES:ANNO 2 OPERATORE EDILE - SECONDO ANNO 2024/2025
END:VEVENT
BEGIN:VEVENT
DTSTART;TZID=UTC:20241104T081500
DTEND;TZID=UTC:20241104T101500
DTSTAMP:20260420T051507
CREATED:20250307T043207Z
LAST-MODIFIED:20250307T043207Z
UID:167186-1730708100-1730715300@scuolaedilecremona.it
SUMMARY:Area tecnologica - informatica
DESCRIPTION:Docente: BILLA CHIARA
URL:https://scuolaedilecremona.it/event/area-tecnologica-informatica-28/
CATEGORIES:ANNO 1 OPERATORE EDILE - PRIMO ANNO CREMONA 2024/2025
END:VEVENT
BEGIN:VEVENT
DTSTART;TZID=UTC:20241104T081500
DTEND;TZID=UTC:20241104T091500
DTSTAMP:20260420T051507
CREATED:20250307T043932Z
LAST-MODIFIED:20250307T043932Z
UID:167555-1730708100-1730711700@scuolaedilecremona.it
SUMMARY:Area storico-socio-economica - Storia
DESCRIPTION:Docente: ROSSI GIAMPIETRO
URL:https://scuolaedilecremona.it/event/area-storico-socio-economica-storia-15/
CATEGORIES:ANNO 2 OPERATORE EDILE - SECONDO ANNO 2024/2025
END:VEVENT
BEGIN:VEVENT
DTSTART;TZID=UTC:20241104T080000
DTEND;TZID=UTC:20241104T160000
DTSTAMP:20260420T051507
CREATED:20250307T044844Z
LAST-MODIFIED:20250307T044844Z
UID:168010-1730707200-1730736000@scuolaedilecremona.it
SUMMARY:STAGE
DESCRIPTION:
URL:https://scuolaedilecremona.it/event/stage-22/
CATEGORIES:ANNO 3 OPERATORE EDILE - TERZO ANNO 2024/2025
END:VEVENT
BEGIN:VEVENT
DTSTART;TZID=UTC:20241104T080000
DTEND;TZID=UTC:20241104T160000
DTSTAMP:20260420T051507
CREATED:20250307T044432Z
LAST-MODIFIED:20250307T044432Z
UID:167802-1730707200-1730736000@scuolaedilecremona.it
SUMMARY:STAGE
DESCRIPTION:
URL:https://scuolaedilecremona.it/event/stage-65/
CATEGORIES:ANNO 3 OPERATORE EDILE - DUALE TERZO ANNO 2024/2025
END:VEVENT
BEGIN:VEVENT
DTSTART;TZID=UTC:20241031T101500
DTEND;TZID=UTC:20241031T143000
DTSTAMP:20260420T051507
CREATED:20250522T043005Z
LAST-MODIFIED:20250522T043005Z
UID:168418-1730369700-1730385000@scuolaedilecremona.it
SUMMARY:Area tecnico professionale - Laboratorio esercitazioni pratiche
DESCRIPTION:Docente: REGINI MARIA CRISTINA\, BRUNELLI ERNESTO
URL:https://scuolaedilecremona.it/event/area-tecnico-professionale-laboratorio-esercitazioni-pratiche-116/
CATEGORIES:ANNO 1 OPERATORE EDILE - PRIMO ANNO CREMONA 2024/2025
END:VEVENT
BEGIN:VEVENT
DTSTART;TZID=UTC:20241031T081500
DTEND;TZID=UTC:20241031T163000
DTSTAMP:20260420T051507
CREATED:20250307T043205Z
LAST-MODIFIED:20250307T043205Z
UID:167184-1730362500-1730392200@scuolaedilecremona.it
SUMMARY:Area tecnico professionale - Laboratorio esercitazioni pratiche
DESCRIPTION:Docente: BRUNELLI ERNESTO\, REGINI MARIA CRISTINA
URL:https://scuolaedilecremona.it/event/area-tecnico-professionale-laboratorio-esercitazioni-pratiche-118/
CATEGORIES:ANNO 1 OPERATORE EDILE - PRIMO ANNO CREMONA 2024/2025
END:VEVENT
BEGIN:VEVENT
DTSTART;TZID=UTC:20241031T081500
DTEND;TZID=UTC:20241031T133000
DTSTAMP:20260420T051507
CREATED:20250307T043931Z
LAST-MODIFIED:20250307T043931Z
UID:167554-1730362500-1730381400@scuolaedilecremona.it
SUMMARY:AREA DEI LINGUAGGI - LINGUA ITALIANA
DESCRIPTION:Docente: UCCIARDO  CARMELO
URL:https://scuolaedilecremona.it/event/area-dei-linguaggi-lingua-italiana-63/
CATEGORIES:ANNO 2 OPERATORE EDILE - SECONDO ANNO 2024/2025
END:VEVENT
BEGIN:VEVENT
DTSTART;TZID=UTC:20241031T080000
DTEND;TZID=UTC:20241031T160000
DTSTAMP:20260420T051507
CREATED:20250307T044843Z
LAST-MODIFIED:20250307T044843Z
UID:168009-1730361600-1730390400@scuolaedilecremona.it
SUMMARY:STAGE
DESCRIPTION:
URL:https://scuolaedilecremona.it/event/stage-21/
CATEGORIES:ANNO 3 OPERATORE EDILE - TERZO ANNO 2024/2025
END:VEVENT
BEGIN:VEVENT
DTSTART;TZID=UTC:20241031T080000
DTEND;TZID=UTC:20241031T160000
DTSTAMP:20260420T051507
CREATED:20250307T044431Z
LAST-MODIFIED:20250307T044431Z
UID:167801-1730361600-1730390400@scuolaedilecremona.it
SUMMARY:STAGE
DESCRIPTION:
URL:https://scuolaedilecremona.it/event/stage-64/
CATEGORIES:ANNO 3 OPERATORE EDILE - DUALE TERZO ANNO 2024/2025
END:VEVENT
BEGIN:VEVENT
DTSTART;TZID=UTC:20241030T113000
DTEND;TZID=UTC:20241030T133000
DTSTAMP:20260420T051507
CREATED:20250307T043929Z
LAST-MODIFIED:20250307T043929Z
UID:167553-1730287800-1730295000@scuolaedilecremona.it
SUMMARY:Area scientifica - matematica e geometria
DESCRIPTION:Docente: BETTONI FABIO
URL:https://scuolaedilecremona.it/event/area-scientifica-matematica-e-geometria-42/
CATEGORIES:ANNO 2 OPERATORE EDILE - SECONDO ANNO 2024/2025
END:VEVENT
BEGIN:VEVENT
DTSTART;TZID=UTC:20241030T091500
DTEND;TZID=UTC:20241030T153000
DTSTAMP:20260420T051507
CREATED:20250522T043004Z
LAST-MODIFIED:20250522T043004Z
UID:168417-1730279700-1730302200@scuolaedilecremona.it
SUMMARY:Area tecnico professionale - Laboratorio esercitazioni pratiche
DESCRIPTION:Docente: DOSSENA GHERARDO TITO\, REGINI MARIA CRISTINA
URL:https://scuolaedilecremona.it/event/area-tecnico-professionale-laboratorio-esercitazioni-pratiche-115/
CATEGORIES:ANNO 1 OPERATORE EDILE - PRIMO ANNO CREMONA 2024/2025
END:VEVENT
BEGIN:VEVENT
DTSTART;TZID=UTC:20241030T081500
DTEND;TZID=UTC:20241030T163000
DTSTAMP:20260420T051507
CREATED:20250522T043004Z
LAST-MODIFIED:20250522T043004Z
UID:168416-1730276100-1730305800@scuolaedilecremona.it
SUMMARY:Area tecnico professionale - Laboratorio esercitazioni pratiche
DESCRIPTION:Docente: REGINI MARIA CRISTINA\, DOSSENA GHERARDO TITO
URL:https://scuolaedilecremona.it/event/area-tecnico-professionale-laboratorio-esercitazioni-pratiche-98/
CATEGORIES:ANNO 1 OPERATORE EDILE - PRIMO ANNO CREMONA 2024/2025
END:VEVENT
BEGIN:VEVENT
DTSTART;TZID=UTC:20241030T081500
DTEND;TZID=UTC:20241030T111500
DTSTAMP:20260420T051507
CREATED:20250307T043928Z
LAST-MODIFIED:20250307T043928Z
UID:167552-1730276100-1730286900@scuolaedilecremona.it
SUMMARY:Area scientifica - scienze
DESCRIPTION:Docente: TAINO CATERINA
URL:https://scuolaedilecremona.it/event/area-scientifica-scienze-15/
CATEGORIES:ANNO 2 OPERATORE EDILE - SECONDO ANNO 2024/2025
END:VEVENT
BEGIN:VEVENT
DTSTART;TZID=UTC:20241030T080000
DTEND;TZID=UTC:20241030T160000
DTSTAMP:20260420T051507
CREATED:20250307T044842Z
LAST-MODIFIED:20250307T044842Z
UID:168008-1730275200-1730304000@scuolaedilecremona.it
SUMMARY:STAGE
DESCRIPTION:
URL:https://scuolaedilecremona.it/event/stage-20/
CATEGORIES:ANNO 3 OPERATORE EDILE - TERZO ANNO 2024/2025
END:VEVENT
BEGIN:VEVENT
DTSTART;TZID=UTC:20241030T080000
DTEND;TZID=UTC:20241030T160000
DTSTAMP:20260420T051507
CREATED:20250307T044430Z
LAST-MODIFIED:20250307T044430Z
UID:167800-1730275200-1730304000@scuolaedilecremona.it
SUMMARY:STAGE
DESCRIPTION:
URL:https://scuolaedilecremona.it/event/stage-63/
CATEGORIES:ANNO 3 OPERATORE EDILE - DUALE TERZO ANNO 2024/2025
END:VEVENT
END:VCALENDAR