BEGIN:VCALENDAR
VERSION:2.0
PRODID:-//Ente Scuola Edile Cremona - C.P.T. - ECPv6.15.18//NONSGML v1.0//EN
CALSCALE:GREGORIAN
METHOD:PUBLISH
X-WR-CALNAME:Ente Scuola Edile Cremona - C.P.T.
X-ORIGINAL-URL:https://scuolaedilecremona.it
X-WR-CALDESC:Eventi per Ente Scuola Edile Cremona - C.P.T.
REFRESH-INTERVAL;VALUE=DURATION:PT1H
X-Robots-Tag:noindex
X-PUBLISHED-TTL:PT1H
BEGIN:VTIMEZONE
TZID:UTC
BEGIN:STANDARD
TZOFFSETFROM:+0000
TZOFFSETTO:+0000
TZNAME:UTC
DTSTART:20230101T000000
END:STANDARD
END:VTIMEZONE
BEGIN:VEVENT
DTSTART;TZID=UTC:20241016T113000
DTEND;TZID=UTC:20241016T133000
DTSTAMP:20260420T051406
CREATED:20250307T043147Z
LAST-MODIFIED:20250307T043147Z
UID:167169-1729078200-1729085400@scuolaedilecremona.it
SUMMARY:Area scientifica - scienze
DESCRIPTION:Docente: TAINO CATERINA
URL:https://scuolaedilecremona.it/event/area-scientifica-scienze-24/
CATEGORIES:ANNO 1 OPERATORE EDILE - PRIMO ANNO CREMONA 2024/2025
END:VEVENT
BEGIN:VEVENT
DTSTART;TZID=UTC:20241016T101500
DTEND;TZID=UTC:20241016T111500
DTSTAMP:20260420T051407
CREATED:20250307T043145Z
LAST-MODIFIED:20250307T043145Z
UID:167168-1729073700-1729077300@scuolaedilecremona.it
SUMMARY:AREA DEI LINGUAGGI - LINGUA ITALIANA
DESCRIPTION:Docente: UCCIARDO  CARMELO
URL:https://scuolaedilecremona.it/event/area-dei-linguaggi-lingua-italiana-98/
CATEGORIES:ANNO 1 OPERATORE EDILE - PRIMO ANNO CREMONA 2024/2025
END:VEVENT
BEGIN:VEVENT
DTSTART;TZID=UTC:20241016T091500
DTEND;TZID=UTC:20241016T101500
DTSTAMP:20260420T051407
CREATED:20250307T043144Z
LAST-MODIFIED:20250307T043144Z
UID:167167-1729070100-1729073700@scuolaedilecremona.it
SUMMARY:Area storico-socio-economica - Geografia
DESCRIPTION:Docente: ROSSI GIAMPIETRO
URL:https://scuolaedilecremona.it/event/area-storico-socio-economica-geografia-24/
CATEGORIES:ANNO 1 OPERATORE EDILE - PRIMO ANNO CREMONA 2024/2025
END:VEVENT
BEGIN:VEVENT
DTSTART;TZID=UTC:20241016T081500
DTEND;TZID=UTC:20241016T153000
DTSTAMP:20260420T051407
CREATED:20250309T203803Z
LAST-MODIFIED:20250309T203803Z
UID:168260-1729066500-1729092600@scuolaedilecremona.it
SUMMARY:Area tecnico professionale - Laboratorio esercitazioni pratiche
DESCRIPTION:Docente: REGINI MARIA CRISTINA\, BRUNELLI ERNESTO
URL:https://scuolaedilecremona.it/event/area-tecnico-professionale-laboratorio-esercitazioni-pratiche-4/
CATEGORIES:ANNO 2 OPERATORE EDILE - SECONDO ANNO 2024/2025
END:VEVENT
BEGIN:VEVENT
DTSTART;TZID=UTC:20241016T081500
DTEND;TZID=UTC:20241016T091500
DTSTAMP:20260420T051407
CREATED:20250307T043143Z
LAST-MODIFIED:20250307T043143Z
UID:167166-1729066500-1729070100@scuolaedilecremona.it
SUMMARY:Area storico-socio-economica - Storia
DESCRIPTION:Docente: ROSSI GIAMPIETRO
URL:https://scuolaedilecremona.it/event/area-storico-socio-economica-storia-24/
CATEGORIES:ANNO 1 OPERATORE EDILE - PRIMO ANNO CREMONA 2024/2025
END:VEVENT
BEGIN:VEVENT
DTSTART;TZID=UTC:20241016T080000
DTEND;TZID=UTC:20241016T160000
DTSTAMP:20260420T051407
CREATED:20250307T044830Z
LAST-MODIFIED:20250307T044830Z
UID:167998-1729065600-1729094400@scuolaedilecremona.it
SUMMARY:STAGE
DESCRIPTION:
URL:https://scuolaedilecremona.it/event/stage-10/
CATEGORIES:ANNO 3 OPERATORE EDILE - TERZO ANNO 2024/2025
END:VEVENT
BEGIN:VEVENT
DTSTART;TZID=UTC:20241016T080000
DTEND;TZID=UTC:20241016T160000
DTSTAMP:20260420T051407
CREATED:20250307T044418Z
LAST-MODIFIED:20250307T044418Z
UID:167790-1729065600-1729094400@scuolaedilecremona.it
SUMMARY:STAGE
DESCRIPTION:
URL:https://scuolaedilecremona.it/event/stage-53/
CATEGORIES:ANNO 3 OPERATORE EDILE - DUALE TERZO ANNO 2024/2025
END:VEVENT
BEGIN:VEVENT
DTSTART;TZID=UTC:20241015T113000
DTEND;TZID=UTC:20241015T133000
DTSTAMP:20260420T051407
CREATED:20250307T043142Z
LAST-MODIFIED:20250307T043142Z
UID:167165-1728991800-1728999000@scuolaedilecremona.it
SUMMARY:Area scientifica - matematica e geometria
DESCRIPTION:Docente: BETTONI FABIO
URL:https://scuolaedilecremona.it/event/area-scientifica-matematica-e-geometria-68/
CATEGORIES:ANNO 1 OPERATORE EDILE - PRIMO ANNO CREMONA 2024/2025
END:VEVENT
BEGIN:VEVENT
DTSTART;TZID=UTC:20241015T101500
DTEND;TZID=UTC:20241015T111500
DTSTAMP:20260420T051407
CREATED:20250307T043141Z
LAST-MODIFIED:20250307T043141Z
UID:167164-1728987300-1728990900@scuolaedilecremona.it
SUMMARY:Area storico-socio-economica - Elementi di diritto del lavoro
DESCRIPTION:Docente: SPOTTI FABIO ENRICO
URL:https://scuolaedilecremona.it/event/area-storico-socio-economica-elementi-di-diritto-del-lavoro-23/
CATEGORIES:ANNO 1 OPERATORE EDILE - PRIMO ANNO CREMONA 2024/2025
END:VEVENT
BEGIN:VEVENT
DTSTART;TZID=UTC:20241015T091500
DTEND;TZID=UTC:20241015T101500
DTSTAMP:20260420T051407
CREATED:20250307T043140Z
LAST-MODIFIED:20250307T043140Z
UID:167163-1728983700-1728987300@scuolaedilecremona.it
SUMMARY:Area storico-socio-economica - Elementi di economia
DESCRIPTION:Docente: SPOTTI FABIO ENRICO
URL:https://scuolaedilecremona.it/event/area-storico-socio-economica-elementi-di-economia-23/
CATEGORIES:ANNO 1 OPERATORE EDILE - PRIMO ANNO CREMONA 2024/2025
END:VEVENT
BEGIN:VEVENT
DTSTART;TZID=UTC:20241015T081500
DTEND;TZID=UTC:20241015T153000
DTSTAMP:20260420T051407
CREATED:20250309T203800Z
LAST-MODIFIED:20250309T203800Z
UID:168259-1728980100-1729006200@scuolaedilecremona.it
SUMMARY:Area tecnico professionale - Laboratorio esercitazioni pratiche
DESCRIPTION:Docente: REGINI MARIA CRISTINA\, BRUNELLI ERNESTO
URL:https://scuolaedilecremona.it/event/area-tecnico-professionale-laboratorio-esercitazioni-pratiche-2/
CATEGORIES:ANNO 2 OPERATORE EDILE - SECONDO ANNO 2024/2025
END:VEVENT
BEGIN:VEVENT
DTSTART;TZID=UTC:20241015T081500
DTEND;TZID=UTC:20241015T091500
DTSTAMP:20260420T051407
CREATED:20250307T043138Z
LAST-MODIFIED:20250307T043138Z
UID:167162-1728980100-1728983700@scuolaedilecremona.it
SUMMARY:AREA DEI LINGUAGGI - LINGUA ITALIANA
DESCRIPTION:Docente: UCCIARDO  CARMELO
URL:https://scuolaedilecremona.it/event/area-dei-linguaggi-lingua-italiana-97/
CATEGORIES:ANNO 1 OPERATORE EDILE - PRIMO ANNO CREMONA 2024/2025
END:VEVENT
BEGIN:VEVENT
DTSTART;TZID=UTC:20241015T080000
DTEND;TZID=UTC:20241015T160000
DTSTAMP:20260420T051407
CREATED:20250307T044828Z
LAST-MODIFIED:20250307T044828Z
UID:167997-1728979200-1729008000@scuolaedilecremona.it
SUMMARY:STAGE
DESCRIPTION:
URL:https://scuolaedilecremona.it/event/stage-9/
CATEGORIES:ANNO 3 OPERATORE EDILE - TERZO ANNO 2024/2025
END:VEVENT
BEGIN:VEVENT
DTSTART;TZID=UTC:20241015T080000
DTEND;TZID=UTC:20241015T160000
DTSTAMP:20260420T051407
CREATED:20250307T044417Z
LAST-MODIFIED:20250307T044417Z
UID:167789-1728979200-1729008000@scuolaedilecremona.it
SUMMARY:STAGE
DESCRIPTION:
URL:https://scuolaedilecremona.it/event/stage-52/
CATEGORIES:ANNO 3 OPERATORE EDILE - DUALE TERZO ANNO 2024/2025
END:VEVENT
BEGIN:VEVENT
DTSTART;TZID=UTC:20241014T123000
DTEND;TZID=UTC:20241014T133000
DTSTAMP:20260420T051407
CREATED:20250307T043903Z
LAST-MODIFIED:20250307T043903Z
UID:167531-1728909000-1728912600@scuolaedilecremona.it
SUMMARY:AREA DEI LINGUAGGI - LINGUA ITALIANA
DESCRIPTION:Docente: UCCIARDO  CARMELO
URL:https://scuolaedilecremona.it/event/area-dei-linguaggi-lingua-italiana-60/
CATEGORIES:ANNO 2 OPERATORE EDILE - SECONDO ANNO 2024/2025
END:VEVENT
BEGIN:VEVENT
DTSTART;TZID=UTC:20241014T101500
DTEND;TZID=UTC:20241014T133000
DTSTAMP:20260420T051407
CREATED:20250307T043137Z
LAST-MODIFIED:20250307T043137Z
UID:167161-1728900900-1728912600@scuolaedilecremona.it
SUMMARY:Area tecnologica - informatica
DESCRIPTION:Docente: BILLA CHIARA
URL:https://scuolaedilecremona.it/event/area-tecnologica-informatica-27/
CATEGORIES:ANNO 1 OPERATORE EDILE - PRIMO ANNO CREMONA 2024/2025
END:VEVENT
BEGIN:VEVENT
DTSTART;TZID=UTC:20241014T101500
DTEND;TZID=UTC:20241014T123000
DTSTAMP:20260420T051407
CREATED:20250307T043902Z
LAST-MODIFIED:20250307T043902Z
UID:167530-1728900900-1728909000@scuolaedilecremona.it
SUMMARY:AREA DEI LINGUAGGI - LINGUA INGLESE
DESCRIPTION:Docente: VIRGILIO LAURA LETIZIA
URL:https://scuolaedilecremona.it/event/area-dei-linguaggi-lingua-inglese-29/
CATEGORIES:ANNO 2 OPERATORE EDILE - SECONDO ANNO 2024/2025
END:VEVENT
BEGIN:VEVENT
DTSTART;TZID=UTC:20241014T081500
DTEND;TZID=UTC:20241014T101500
DTSTAMP:20260420T051407
CREATED:20250307T043901Z
LAST-MODIFIED:20250307T043901Z
UID:167529-1728893700-1728900900@scuolaedilecremona.it
SUMMARY:Area tecnologica - informatica
DESCRIPTION:Docente: BILLA CHIARA
URL:https://scuolaedilecremona.it/event/area-tecnologica-informatica-15/
CATEGORIES:ANNO 2 OPERATORE EDILE - SECONDO ANNO 2024/2025
END:VEVENT
BEGIN:VEVENT
DTSTART;TZID=UTC:20241014T081500
DTEND;TZID=UTC:20241014T101500
DTSTAMP:20260420T051407
CREATED:20250307T043136Z
LAST-MODIFIED:20250307T043136Z
UID:167160-1728893700-1728900900@scuolaedilecremona.it
SUMMARY:AREA DEI LINGUAGGI - LINGUA INGLESE
DESCRIPTION:Docente: VIRGILIO LAURA LETIZIA
URL:https://scuolaedilecremona.it/event/area-dei-linguaggi-lingua-inglese-42/
CATEGORIES:ANNO 1 OPERATORE EDILE - PRIMO ANNO CREMONA 2024/2025
END:VEVENT
BEGIN:VEVENT
DTSTART;TZID=UTC:20241014T080000
DTEND;TZID=UTC:20241014T160000
DTSTAMP:20260420T051407
CREATED:20250307T044827Z
LAST-MODIFIED:20250307T044827Z
UID:167996-1728892800-1728921600@scuolaedilecremona.it
SUMMARY:STAGE
DESCRIPTION:
URL:https://scuolaedilecremona.it/event/stage-8/
CATEGORIES:ANNO 3 OPERATORE EDILE - TERZO ANNO 2024/2025
END:VEVENT
BEGIN:VEVENT
DTSTART;TZID=UTC:20241014T080000
DTEND;TZID=UTC:20241014T160000
DTSTAMP:20260420T051407
CREATED:20250307T044416Z
LAST-MODIFIED:20250307T044416Z
UID:167788-1728892800-1728921600@scuolaedilecremona.it
SUMMARY:STAGE
DESCRIPTION:
URL:https://scuolaedilecremona.it/event/stage-51/
CATEGORIES:ANNO 3 OPERATORE EDILE - DUALE TERZO ANNO 2024/2025
END:VEVENT
BEGIN:VEVENT
DTSTART;TZID=UTC:20241011T113000
DTEND;TZID=UTC:20241011T133000
DTSTAMP:20260420T051407
CREATED:20250307T043859Z
LAST-MODIFIED:20250307T043859Z
UID:167528-1728646200-1728653400@scuolaedilecremona.it
SUMMARY:Area personalizzazione - Orientamento e capacita personali
DESCRIPTION:Docente: UCCIARDO  CARMELO
URL:https://scuolaedilecremona.it/event/area-personalizzazione-orientamento-e-capacita-personali-8/
CATEGORIES:ANNO 2 OPERATORE EDILE - SECONDO ANNO 2024/2025
END:VEVENT
BEGIN:VEVENT
DTSTART;TZID=UTC:20241011T113000
DTEND;TZID=UTC:20241011T133000
DTSTAMP:20260420T051407
CREATED:20250307T043135Z
LAST-MODIFIED:20250307T043135Z
UID:167159-1728646200-1728653400@scuolaedilecremona.it
SUMMARY:Area personalizzazione - Orientamento e capacita personali
DESCRIPTION:Docente: BONDIONI ELISABETTA\, MEAZZI ANNA CHIARA
URL:https://scuolaedilecremona.it/event/area-personalizzazione-orientamento-e-capacita-personali-17/
CATEGORIES:ANNO 1 OPERATORE EDILE - PRIMO ANNO CREMONA 2024/2025
END:VEVENT
BEGIN:VEVENT
DTSTART;TZID=UTC:20241011T101500
DTEND;TZID=UTC:20241011T111500
DTSTAMP:20260420T051407
CREATED:20250307T043858Z
LAST-MODIFIED:20250307T043858Z
UID:167527-1728641700-1728645300@scuolaedilecremona.it
SUMMARY:Area storico-socio-economica - Geografia
DESCRIPTION:Docente: ROSSI GIAMPIETRO
URL:https://scuolaedilecremona.it/event/area-storico-socio-economica-geografia-14/
CATEGORIES:ANNO 2 OPERATORE EDILE - SECONDO ANNO 2024/2025
END:VEVENT
BEGIN:VEVENT
DTSTART;TZID=UTC:20241011T081500
DTEND;TZID=UTC:20241011T111500
DTSTAMP:20260420T051407
CREATED:20250307T043134Z
LAST-MODIFIED:20250307T043134Z
UID:167158-1728634500-1728645300@scuolaedilecremona.it
SUMMARY:AREA DEI LINGUAGGI - LINGUA ITALIANA
DESCRIPTION:Docente: UCCIARDO  CARMELO
URL:https://scuolaedilecremona.it/event/area-dei-linguaggi-lingua-italiana-96/
CATEGORIES:ANNO 1 OPERATORE EDILE - PRIMO ANNO CREMONA 2024/2025
END:VEVENT
BEGIN:VEVENT
DTSTART;TZID=UTC:20241011T081500
DTEND;TZID=UTC:20241011T101500
DTSTAMP:20260420T051407
CREATED:20250307T043857Z
LAST-MODIFIED:20250307T043857Z
UID:167526-1728634500-1728641700@scuolaedilecremona.it
SUMMARY:Religione Cattolica (IRC) / Attivita alternativa
DESCRIPTION:Docente: ROSSI GIAMPIETRO
URL:https://scuolaedilecremona.it/event/religione-cattolica-irc-attivita-alternativa-12/
CATEGORIES:ANNO 2 OPERATORE EDILE - SECONDO ANNO 2024/2025
END:VEVENT
BEGIN:VEVENT
DTSTART;TZID=UTC:20241011T080000
DTEND;TZID=UTC:20241011T160000
DTSTAMP:20260420T051407
CREATED:20250307T044826Z
LAST-MODIFIED:20250307T044826Z
UID:167995-1728633600-1728662400@scuolaedilecremona.it
SUMMARY:STAGE
DESCRIPTION:
URL:https://scuolaedilecremona.it/event/stage-7/
CATEGORIES:ANNO 3 OPERATORE EDILE - TERZO ANNO 2024/2025
END:VEVENT
BEGIN:VEVENT
DTSTART;TZID=UTC:20241010T081500
DTEND;TZID=UTC:20241010T133000
DTSTAMP:20260420T051407
CREATED:20250307T043856Z
LAST-MODIFIED:20250307T043856Z
UID:167525-1728548100-1728567000@scuolaedilecremona.it
SUMMARY:Area tecnico professionale - Laboratorio esercitazioni pratiche
DESCRIPTION:Docente: BRUNELLI ERNESTO
URL:https://scuolaedilecremona.it/event/area-tecnico-professionale-laboratorio-esercitazioni-pratiche-72/
CATEGORIES:ANNO 2 OPERATORE EDILE - SECONDO ANNO 2024/2025
END:VEVENT
BEGIN:VEVENT
DTSTART;TZID=UTC:20241010T081500
DTEND;TZID=UTC:20241010T133000
DTSTAMP:20260420T051407
CREATED:20250307T043132Z
LAST-MODIFIED:20250307T043132Z
UID:167157-1728548100-1728567000@scuolaedilecremona.it
SUMMARY:Area tecnico professionale - Laboratorio esercitazioni pratiche
DESCRIPTION:Docente: DOSSENA GHERARDO TITO
URL:https://scuolaedilecremona.it/event/area-tecnico-professionale-laboratorio-esercitazioni-pratiche-106/
CATEGORIES:ANNO 1 OPERATORE EDILE - PRIMO ANNO CREMONA 2024/2025
END:VEVENT
BEGIN:VEVENT
DTSTART;TZID=UTC:20241010T080000
DTEND;TZID=UTC:20241010T160000
DTSTAMP:20260420T051407
CREATED:20250307T044825Z
LAST-MODIFIED:20250307T044825Z
UID:167994-1728547200-1728576000@scuolaedilecremona.it
SUMMARY:STAGE
DESCRIPTION:
URL:https://scuolaedilecremona.it/event/stage-6/
CATEGORIES:ANNO 3 OPERATORE EDILE - TERZO ANNO 2024/2025
END:VEVENT
END:VCALENDAR