BEGIN:VCALENDAR
VERSION:2.0
PRODID:-//Ente Scuola Edile Cremona - C.P.T. - ECPv6.15.18//NONSGML v1.0//EN
CALSCALE:GREGORIAN
METHOD:PUBLISH
X-WR-CALNAME:Ente Scuola Edile Cremona - C.P.T.
X-ORIGINAL-URL:https://scuolaedilecremona.it
X-WR-CALDESC:Eventi per Ente Scuola Edile Cremona - C.P.T.
REFRESH-INTERVAL;VALUE=DURATION:PT1H
X-Robots-Tag:noindex
X-PUBLISHED-TTL:PT1H
BEGIN:VTIMEZONE
TZID:UTC
BEGIN:STANDARD
TZOFFSETFROM:+0000
TZOFFSETTO:+0000
TZNAME:UTC
DTSTART:20240101T000000
END:STANDARD
END:VTIMEZONE
BEGIN:VEVENT
DTSTART;TZID=UTC:20250424T081500
DTEND;TZID=UTC:20250424T111500
DTSTAMP:20260419T174445
CREATED:20250415T043011Z
LAST-MODIFIED:20250415T043011Z
UID:168325-1745482500-1745493300@scuolaedilecremona.it
SUMMARY:AREA DEI LINGUAGGI - LINGUA ITALIANA
DESCRIPTION:Docente: SPERNAZZATI EMANUELA
URL:https://scuolaedilecremona.it/event/area-dei-linguaggi-lingua-italiana-17/
CATEGORIES:ANNO 3 OPERATORE EDILE - TERZO ANNO 2024/2025
END:VEVENT
BEGIN:VEVENT
DTSTART;TZID=UTC:20250424T081500
DTEND;TZID=UTC:20250424T133000
DTSTAMP:20260419T174445
CREATED:20250307T043717Z
LAST-MODIFIED:20250307T043717Z
UID:167442-1745482500-1745501400@scuolaedilecremona.it
SUMMARY:Area tecnico professionale - Laboratorio esercitazioni pratiche
DESCRIPTION:Docente: REGINI MARIA CRISTINA
URL:https://scuolaedilecremona.it/event/area-tecnico-professionale-laboratorio-esercitazioni-pratiche-156/
CATEGORIES:ANNO 1 OPERATORE EDILE - PRIMO ANNO CREMONA 2024/2025
END:VEVENT
BEGIN:VEVENT
DTSTART;TZID=UTC:20250424T101500
DTEND;TZID=UTC:20250424T111500
DTSTAMP:20260419T174445
CREATED:20250307T044327Z
LAST-MODIFIED:20250307T044327Z
UID:167748-1745489700-1745493300@scuolaedilecremona.it
SUMMARY:Area tecnico professionale - Disegno tecnico
DESCRIPTION:Docente: SOFFIENTINI ROBERTO
URL:https://scuolaedilecremona.it/event/area-tecnico-professionale-disegno-tecnico-29/
CATEGORIES:ANNO 2 OPERATORE EDILE - SECONDO ANNO 2024/2025
END:VEVENT
BEGIN:VEVENT
DTSTART;TZID=UTC:20250424T113000
DTEND;TZID=UTC:20250424T123000
DTSTAMP:20260419T174445
CREATED:20250415T043012Z
LAST-MODIFIED:20250415T043012Z
UID:168326-1745494200-1745497800@scuolaedilecremona.it
SUMMARY:Area storico-socio-economica - Storia
DESCRIPTION:Docente: SPERNAZZATI EMANUELA
URL:https://scuolaedilecremona.it/event/area-storico-socio-economica-storia-6/
CATEGORIES:ANNO 3 OPERATORE EDILE - TERZO ANNO 2024/2025
END:VEVENT
BEGIN:VEVENT
DTSTART;TZID=UTC:20250424T113000
DTEND;TZID=UTC:20250424T133000
DTSTAMP:20260419T174445
CREATED:20250307T044328Z
LAST-MODIFIED:20250307T044328Z
UID:167749-1745494200-1745501400@scuolaedilecremona.it
SUMMARY:Area scientifica - matematica e geometria
DESCRIPTION:Docente: BETTONI FABIO
URL:https://scuolaedilecremona.it/event/area-scientifica-matematica-e-geometria-59/
CATEGORIES:ANNO 2 OPERATORE EDILE - SECONDO ANNO 2024/2025
END:VEVENT
BEGIN:VEVENT
DTSTART;TZID=UTC:20250424T123000
DTEND;TZID=UTC:20250424T133000
DTSTAMP:20260419T174445
CREATED:20250415T043014Z
LAST-MODIFIED:20250415T043014Z
UID:168327-1745497800-1745501400@scuolaedilecremona.it
SUMMARY:Area storico-socio-economica - Geografia
DESCRIPTION:Docente: SPERNAZZATI EMANUELA
URL:https://scuolaedilecremona.it/event/area-storico-socio-economica-geografia-6/
CATEGORIES:ANNO 3 OPERATORE EDILE - TERZO ANNO 2024/2025
END:VEVENT
BEGIN:VEVENT
DTSTART;TZID=UTC:20250424T123000
DTEND;TZID=UTC:20250424T163000
DTSTAMP:20260419T174445
CREATED:20250307T044653Z
LAST-MODIFIED:20250307T044653Z
UID:167918-1745497800-1745512200@scuolaedilecremona.it
SUMMARY:AREA DEI LINGUAGGI - LINGUA ITALIANA
DESCRIPTION:Docente: BONIOLI SILVIA
URL:https://scuolaedilecremona.it/event/area-dei-linguaggi-lingua-italiana-46/
CATEGORIES:ANNO 3 OPERATORE EDILE - DUALE TERZO ANNO 2024/2025
END:VEVENT
BEGIN:VEVENT
DTSTART;TZID=UTC:20250428T081500
DTEND;TZID=UTC:20250428T091500
DTSTAMP:20260419T174445
CREATED:20250307T044329Z
LAST-MODIFIED:20250307T044329Z
UID:167750-1745828100-1745831700@scuolaedilecremona.it
SUMMARY:Area tecnico professionale - Elementi di sicurezza sul lavoro
DESCRIPTION:Docente: SOFFIENTINI ROBERTO
URL:https://scuolaedilecremona.it/event/area-tecnico-professionale-elementi-di-sicurezza-sul-lavoro-37/
CATEGORIES:ANNO 2 OPERATORE EDILE - SECONDO ANNO 2024/2025
END:VEVENT
BEGIN:VEVENT
DTSTART;TZID=UTC:20250428T081500
DTEND;TZID=UTC:20250428T111500
DTSTAMP:20260419T174445
CREATED:20250307T043718Z
LAST-MODIFIED:20250307T043718Z
UID:167443-1745828100-1745838900@scuolaedilecremona.it
SUMMARY:AREA DEI LINGUAGGI - LINGUA ITALIANA
DESCRIPTION:Docente: UCCIARDO  CARMELO
URL:https://scuolaedilecremona.it/event/area-dei-linguaggi-lingua-italiana-128/
CATEGORIES:ANNO 1 OPERATORE EDILE - PRIMO ANNO CREMONA 2024/2025
END:VEVENT
BEGIN:VEVENT
DTSTART;TZID=UTC:20250428T081500
DTEND;TZID=UTC:20250428T111500
DTSTAMP:20260419T174445
CREATED:20250307T045301Z
LAST-MODIFIED:20250307T045301Z
UID:168217-1745828100-1745838900@scuolaedilecremona.it
SUMMARY:AREA DEI LINGUAGGI - LINGUA INGLESE
DESCRIPTION:Docente: VIRGILIO LAURA LETIZIA
URL:https://scuolaedilecremona.it/event/area-dei-linguaggi-lingua-inglese-12/
CATEGORIES:ANNO 3 OPERATORE EDILE - TERZO ANNO 2024/2025
END:VEVENT
BEGIN:VEVENT
DTSTART;TZID=UTC:20250428T091500
DTEND;TZID=UTC:20250428T111500
DTSTAMP:20260419T174445
CREATED:20250307T044330Z
LAST-MODIFIED:20250307T044330Z
UID:167751-1745831700-1745838900@scuolaedilecremona.it
SUMMARY:Area tecnico professionale - Disegno tecnico
DESCRIPTION:Docente: SOFFIENTINI ROBERTO
URL:https://scuolaedilecremona.it/event/area-tecnico-professionale-disegno-tecnico-30/
CATEGORIES:ANNO 2 OPERATORE EDILE - SECONDO ANNO 2024/2025
END:VEVENT
BEGIN:VEVENT
DTSTART;TZID=UTC:20250428T113000
DTEND;TZID=UTC:20250428T133000
DTSTAMP:20260419T174445
CREATED:20250307T043719Z
LAST-MODIFIED:20250307T043719Z
UID:167444-1745839800-1745847000@scuolaedilecremona.it
SUMMARY:AREA DEI LINGUAGGI - LINGUA INGLESE
DESCRIPTION:Docente: VIRGILIO LAURA LETIZIA
URL:https://scuolaedilecremona.it/event/area-dei-linguaggi-lingua-inglese-58/
CATEGORIES:ANNO 1 OPERATORE EDILE - PRIMO ANNO CREMONA 2024/2025
END:VEVENT
BEGIN:VEVENT
DTSTART;TZID=UTC:20250428T113000
DTEND;TZID=UTC:20250428T133000
DTSTAMP:20260419T174445
CREATED:20250307T044332Z
LAST-MODIFIED:20250307T044332Z
UID:167752-1745839800-1745847000@scuolaedilecremona.it
SUMMARY:AREA DEI LINGUAGGI - LINGUA ITALIANA
DESCRIPTION:Docente: UCCIARDO  CARMELO
URL:https://scuolaedilecremona.it/event/area-dei-linguaggi-lingua-italiana-84/
CATEGORIES:ANNO 2 OPERATORE EDILE - SECONDO ANNO 2024/2025
END:VEVENT
BEGIN:VEVENT
DTSTART;TZID=UTC:20250428T113000
DTEND;TZID=UTC:20250428T133000
DTSTAMP:20260419T174445
CREATED:20250307T045302Z
LAST-MODIFIED:20250307T045302Z
UID:168218-1745839800-1745847000@scuolaedilecremona.it
SUMMARY:Area scientifica - matematica e geometria
DESCRIPTION:Docente: BETTONI FABIO
URL:https://scuolaedilecremona.it/event/area-scientifica-matematica-e-geometria-21/
CATEGORIES:ANNO 3 OPERATORE EDILE - TERZO ANNO 2024/2025
END:VEVENT
BEGIN:VEVENT
DTSTART;TZID=UTC:20250428T133000
DTEND;TZID=UTC:20250428T163000
DTSTAMP:20260419T174445
CREATED:20250307T044654Z
LAST-MODIFIED:20250307T044654Z
UID:167919-1745847000-1745857800@scuolaedilecremona.it
SUMMARY:AREA DEI LINGUAGGI - LINGUA ITALIANA
DESCRIPTION:Docente: UCCIARDO  CARMELO
URL:https://scuolaedilecremona.it/event/area-dei-linguaggi-lingua-italiana-47/
CATEGORIES:ANNO 3 OPERATORE EDILE - DUALE TERZO ANNO 2024/2025
END:VEVENT
BEGIN:VEVENT
DTSTART;TZID=UTC:20250429T081500
DTEND;TZID=UTC:20250429T101500
DTSTAMP:20260419T174445
CREATED:20250307T044333Z
LAST-MODIFIED:20250307T044333Z
UID:167753-1745914500-1745921700@scuolaedilecremona.it
SUMMARY:AREA DEI LINGUAGGI - LINGUA ITALIANA
DESCRIPTION:Docente: UCCIARDO  CARMELO
URL:https://scuolaedilecremona.it/event/area-dei-linguaggi-lingua-italiana-85/
CATEGORIES:ANNO 2 OPERATORE EDILE - SECONDO ANNO 2024/2025
END:VEVENT
BEGIN:VEVENT
DTSTART;TZID=UTC:20250429T081500
DTEND;TZID=UTC:20250429T111500
DTSTAMP:20260419T174445
CREATED:20250307T043720Z
LAST-MODIFIED:20250307T043720Z
UID:167445-1745914500-1745925300@scuolaedilecremona.it
SUMMARY:Area tecnico professionale - Elementi di contabilita
DESCRIPTION:Docente: SOFFIENTINI ROBERTO
URL:https://scuolaedilecremona.it/event/area-tecnico-professionale-elementi-di-contabilita-51/
CATEGORIES:ANNO 1 OPERATORE EDILE - PRIMO ANNO CREMONA 2024/2025
END:VEVENT
BEGIN:VEVENT
DTSTART;TZID=UTC:20250429T081500
DTEND;TZID=UTC:20250429T111500
DTSTAMP:20260419T174445
CREATED:20250307T045303Z
LAST-MODIFIED:20250307T045303Z
UID:168219-1745914500-1745925300@scuolaedilecremona.it
SUMMARY:Area personalizzazione - Orientamento e capacita personali
DESCRIPTION:Docente: BRUSCHI GIADA
URL:https://scuolaedilecremona.it/event/area-personalizzazione-orientamento-e-capacita-personali-5/
CATEGORIES:ANNO 3 OPERATORE EDILE - TERZO ANNO 2024/2025
END:VEVENT
BEGIN:VEVENT
DTSTART;TZID=UTC:20250429T101500
DTEND;TZID=UTC:20250429T133000
DTSTAMP:20260419T174445
CREATED:20250307T044334Z
LAST-MODIFIED:20250307T044334Z
UID:167754-1745921700-1745933400@scuolaedilecremona.it
SUMMARY:Religione Cattolica (IRC) / Attivita alternativa
DESCRIPTION:Docente: ROSSI GIAMPIETRO
URL:https://scuolaedilecremona.it/event/religione-cattolica-irc-attivita-alternativa-19/
CATEGORIES:ANNO 2 OPERATORE EDILE - SECONDO ANNO 2024/2025
END:VEVENT
BEGIN:VEVENT
DTSTART;TZID=UTC:20250429T113000
DTEND;TZID=UTC:20250429T133000
DTSTAMP:20260419T174445
CREATED:20250307T043722Z
LAST-MODIFIED:20250307T043722Z
UID:167446-1745926200-1745933400@scuolaedilecremona.it
SUMMARY:AREA DEI LINGUAGGI - LINGUA ITALIANA
DESCRIPTION:Docente: UCCIARDO  CARMELO
URL:https://scuolaedilecremona.it/event/area-dei-linguaggi-lingua-italiana-129/
CATEGORIES:ANNO 1 OPERATORE EDILE - PRIMO ANNO CREMONA 2024/2025
END:VEVENT
BEGIN:VEVENT
DTSTART;TZID=UTC:20250429T113000
DTEND;TZID=UTC:20250429T133000
DTSTAMP:20260419T174445
CREATED:20250307T045305Z
LAST-MODIFIED:20250307T045305Z
UID:168220-1745926200-1745933400@scuolaedilecremona.it
SUMMARY:Area scientifica - matematica e geometria
DESCRIPTION:Docente: BETTONI FABIO
URL:https://scuolaedilecremona.it/event/area-scientifica-matematica-e-geometria-22/
CATEGORIES:ANNO 3 OPERATORE EDILE - TERZO ANNO 2024/2025
END:VEVENT
BEGIN:VEVENT
DTSTART;TZID=UTC:20250430T081500
DTEND;TZID=UTC:20250430T091500
DTSTAMP:20260419T174445
CREATED:20250307T044335Z
LAST-MODIFIED:20250307T044335Z
UID:167755-1746000900-1746004500@scuolaedilecremona.it
SUMMARY:Area tecnico professionale - Elementi di sicurezza sul lavoro
DESCRIPTION:Docente: SOFFIENTINI ROBERTO
URL:https://scuolaedilecremona.it/event/area-tecnico-professionale-elementi-di-sicurezza-sul-lavoro-38/
CATEGORIES:ANNO 2 OPERATORE EDILE - SECONDO ANNO 2024/2025
END:VEVENT
BEGIN:VEVENT
DTSTART;TZID=UTC:20250430T081500
DTEND;TZID=UTC:20250430T111500
DTSTAMP:20260419T174445
CREATED:20250307T045306Z
LAST-MODIFIED:20250307T045306Z
UID:168221-1746000900-1746011700@scuolaedilecremona.it
SUMMARY:AREA DEI LINGUAGGI - LINGUA ITALIANA
DESCRIPTION:Docente: SPERNAZZATI EMANUELA
URL:https://scuolaedilecremona.it/event/area-dei-linguaggi-lingua-italiana-18/
CATEGORIES:ANNO 3 OPERATORE EDILE - TERZO ANNO 2024/2025
END:VEVENT
BEGIN:VEVENT
DTSTART;TZID=UTC:20250430T081500
DTEND;TZID=UTC:20250430T133000
DTSTAMP:20260419T174445
CREATED:20250307T043723Z
LAST-MODIFIED:20250307T043723Z
UID:167447-1746000900-1746019800@scuolaedilecremona.it
SUMMARY:Area tecnico professionale - Elementi di tecnologia edile
DESCRIPTION:Docente: BELLADELLI LEONARDO
URL:https://scuolaedilecremona.it/event/area-tecnico-professionale-elementi-di-tecnologia-edile-56/
CATEGORIES:ANNO 1 OPERATORE EDILE - PRIMO ANNO CREMONA 2024/2025
END:VEVENT
BEGIN:VEVENT
DTSTART;TZID=UTC:20250430T091500
DTEND;TZID=UTC:20250430T111500
DTSTAMP:20260419T174445
CREATED:20250307T044337Z
LAST-MODIFIED:20250307T044337Z
UID:167756-1746004500-1746011700@scuolaedilecremona.it
SUMMARY:Area tecnico professionale - Disegno tecnico
DESCRIPTION:Docente: SOFFIENTINI ROBERTO
URL:https://scuolaedilecremona.it/event/area-tecnico-professionale-disegno-tecnico-31/
CATEGORIES:ANNO 2 OPERATORE EDILE - SECONDO ANNO 2024/2025
END:VEVENT
BEGIN:VEVENT
DTSTART;TZID=UTC:20250430T113000
DTEND;TZID=UTC:20250430T123000
DTSTAMP:20260419T174445
CREATED:20250307T045307Z
LAST-MODIFIED:20250307T045307Z
UID:168222-1746012600-1746016200@scuolaedilecremona.it
SUMMARY:Area storico-socio-economica - Storia
DESCRIPTION:Docente: SPERNAZZATI EMANUELA
URL:https://scuolaedilecremona.it/event/area-storico-socio-economica-storia-7/
CATEGORIES:ANNO 3 OPERATORE EDILE - TERZO ANNO 2024/2025
END:VEVENT
BEGIN:VEVENT
DTSTART;TZID=UTC:20250430T113000
DTEND;TZID=UTC:20250430T133000
DTSTAMP:20260419T174445
CREATED:20250307T044338Z
LAST-MODIFIED:20250307T044338Z
UID:167757-1746012600-1746019800@scuolaedilecremona.it
SUMMARY:Area scientifica - matematica e geometria
DESCRIPTION:Docente: BETTONI FABIO
URL:https://scuolaedilecremona.it/event/area-scientifica-matematica-e-geometria-60/
CATEGORIES:ANNO 2 OPERATORE EDILE - SECONDO ANNO 2024/2025
END:VEVENT
BEGIN:VEVENT
DTSTART;TZID=UTC:20250430T123000
DTEND;TZID=UTC:20250430T133000
DTSTAMP:20260419T174445
CREATED:20250307T045308Z
LAST-MODIFIED:20250307T045308Z
UID:168223-1746016200-1746019800@scuolaedilecremona.it
SUMMARY:Area storico-socio-economica - Geografia
DESCRIPTION:Docente: SPERNAZZATI EMANUELA
URL:https://scuolaedilecremona.it/event/area-storico-socio-economica-geografia-7/
CATEGORIES:ANNO 3 OPERATORE EDILE - TERZO ANNO 2024/2025
END:VEVENT
BEGIN:VEVENT
DTSTART;TZID=UTC:20250430T133000
DTEND;TZID=UTC:20250430T163000
DTSTAMP:20260419T174445
CREATED:20250307T044655Z
LAST-MODIFIED:20250307T044655Z
UID:167920-1746019800-1746030600@scuolaedilecremona.it
SUMMARY:Area scientifica - matematica e geometria
DESCRIPTION:Docente: TAINO CATERINA
URL:https://scuolaedilecremona.it/event/area-scientifica-matematica-e-geometria-36/
CATEGORIES:ANNO 3 OPERATORE EDILE - DUALE TERZO ANNO 2024/2025
END:VEVENT
BEGIN:VEVENT
DTSTART;TZID=UTC:20250505T081500
DTEND;TZID=UTC:20250505T101500
DTSTAMP:20260419T174445
CREATED:20250307T044339Z
LAST-MODIFIED:20250307T044339Z
UID:167758-1746432900-1746440100@scuolaedilecremona.it
SUMMARY:Area tecnico professionale - Elementi di sicurezza sul lavoro
DESCRIPTION:Docente: SOFFIENTINI ROBERTO
URL:https://scuolaedilecremona.it/event/area-tecnico-professionale-elementi-di-sicurezza-sul-lavoro-39/
CATEGORIES:ANNO 2 OPERATORE EDILE - SECONDO ANNO 2024/2025
END:VEVENT
END:VCALENDAR