BEGIN:VCALENDAR
VERSION:2.0
PRODID:-//Ente Scuola Edile Cremona - C.P.T. - ECPv6.15.18//NONSGML v1.0//EN
CALSCALE:GREGORIAN
METHOD:PUBLISH
X-WR-CALNAME:Ente Scuola Edile Cremona - C.P.T.
X-ORIGINAL-URL:https://scuolaedilecremona.it
X-WR-CALDESC:Eventi per Ente Scuola Edile Cremona - C.P.T.
REFRESH-INTERVAL;VALUE=DURATION:PT1H
X-Robots-Tag:noindex
X-PUBLISHED-TTL:PT1H
BEGIN:VTIMEZONE
TZID:UTC
BEGIN:STANDARD
TZOFFSETFROM:+0000
TZOFFSETTO:+0000
TZNAME:UTC
DTSTART:20240101T000000
END:STANDARD
END:VTIMEZONE
BEGIN:VEVENT
DTSTART;TZID=UTC:20250522T081500
DTEND;TZID=UTC:20250522T153000
DTSTAMP:20260419T221135
CREATED:20250307T044408Z
LAST-MODIFIED:20250307T044408Z
UID:167782-1747901700-1747927800@scuolaedilecremona.it
SUMMARY:Area tecnico professionale - Laboratorio esercitazioni pratiche
DESCRIPTION:Docente: DOSSENA GHERARDO TITO
URL:https://scuolaedilecremona.it/event/area-tecnico-professionale-laboratorio-esercitazioni-pratiche-97/
CATEGORIES:ANNO 2 OPERATORE EDILE - SECONDO ANNO 2024/2025
END:VEVENT
BEGIN:VEVENT
DTSTART;TZID=UTC:20250522T081500
DTEND;TZID=UTC:20250522T153000
DTSTAMP:20260419T221135
CREATED:20250307T043748Z
LAST-MODIFIED:20250307T043748Z
UID:167468-1747901700-1747927800@scuolaedilecremona.it
SUMMARY:Area tecnico professionale - Laboratorio esercitazioni pratiche
DESCRIPTION:Docente: REGINI MARIA CRISTINA
URL:https://scuolaedilecremona.it/event/area-tecnico-professionale-laboratorio-esercitazioni-pratiche-165/
CATEGORIES:ANNO 1 OPERATORE EDILE - PRIMO ANNO CREMONA 2024/2025
END:VEVENT
BEGIN:VEVENT
DTSTART;TZID=UTC:20250522T081500
DTEND;TZID=UTC:20250522T133000
DTSTAMP:20260419T221135
CREATED:20250307T045335Z
LAST-MODIFIED:20250307T045335Z
UID:168244-1747901700-1747920600@scuolaedilecremona.it
SUMMARY:Area tecnico professionale - Laboratorio esercitazioni pratiche
DESCRIPTION:Docente: BRUNELLI ERNESTO
URL:https://scuolaedilecremona.it/event/area-tecnico-professionale-laboratorio-esercitazioni-pratiche-30/
CATEGORIES:ANNO 3 OPERATORE EDILE - TERZO ANNO 2024/2025
END:VEVENT
BEGIN:VEVENT
DTSTART;TZID=UTC:20250521T123000
DTEND;TZID=UTC:20250521T163000
DTSTAMP:20260419T221135
CREATED:20250307T044709Z
LAST-MODIFIED:20250307T044709Z
UID:167932-1747830600-1747845000@scuolaedilecremona.it
SUMMARY:Area tecnico professionale - Elementi di contabilita
DESCRIPTION:Docente: TAINO CATERINA
URL:https://scuolaedilecremona.it/event/area-tecnico-professionale-elementi-di-contabilita-19/
CATEGORIES:ANNO 3 OPERATORE EDILE - DUALE TERZO ANNO 2024/2025
END:VEVENT
BEGIN:VEVENT
DTSTART;TZID=UTC:20250521T113000
DTEND;TZID=UTC:20250521T133000
DTSTAMP:20260419T221135
CREATED:20250522T043016Z
LAST-MODIFIED:20250522T043016Z
UID:168449-1747827000-1747834200@scuolaedilecremona.it
SUMMARY:Area tecnico professionale - Elementi di sicurezza sul lavoro
DESCRIPTION:Docente: PIAZZI STEFANIA
URL:https://scuolaedilecremona.it/event/area-tecnico-professionale-elementi-di-sicurezza-sul-lavoro-41/
CATEGORIES:ANNO 3 OPERATORE EDILE - TERZO ANNO 2024/2025
END:VEVENT
BEGIN:VEVENT
DTSTART;TZID=UTC:20250521T081500
DTEND;TZID=UTC:20250521T153000
DTSTAMP:20260419T221135
CREATED:20250307T044407Z
LAST-MODIFIED:20250307T044407Z
UID:167781-1747815300-1747841400@scuolaedilecremona.it
SUMMARY:Area tecnico professionale - Laboratorio esercitazioni pratiche
DESCRIPTION:Docente: DOSSENA GHERARDO TITO
URL:https://scuolaedilecremona.it/event/area-tecnico-professionale-laboratorio-esercitazioni-pratiche-96/
CATEGORIES:ANNO 2 OPERATORE EDILE - SECONDO ANNO 2024/2025
END:VEVENT
BEGIN:VEVENT
DTSTART;TZID=UTC:20250521T081500
DTEND;TZID=UTC:20250521T153000
DTSTAMP:20260419T221135
CREATED:20250307T043746Z
LAST-MODIFIED:20250307T043746Z
UID:167467-1747815300-1747841400@scuolaedilecremona.it
SUMMARY:Area tecnico professionale - Laboratorio esercitazioni pratiche
DESCRIPTION:Docente: REGINI MARIA CRISTINA
URL:https://scuolaedilecremona.it/event/area-tecnico-professionale-laboratorio-esercitazioni-pratiche-164/
CATEGORIES:ANNO 1 OPERATORE EDILE - PRIMO ANNO CREMONA 2024/2025
END:VEVENT
BEGIN:VEVENT
DTSTART;TZID=UTC:20250521T081500
DTEND;TZID=UTC:20250521T111500
DTSTAMP:20260419T221135
CREATED:20250522T043015Z
LAST-MODIFIED:20250522T043015Z
UID:168448-1747815300-1747826100@scuolaedilecremona.it
SUMMARY:AREA DEI LINGUAGGI - LINGUA ITALIANA
DESCRIPTION:Docente: UCCIARDO  CARMELO
URL:https://scuolaedilecremona.it/event/area-dei-linguaggi-lingua-italiana-20/
CATEGORIES:ANNO 3 OPERATORE EDILE - TERZO ANNO 2024/2025
END:VEVENT
BEGIN:VEVENT
DTSTART;TZID=UTC:20250520T113000
DTEND;TZID=UTC:20250520T133000
DTSTAMP:20260419T221135
CREATED:20250307T045329Z
LAST-MODIFIED:20250307T045329Z
UID:168240-1747740600-1747747800@scuolaedilecremona.it
SUMMARY:Area scientifica - matematica e geometria
DESCRIPTION:Docente: BETTONI FABIO
URL:https://scuolaedilecremona.it/event/area-scientifica-matematica-e-geometria-25/
CATEGORIES:ANNO 3 OPERATORE EDILE - TERZO ANNO 2024/2025
END:VEVENT
BEGIN:VEVENT
DTSTART;TZID=UTC:20250520T081500
DTEND;TZID=UTC:20250520T153000
DTSTAMP:20260419T221135
CREATED:20250307T044406Z
LAST-MODIFIED:20250307T044406Z
UID:167780-1747728900-1747755000@scuolaedilecremona.it
SUMMARY:Area tecnico professionale - Laboratorio esercitazioni pratiche
DESCRIPTION:Docente: DOSSENA GHERARDO TITO
URL:https://scuolaedilecremona.it/event/area-tecnico-professionale-laboratorio-esercitazioni-pratiche-95/
CATEGORIES:ANNO 2 OPERATORE EDILE - SECONDO ANNO 2024/2025
END:VEVENT
BEGIN:VEVENT
DTSTART;TZID=UTC:20250520T081500
DTEND;TZID=UTC:20250520T153000
DTSTAMP:20260419T221135
CREATED:20250307T043745Z
LAST-MODIFIED:20250307T043745Z
UID:167466-1747728900-1747755000@scuolaedilecremona.it
SUMMARY:Area tecnico professionale - Laboratorio esercitazioni pratiche
DESCRIPTION:Docente: REGINI MARIA CRISTINA
URL:https://scuolaedilecremona.it/event/area-tecnico-professionale-laboratorio-esercitazioni-pratiche-163/
CATEGORIES:ANNO 1 OPERATORE EDILE - PRIMO ANNO CREMONA 2024/2025
END:VEVENT
BEGIN:VEVENT
DTSTART;TZID=UTC:20250520T081500
DTEND;TZID=UTC:20250520T111500
DTSTAMP:20260419T221135
CREATED:20250307T045328Z
LAST-MODIFIED:20250307T045328Z
UID:168239-1747728900-1747739700@scuolaedilecremona.it
SUMMARY:Area personalizzazione - Orientamento e capacita personali
DESCRIPTION:Docente: BRUSCHI GIADA
URL:https://scuolaedilecremona.it/event/area-personalizzazione-orientamento-e-capacita-personali-7/
CATEGORIES:ANNO 3 OPERATORE EDILE - TERZO ANNO 2024/2025
END:VEVENT
BEGIN:VEVENT
DTSTART;TZID=UTC:20250519T133000
DTEND;TZID=UTC:20250519T163000
DTSTAMP:20260419T221135
CREATED:20250307T044708Z
LAST-MODIFIED:20250307T044708Z
UID:167931-1747661400-1747672200@scuolaedilecremona.it
SUMMARY:AREA DEI LINGUAGGI - LINGUA INGLESE
DESCRIPTION:Docente: VIRGILIO LAURA LETIZIA
URL:https://scuolaedilecremona.it/event/area-dei-linguaggi-lingua-inglese-23/
CATEGORIES:ANNO 3 OPERATORE EDILE - DUALE TERZO ANNO 2024/2025
END:VEVENT
BEGIN:VEVENT
DTSTART;TZID=UTC:20250519T113000
DTEND;TZID=UTC:20250519T133000
DTSTAMP:20260419T221135
CREATED:20250307T045327Z
LAST-MODIFIED:20250307T045327Z
UID:168238-1747654200-1747661400@scuolaedilecremona.it
SUMMARY:Area scientifica - matematica e geometria
DESCRIPTION:Docente: BETTONI FABIO
URL:https://scuolaedilecremona.it/event/area-scientifica-matematica-e-geometria-24/
CATEGORIES:ANNO 3 OPERATORE EDILE - TERZO ANNO 2024/2025
END:VEVENT
BEGIN:VEVENT
DTSTART;TZID=UTC:20250519T081500
DTEND;TZID=UTC:20250519T163000
DTSTAMP:20260419T221135
CREATED:20250307T043744Z
LAST-MODIFIED:20250307T043744Z
UID:167465-1747642500-1747672200@scuolaedilecremona.it
SUMMARY:Area tecnico professionale - Laboratorio esercitazioni pratiche
DESCRIPTION:Docente: BRUNELLI ERNESTO
URL:https://scuolaedilecremona.it/event/area-tecnico-professionale-laboratorio-esercitazioni-pratiche-162/
CATEGORIES:ANNO 1 OPERATORE EDILE - PRIMO ANNO CREMONA 2024/2025
END:VEVENT
BEGIN:VEVENT
DTSTART;TZID=UTC:20250519T081500
DTEND;TZID=UTC:20250519T153000
DTSTAMP:20260419T221135
CREATED:20250307T044404Z
LAST-MODIFIED:20250307T044404Z
UID:167779-1747642500-1747668600@scuolaedilecremona.it
SUMMARY:Area tecnico professionale - Laboratorio esercitazioni pratiche
DESCRIPTION:Docente: DOSSENA GHERARDO TITO
URL:https://scuolaedilecremona.it/event/area-tecnico-professionale-laboratorio-esercitazioni-pratiche-94/
CATEGORIES:ANNO 2 OPERATORE EDILE - SECONDO ANNO 2024/2025
END:VEVENT
BEGIN:VEVENT
DTSTART;TZID=UTC:20250519T081500
DTEND;TZID=UTC:20250519T111500
DTSTAMP:20260419T221135
CREATED:20250307T045326Z
LAST-MODIFIED:20250307T045326Z
UID:168237-1747642500-1747653300@scuolaedilecremona.it
SUMMARY:AREA DEI LINGUAGGI - LINGUA INGLESE
DESCRIPTION:Docente: VIRGILIO LAURA LETIZIA
URL:https://scuolaedilecremona.it/event/area-dei-linguaggi-lingua-inglese-14/
CATEGORIES:ANNO 3 OPERATORE EDILE - TERZO ANNO 2024/2025
END:VEVENT
BEGIN:VEVENT
DTSTART;TZID=UTC:20250517T081500
DTEND;TZID=UTC:20250517T163000
DTSTAMP:20260419T221135
CREATED:20250307T044707Z
LAST-MODIFIED:20250307T044707Z
UID:167930-1747469700-1747499400@scuolaedilecremona.it
SUMMARY:Area tecnico professionale - Laboratorio esercitazioni pratiche
DESCRIPTION:Docente: DOSSENA GHERARDO TITO
URL:https://scuolaedilecremona.it/event/area-tecnico-professionale-laboratorio-esercitazioni-pratiche-53/
CATEGORIES:ANNO 3 OPERATORE EDILE - DUALE TERZO ANNO 2024/2025
END:VEVENT
BEGIN:VEVENT
DTSTART;TZID=UTC:20250516T081500
DTEND;TZID=UTC:20250516T153000
DTSTAMP:20260419T221135
CREATED:20250307T045325Z
LAST-MODIFIED:20250307T045325Z
UID:168236-1747383300-1747409400@scuolaedilecremona.it
SUMMARY:Area tecnico professionale - Laboratorio esercitazioni pratiche
DESCRIPTION:Docente: REGINI MARIA CRISTINA
URL:https://scuolaedilecremona.it/event/area-tecnico-professionale-laboratorio-esercitazioni-pratiche-29/
CATEGORIES:ANNO 3 OPERATORE EDILE - TERZO ANNO 2024/2025
END:VEVENT
BEGIN:VEVENT
DTSTART;TZID=UTC:20250516T081500
DTEND;TZID=UTC:20250516T133000
DTSTAMP:20260419T221135
CREATED:20250307T044403Z
LAST-MODIFIED:20250307T044403Z
UID:167778-1747383300-1747402200@scuolaedilecremona.it
SUMMARY:Area personalizzazione - Laboratorio attivita espressivo motorie
DESCRIPTION:Docente: BODINI DAVIDE
URL:https://scuolaedilecremona.it/event/area-personalizzazione-laboratorio-attivita-espressivo-motorie-13/
CATEGORIES:ANNO 2 OPERATORE EDILE - SECONDO ANNO 2024/2025
END:VEVENT
BEGIN:VEVENT
DTSTART;TZID=UTC:20250516T081500
DTEND;TZID=UTC:20250516T133000
DTSTAMP:20260419T221135
CREATED:20250307T043743Z
LAST-MODIFIED:20250307T043743Z
UID:167464-1747383300-1747402200@scuolaedilecremona.it
SUMMARY:Area tecnico professionale - Elementi di tecnologia edile
DESCRIPTION:Docente: BELLADELLI LEONARDO
URL:https://scuolaedilecremona.it/event/area-tecnico-professionale-elementi-di-tecnologia-edile-57/
CATEGORIES:ANNO 1 OPERATORE EDILE - PRIMO ANNO CREMONA 2024/2025
END:VEVENT
BEGIN:VEVENT
DTSTART;TZID=UTC:20250515T123000
DTEND;TZID=UTC:20250515T163000
DTSTAMP:20260419T221135
CREATED:20250307T044706Z
LAST-MODIFIED:20250307T044706Z
UID:167929-1747312200-1747326600@scuolaedilecremona.it
SUMMARY:AREA DEI LINGUAGGI - LINGUA ITALIANA
DESCRIPTION:Docente: BONIOLI SILVIA
URL:https://scuolaedilecremona.it/event/area-dei-linguaggi-lingua-italiana-49/
CATEGORIES:ANNO 3 OPERATORE EDILE - DUALE TERZO ANNO 2024/2025
END:VEVENT
BEGIN:VEVENT
DTSTART;TZID=UTC:20250515T113000
DTEND;TZID=UTC:20250515T133000
DTSTAMP:20260419T221135
CREATED:20250307T043742Z
LAST-MODIFIED:20250307T043742Z
UID:167463-1747308600-1747315800@scuolaedilecremona.it
SUMMARY:Area scientifica - matematica e geometria
DESCRIPTION:Docente: BETTONI FABIO
URL:https://scuolaedilecremona.it/event/area-scientifica-matematica-e-geometria-97/
CATEGORIES:ANNO 1 OPERATORE EDILE - PRIMO ANNO CREMONA 2024/2025
END:VEVENT
BEGIN:VEVENT
DTSTART;TZID=UTC:20250515T081500
DTEND;TZID=UTC:20250515T153000
DTSTAMP:20260419T221135
CREATED:20250307T045323Z
LAST-MODIFIED:20250307T045323Z
UID:168235-1747296900-1747323000@scuolaedilecremona.it
SUMMARY:Area tecnico professionale - Laboratorio esercitazioni pratiche
DESCRIPTION:Docente: REGINI MARIA CRISTINA
URL:https://scuolaedilecremona.it/event/area-tecnico-professionale-laboratorio-esercitazioni-pratiche-28/
CATEGORIES:ANNO 3 OPERATORE EDILE - TERZO ANNO 2024/2025
END:VEVENT
BEGIN:VEVENT
DTSTART;TZID=UTC:20250515T081500
DTEND;TZID=UTC:20250515T133000
DTSTAMP:20260419T221135
CREATED:20250307T044402Z
LAST-MODIFIED:20250307T044402Z
UID:167777-1747296900-1747315800@scuolaedilecremona.it
SUMMARY:Area tecnico professionale - Laboratorio esercitazioni pratiche
DESCRIPTION:Docente: DOSSENA GHERARDO TITO
URL:https://scuolaedilecremona.it/event/area-tecnico-professionale-laboratorio-esercitazioni-pratiche-93/
CATEGORIES:ANNO 2 OPERATORE EDILE - SECONDO ANNO 2024/2025
END:VEVENT
BEGIN:VEVENT
DTSTART;TZID=UTC:20250515T081500
DTEND;TZID=UTC:20250515T111500
DTSTAMP:20260419T221135
CREATED:20250506T043042Z
LAST-MODIFIED:20250506T043042Z
UID:168376-1747296900-1747307700@scuolaedilecremona.it
SUMMARY:AREA DEI LINGUAGGI - LINGUA INGLESE
DESCRIPTION:Docente: VIRGILIO LAURA LETIZIA
URL:https://scuolaedilecremona.it/event/area-dei-linguaggi-lingua-inglese-11/
CATEGORIES:ANNO 1 OPERATORE EDILE - PRIMO ANNO CREMONA 2024/2025
END:VEVENT
BEGIN:VEVENT
DTSTART;TZID=UTC:20250514T133000
DTEND;TZID=UTC:20250514T163000
DTSTAMP:20260419T221135
CREATED:20250307T044705Z
LAST-MODIFIED:20250307T044705Z
UID:167928-1747229400-1747240200@scuolaedilecremona.it
SUMMARY:Area tecnico professionale - Elementi di contabilita
DESCRIPTION:Docente: TAINO CATERINA
URL:https://scuolaedilecremona.it/event/area-tecnico-professionale-elementi-di-contabilita-18/
CATEGORIES:ANNO 3 OPERATORE EDILE - DUALE TERZO ANNO 2024/2025
END:VEVENT
BEGIN:VEVENT
DTSTART;TZID=UTC:20250514T113000
DTEND;TZID=UTC:20250514T133000
DTSTAMP:20260419T221135
CREATED:20250506T043043Z
LAST-MODIFIED:20250506T043043Z
UID:168378-1747222200-1747229400@scuolaedilecremona.it
SUMMARY:Area storico-socio-economica - Geografia
DESCRIPTION:Docente: ROSSI GIAMPIETRO
URL:https://scuolaedilecremona.it/event/area-storico-socio-economica-geografia-40/
CATEGORIES:ANNO 2 OPERATORE EDILE - SECONDO ANNO 2024/2025
END:VEVENT
BEGIN:VEVENT
DTSTART;TZID=UTC:20250514T081500
DTEND;TZID=UTC:20250514T153000
DTSTAMP:20260419T221135
CREATED:20250307T045322Z
LAST-MODIFIED:20250307T045322Z
UID:168234-1747210500-1747236600@scuolaedilecremona.it
SUMMARY:Area tecnico professionale - Laboratorio esercitazioni pratiche
DESCRIPTION:Docente: REGINI MARIA CRISTINA
URL:https://scuolaedilecremona.it/event/area-tecnico-professionale-laboratorio-esercitazioni-pratiche-27/
CATEGORIES:ANNO 3 OPERATORE EDILE - TERZO ANNO 2024/2025
END:VEVENT
BEGIN:VEVENT
DTSTART;TZID=UTC:20250514T081500
DTEND;TZID=UTC:20250514T133000
DTSTAMP:20260419T221135
CREATED:20250307T043738Z
LAST-MODIFIED:20250307T043738Z
UID:167460-1747210500-1747229400@scuolaedilecremona.it
SUMMARY:AREA DEI LINGUAGGI - LINGUA ITALIANA
DESCRIPTION:Docente: UCCIARDO  CARMELO
URL:https://scuolaedilecremona.it/event/area-dei-linguaggi-lingua-italiana-130/
CATEGORIES:ANNO 1 OPERATORE EDILE - PRIMO ANNO CREMONA 2024/2025
END:VEVENT
END:VCALENDAR