BEGIN:VCALENDAR
VERSION:2.0
PRODID:-//Ente Scuola Edile Cremona - C.P.T. - ECPv6.15.18//NONSGML v1.0//EN
CALSCALE:GREGORIAN
METHOD:PUBLISH
X-ORIGINAL-URL:https://scuolaedilecremona.it
X-WR-CALDESC:Eventi per Ente Scuola Edile Cremona - C.P.T.
REFRESH-INTERVAL;VALUE=DURATION:PT1H
X-Robots-Tag:noindex
X-PUBLISHED-TTL:PT1H
BEGIN:VTIMEZONE
TZID:UTC
BEGIN:STANDARD
TZOFFSETFROM:+0000
TZOFFSETTO:+0000
TZNAME:UTC
DTSTART:20240101T000000
END:STANDARD
END:VTIMEZONE
BEGIN:VEVENT
DTSTART;TZID=UTC:20251119T101500
DTEND;TZID=UTC:20251119T123000
DTSTAMP:20260420T031729
CREATED:20250923T043344Z
LAST-MODIFIED:20250923T043344Z
UID:169213-1763547300-1763555400@scuolaedilecremona.it
SUMMARY:Area tecnico professionale - Disegno tecnico
DESCRIPTION:Docente: SOFFIENTINI ROBERTO
URL:https://scuolaedilecremona.it/event/area-tecnico-professionale-disegno-tecnico-77/
CATEGORIES:ANNO 2 OPERATORE EDILE - SECONDO ANNO 2025/2026
END:VEVENT
BEGIN:VEVENT
DTSTART;TZID=UTC:20251119T113000
DTEND;TZID=UTC:20251119T123000
DTSTAMP:20260420T031729
CREATED:20250923T043122Z
LAST-MODIFIED:20250923T043122Z
UID:168836-1763551800-1763555400@scuolaedilecremona.it
SUMMARY:Area storico-socio-economica - Storia
DESCRIPTION:Docente: ROSSI GIAMPIETRO
URL:https://scuolaedilecremona.it/event/area-storico-socio-economica-storia-52/
CATEGORIES:ANNO 1 OPERATORE EDILE - PRIMO ANNO CREMONA 2025/2026
END:VEVENT
BEGIN:VEVENT
DTSTART;TZID=UTC:20251119T123000
DTEND;TZID=UTC:20251119T143000
DTSTAMP:20260420T031729
CREATED:20250923T043122Z
LAST-MODIFIED:20250923T043122Z
UID:168837-1763555400-1763562600@scuolaedilecremona.it
SUMMARY:Area scientifica - matematica e geometria
DESCRIPTION:Docente: BETTONI FABIO
URL:https://scuolaedilecremona.it/event/area-scientifica-matematica-e-geometria-114/
CATEGORIES:ANNO 1 OPERATORE EDILE - PRIMO ANNO CREMONA 2025/2026
END:VEVENT
BEGIN:VEVENT
DTSTART;TZID=UTC:20251119T123000
DTEND;TZID=UTC:20251119T143000
DTSTAMP:20260420T031729
CREATED:20250923T043344Z
LAST-MODIFIED:20250923T043344Z
UID:169214-1763555400-1763562600@scuolaedilecremona.it
SUMMARY:AREA DEI LINGUAGGI - LINGUA ITALIANA
DESCRIPTION:Docente: UCCIARDO  CARMELO
URL:https://scuolaedilecremona.it/event/area-dei-linguaggi-lingua-italiana-213/
CATEGORIES:ANNO 2 OPERATORE EDILE - SECONDO ANNO 2025/2026
END:VEVENT
BEGIN:VEVENT
DTSTART;TZID=UTC:20251120T080000
DTEND;TZID=UTC:20251120T160000
DTSTAMP:20260420T031729
CREATED:20250925T043122Z
LAST-MODIFIED:20250925T043122Z
UID:169762-1763625600-1763654400@scuolaedilecremona.it
SUMMARY:STAGE
DESCRIPTION:
URL:https://scuolaedilecremona.it/event/stage-261/
CATEGORIES:ANNO 3 OPERATORE EDILE - TERZO  ANNO 2025/2026 GOL
END:VEVENT
BEGIN:VEVENT
DTSTART;TZID=UTC:20251120T081500
DTEND;TZID=UTC:20251120T101500
DTSTAMP:20260420T031729
CREATED:20250923T043123Z
LAST-MODIFIED:20250923T043123Z
UID:168838-1763626500-1763633700@scuolaedilecremona.it
SUMMARY:Area tecnico professionale - Elementi di sicurezza sul lavoro
DESCRIPTION:Docente: SOFFIENTINI ROBERTO
URL:https://scuolaedilecremona.it/event/area-tecnico-professionale-elementi-di-sicurezza-sul-lavoro-68/
CATEGORIES:ANNO 1 OPERATORE EDILE - PRIMO ANNO CREMONA 2025/2026
END:VEVENT
BEGIN:VEVENT
DTSTART;TZID=UTC:20251120T081500
DTEND;TZID=UTC:20251120T143000
DTSTAMP:20260420T031729
CREATED:20250923T043344Z
LAST-MODIFIED:20250923T043344Z
UID:169215-1763626500-1763649000@scuolaedilecremona.it
SUMMARY:Area tecnico professionale - Laboratorio esercitazioni pratiche
DESCRIPTION:Docente: DOSSENA GHERARDO TITO
URL:https://scuolaedilecremona.it/event/area-tecnico-professionale-laboratorio-esercitazioni-pratiche-214/
CATEGORIES:ANNO 2 OPERATORE EDILE - SECONDO ANNO 2025/2026
END:VEVENT
BEGIN:VEVENT
DTSTART;TZID=UTC:20251120T101500
DTEND;TZID=UTC:20251120T111500
DTSTAMP:20260420T031729
CREATED:20250923T043123Z
LAST-MODIFIED:20250923T043123Z
UID:168839-1763633700-1763637300@scuolaedilecremona.it
SUMMARY:Area storico-socio-economica - Elementi di economia
DESCRIPTION:Docente: ROSSI GIAMPIETRO
URL:https://scuolaedilecremona.it/event/area-storico-socio-economica-elementi-di-economia-36/
CATEGORIES:ANNO 1 OPERATORE EDILE - PRIMO ANNO CREMONA 2025/2026
END:VEVENT
BEGIN:VEVENT
DTSTART;TZID=UTC:20251120T113000
DTEND;TZID=UTC:20251120T123000
DTSTAMP:20260420T031729
CREATED:20250923T043123Z
LAST-MODIFIED:20250923T043123Z
UID:168840-1763638200-1763641800@scuolaedilecremona.it
SUMMARY:Religione Cattolica (IRC) / Attivita alternativa
DESCRIPTION:Docente: ROSSI GIAMPIETRO
URL:https://scuolaedilecremona.it/event/religione-cattolica-irc-attivita-alternativa-41/
CATEGORIES:ANNO 1 OPERATORE EDILE - PRIMO ANNO CREMONA 2025/2026
END:VEVENT
BEGIN:VEVENT
DTSTART;TZID=UTC:20251120T123000
DTEND;TZID=UTC:20251120T143000
DTSTAMP:20260420T031729
CREATED:20250923T043124Z
LAST-MODIFIED:20250923T043124Z
UID:168841-1763641800-1763649000@scuolaedilecremona.it
SUMMARY:AREA DEI LINGUAGGI - LINGUA ITALIANA
DESCRIPTION:Docente: UCCIARDO  CARMELO
URL:https://scuolaedilecremona.it/event/area-dei-linguaggi-lingua-italiana-153/
CATEGORIES:ANNO 1 OPERATORE EDILE - PRIMO ANNO CREMONA 2025/2026
END:VEVENT
BEGIN:VEVENT
DTSTART;TZID=UTC:20251121T080000
DTEND;TZID=UTC:20251121T160000
DTSTAMP:20260420T031729
CREATED:20250925T043123Z
LAST-MODIFIED:20250925T043123Z
UID:169763-1763712000-1763740800@scuolaedilecremona.it
SUMMARY:STAGE
DESCRIPTION:
URL:https://scuolaedilecremona.it/event/stage-262/
CATEGORIES:ANNO 3 OPERATORE EDILE - TERZO  ANNO 2025/2026 GOL
END:VEVENT
BEGIN:VEVENT
DTSTART;TZID=UTC:20251121T081500
DTEND;TZID=UTC:20251121T091500
DTSTAMP:20260420T031729
CREATED:20250923T043124Z
LAST-MODIFIED:20250923T043124Z
UID:168842-1763712900-1763716500@scuolaedilecremona.it
SUMMARY:Religione Cattolica (IRC) / Attivita alternativa
DESCRIPTION:Docente: ROSSI GIAMPIETRO
URL:https://scuolaedilecremona.it/event/religione-cattolica-irc-attivita-alternativa-42/
CATEGORIES:ANNO 1 OPERATORE EDILE - PRIMO ANNO CREMONA 2025/2026
END:VEVENT
BEGIN:VEVENT
DTSTART;TZID=UTC:20251121T081500
DTEND;TZID=UTC:20251121T101500
DTSTAMP:20260420T031729
CREATED:20250923T043345Z
LAST-MODIFIED:20250923T043345Z
UID:169216-1763712900-1763720100@scuolaedilecremona.it
SUMMARY:Area tecnico professionale - Elementi di sicurezza sul lavoro
DESCRIPTION:Docente: SOFFIENTINI ROBERTO
URL:https://scuolaedilecremona.it/event/area-tecnico-professionale-elementi-di-sicurezza-sul-lavoro-84/
CATEGORIES:ANNO 2 OPERATORE EDILE - SECONDO ANNO 2025/2026
END:VEVENT
BEGIN:VEVENT
DTSTART;TZID=UTC:20251121T091500
DTEND;TZID=UTC:20251121T101500
DTSTAMP:20260420T031729
CREATED:20250923T043124Z
LAST-MODIFIED:20250923T043124Z
UID:168843-1763716500-1763720100@scuolaedilecremona.it
SUMMARY:Area storico-socio-economica - Geografia
DESCRIPTION:Docente: ROSSI GIAMPIETRO
URL:https://scuolaedilecremona.it/event/area-storico-socio-economica-geografia-51/
CATEGORIES:ANNO 1 OPERATORE EDILE - PRIMO ANNO CREMONA 2025/2026
END:VEVENT
BEGIN:VEVENT
DTSTART;TZID=UTC:20251121T101500
DTEND;TZID=UTC:20251121T111500
DTSTAMP:20260420T031729
CREATED:20250923T043345Z
LAST-MODIFIED:20250923T043345Z
UID:169217-1763720100-1763723700@scuolaedilecremona.it
SUMMARY:Religione Cattolica (IRC) / Attivita alternativa
DESCRIPTION:Docente: ROSSI GIAMPIETRO
URL:https://scuolaedilecremona.it/event/religione-cattolica-irc-attivita-alternativa-58/
CATEGORIES:ANNO 2 OPERATORE EDILE - SECONDO ANNO 2025/2026
END:VEVENT
BEGIN:VEVENT
DTSTART;TZID=UTC:20251121T101500
DTEND;TZID=UTC:20251121T123000
DTSTAMP:20260420T031729
CREATED:20250923T043125Z
LAST-MODIFIED:20250923T043125Z
UID:168844-1763720100-1763728200@scuolaedilecremona.it
SUMMARY:Area tecnico professionale - Elementi di sicurezza sul lavoro
DESCRIPTION:Docente: SOFFIENTINI ROBERTO
URL:https://scuolaedilecremona.it/event/area-tecnico-professionale-elementi-di-sicurezza-sul-lavoro-69/
CATEGORIES:ANNO 1 OPERATORE EDILE - PRIMO ANNO CREMONA 2025/2026
END:VEVENT
BEGIN:VEVENT
DTSTART;TZID=UTC:20251121T113000
DTEND;TZID=UTC:20251121T123000
DTSTAMP:20260420T031729
CREATED:20250923T043346Z
LAST-MODIFIED:20250923T043346Z
UID:169218-1763724600-1763728200@scuolaedilecremona.it
SUMMARY:Area storico-socio-economica - Geografia
DESCRIPTION:Docente: ROSSI GIAMPIETRO
URL:https://scuolaedilecremona.it/event/area-storico-socio-economica-geografia-65/
CATEGORIES:ANNO 2 OPERATORE EDILE - SECONDO ANNO 2025/2026
END:VEVENT
BEGIN:VEVENT
DTSTART;TZID=UTC:20251121T123000
DTEND;TZID=UTC:20251121T143000
DTSTAMP:20260420T031729
CREATED:20250923T043125Z
LAST-MODIFIED:20250923T043125Z
UID:168845-1763728200-1763735400@scuolaedilecremona.it
SUMMARY:AREA DEI LINGUAGGI - LINGUA ITALIANA
DESCRIPTION:Docente: UCCIARDO  CARMELO
URL:https://scuolaedilecremona.it/event/area-dei-linguaggi-lingua-italiana-154/
CATEGORIES:ANNO 1 OPERATORE EDILE - PRIMO ANNO CREMONA 2025/2026
END:VEVENT
BEGIN:VEVENT
DTSTART;TZID=UTC:20251121T123000
DTEND;TZID=UTC:20251121T143000
DTSTAMP:20260420T031729
CREATED:20250923T043346Z
LAST-MODIFIED:20250923T043346Z
UID:169219-1763728200-1763735400@scuolaedilecremona.it
SUMMARY:Area scientifica - matematica e geometria
DESCRIPTION:Docente: BETTONI FABIO
URL:https://scuolaedilecremona.it/event/area-scientifica-matematica-e-geometria-155/
CATEGORIES:ANNO 2 OPERATORE EDILE - SECONDO ANNO 2025/2026
END:VEVENT
BEGIN:VEVENT
DTSTART;TZID=UTC:20251122T081500
DTEND;TZID=UTC:20251122T143000
DTSTAMP:20260420T031729
CREATED:20250923T043126Z
LAST-MODIFIED:20250923T043126Z
UID:168846-1763799300-1763821800@scuolaedilecremona.it
SUMMARY:Area tecnico professionale - Laboratorio esercitazioni pratiche
DESCRIPTION:Docente: DOSSENA GHERARDO TITO
URL:https://scuolaedilecremona.it/event/area-tecnico-professionale-laboratorio-esercitazioni-pratiche-171/
CATEGORIES:ANNO 1 OPERATORE EDILE - PRIMO ANNO CREMONA 2025/2026
END:VEVENT
BEGIN:VEVENT
DTSTART;TZID=UTC:20251124T080000
DTEND;TZID=UTC:20251124T160000
DTSTAMP:20260420T031729
CREATED:20250925T043124Z
LAST-MODIFIED:20250925T043124Z
UID:169764-1763971200-1764000000@scuolaedilecremona.it
SUMMARY:STAGE
DESCRIPTION:
URL:https://scuolaedilecremona.it/event/stage-263/
CATEGORIES:ANNO 3 OPERATORE EDILE - TERZO  ANNO 2025/2026 GOL
END:VEVENT
BEGIN:VEVENT
DTSTART;TZID=UTC:20251124T081500
DTEND;TZID=UTC:20251124T091500
DTSTAMP:20260420T031729
CREATED:20251122T043003Z
LAST-MODIFIED:20251122T043003Z
UID:170120-1763972100-1763975700@scuolaedilecremona.it
SUMMARY:Area storico-socio-economica - Storia
DESCRIPTION:Docente: ROSSI GIAMPIETRO
URL:https://scuolaedilecremona.it/event/area-storico-socio-economica-storia-83/
CATEGORIES:ANNO 1 OPERATORE EDILE - PRIMO ANNO CREMONA 2025/2026
END:VEVENT
BEGIN:VEVENT
DTSTART;TZID=UTC:20251124T081500
DTEND;TZID=UTC:20251124T101500
DTSTAMP:20260420T031729
CREATED:20250923T043346Z
LAST-MODIFIED:20250923T043346Z
UID:169220-1763972100-1763979300@scuolaedilecremona.it
SUMMARY:Area tecnologica - informatica
DESCRIPTION:Docente: BILLA CHIARA
URL:https://scuolaedilecremona.it/event/area-tecnologica-informatica-59/
CATEGORIES:ANNO 2 OPERATORE EDILE - SECONDO ANNO 2025/2026
END:VEVENT
BEGIN:VEVENT
DTSTART;TZID=UTC:20251124T091500
DTEND;TZID=UTC:20251124T101500
DTSTAMP:20260420T031729
CREATED:20251122T043005Z
LAST-MODIFIED:20251122T043005Z
UID:170121-1763975700-1763979300@scuolaedilecremona.it
SUMMARY:Area storico-socio-economica - Geografia
DESCRIPTION:Docente: ROSSI GIAMPIETRO
URL:https://scuolaedilecremona.it/event/area-storico-socio-economica-geografia-85/
CATEGORIES:ANNO 1 OPERATORE EDILE - PRIMO ANNO CREMONA 2025/2026
END:VEVENT
BEGIN:VEVENT
DTSTART;TZID=UTC:20251124T101500
DTEND;TZID=UTC:20251124T123000
DTSTAMP:20260420T031729
CREATED:20250923T043126Z
LAST-MODIFIED:20250923T043126Z
UID:168848-1763979300-1763987400@scuolaedilecremona.it
SUMMARY:AREA DEI LINGUAGGI - LINGUA ITALIANA
DESCRIPTION:Docente: UCCIARDO  CARMELO
URL:https://scuolaedilecremona.it/event/area-dei-linguaggi-lingua-italiana-155/
CATEGORIES:ANNO 1 OPERATORE EDILE - PRIMO ANNO CREMONA 2025/2026
END:VEVENT
BEGIN:VEVENT
DTSTART;TZID=UTC:20251124T101500
DTEND;TZID=UTC:20251124T133000
DTSTAMP:20260420T031729
CREATED:20251122T043008Z
LAST-MODIFIED:20251122T043008Z
UID:170125-1763979300-1763991000@scuolaedilecremona.it
SUMMARY:Area scientifica - scienze
DESCRIPTION:Docente: TAINO CATERINA
URL:https://scuolaedilecremona.it/event/area-scientifica-scienze-72/
CATEGORIES:ANNO 2 OPERATORE EDILE - SECONDO ANNO 2025/2026
END:VEVENT
BEGIN:VEVENT
DTSTART;TZID=UTC:20251124T123000
DTEND;TZID=UTC:20251124T143000
DTSTAMP:20260420T031729
CREATED:20250923T043127Z
LAST-MODIFIED:20250923T043127Z
UID:168849-1763987400-1763994600@scuolaedilecremona.it
SUMMARY:Area scientifica - matematica e geometria
DESCRIPTION:Docente: BETTONI FABIO
URL:https://scuolaedilecremona.it/event/area-scientifica-matematica-e-geometria-115/
CATEGORIES:ANNO 1 OPERATORE EDILE - PRIMO ANNO CREMONA 2025/2026
END:VEVENT
BEGIN:VEVENT
DTSTART;TZID=UTC:20251124T133000
DTEND;TZID=UTC:20251124T143000
DTSTAMP:20260420T031729
CREATED:20250923T043347Z
LAST-MODIFIED:20250923T043347Z
UID:169222-1763991000-1763994600@scuolaedilecremona.it
SUMMARY:AREA DEI LINGUAGGI - LINGUA ITALIANA
DESCRIPTION:Docente: UCCIARDO  CARMELO
URL:https://scuolaedilecremona.it/event/area-dei-linguaggi-lingua-italiana-214/
CATEGORIES:ANNO 2 OPERATORE EDILE - SECONDO ANNO 2025/2026
END:VEVENT
BEGIN:VEVENT
DTSTART;TZID=UTC:20251125T080000
DTEND;TZID=UTC:20251125T160000
DTSTAMP:20260420T031729
CREATED:20250925T043124Z
LAST-MODIFIED:20250925T043124Z
UID:169765-1764057600-1764086400@scuolaedilecremona.it
SUMMARY:STAGE
DESCRIPTION:
URL:https://scuolaedilecremona.it/event/stage-264/
CATEGORIES:ANNO 3 OPERATORE EDILE - TERZO  ANNO 2025/2026 GOL
END:VEVENT
BEGIN:VEVENT
DTSTART;TZID=UTC:20251125T081500
DTEND;TZID=UTC:20251125T101500
DTSTAMP:20260420T031729
CREATED:20250923T043127Z
LAST-MODIFIED:20250923T043127Z
UID:168850-1764058500-1764065700@scuolaedilecremona.it
SUMMARY:Area tecnico professionale - Elementi di tecnologia edile
DESCRIPTION:Docente: BELLADELLI LEONARDO
URL:https://scuolaedilecremona.it/event/area-tecnico-professionale-elementi-di-tecnologia-edile-65/
CATEGORIES:ANNO 1 OPERATORE EDILE - PRIMO ANNO CREMONA 2025/2026
END:VEVENT
END:VCALENDAR