BEGIN:VCALENDAR
VERSION:2.0
PRODID:-//Ente Scuola Edile Cremona - C.P.T. - ECPv6.15.18//NONSGML v1.0//EN
CALSCALE:GREGORIAN
METHOD:PUBLISH
X-ORIGINAL-URL:https://scuolaedilecremona.it
X-WR-CALDESC:Eventi per Ente Scuola Edile Cremona - C.P.T.
REFRESH-INTERVAL;VALUE=DURATION:PT1H
X-Robots-Tag:noindex
X-PUBLISHED-TTL:PT1H
BEGIN:VTIMEZONE
TZID:UTC
BEGIN:STANDARD
TZOFFSETFROM:+0000
TZOFFSETTO:+0000
TZNAME:UTC
DTSTART:20230101T000000
END:STANDARD
END:VTIMEZONE
BEGIN:VEVENT
DTSTART;TZID=UTC:20241108T080000
DTEND;TZID=UTC:20241108T160000
DTSTAMP:20260419T234642
CREATED:20250307T044437Z
LAST-MODIFIED:20250307T044437Z
UID:167806-1731052800-1731081600@scuolaedilecremona.it
SUMMARY:STAGE
DESCRIPTION:
URL:https://scuolaedilecremona.it/event/stage-69/
CATEGORIES:ANNO 3 OPERATORE EDILE - DUALE TERZO ANNO 2024/2025
END:VEVENT
BEGIN:VEVENT
DTSTART;TZID=UTC:20241108T080000
DTEND;TZID=UTC:20241108T160000
DTSTAMP:20260419T234642
CREATED:20250307T044849Z
LAST-MODIFIED:20250307T044849Z
UID:168014-1731052800-1731081600@scuolaedilecremona.it
SUMMARY:STAGE
DESCRIPTION:
URL:https://scuolaedilecremona.it/event/stage-26/
CATEGORIES:ANNO 3 OPERATORE EDILE - TERZO ANNO 2024/2025
END:VEVENT
BEGIN:VEVENT
DTSTART;TZID=UTC:20241108T081500
DTEND;TZID=UTC:20241108T101500
DTSTAMP:20260419T234642
CREATED:20250307T043945Z
LAST-MODIFIED:20250307T043945Z
UID:167566-1731053700-1731060900@scuolaedilecremona.it
SUMMARY:Area tecnico professionale - Elementi di sicurezza sul lavoro
DESCRIPTION:Docente: SOFFIENTINI ROBERTO
URL:https://scuolaedilecremona.it/event/area-tecnico-professionale-elementi-di-sicurezza-sul-lavoro-33/
CATEGORIES:ANNO 2 OPERATORE EDILE - SECONDO ANNO 2024/2025
END:VEVENT
BEGIN:VEVENT
DTSTART;TZID=UTC:20241108T081500
DTEND;TZID=UTC:20241108T111500
DTSTAMP:20260419T234642
CREATED:20250307T043222Z
LAST-MODIFIED:20250307T043222Z
UID:167198-1731053700-1731064500@scuolaedilecremona.it
SUMMARY:Area tecnico professionale - Elementi di tecnologia edile
DESCRIPTION:Docente: BELLADELLI LEONARDO
URL:https://scuolaedilecremona.it/event/area-tecnico-professionale-elementi-di-tecnologia-edile-41/
CATEGORIES:ANNO 1 OPERATORE EDILE - PRIMO ANNO CREMONA 2024/2025
END:VEVENT
BEGIN:VEVENT
DTSTART;TZID=UTC:20241108T101500
DTEND;TZID=UTC:20241108T111500
DTSTAMP:20260419T234642
CREATED:20250307T043946Z
LAST-MODIFIED:20250307T043946Z
UID:167567-1731060900-1731064500@scuolaedilecremona.it
SUMMARY:Area tecnico professionale - Elementi di contabilita
DESCRIPTION:Docente: SOFFIENTINI ROBERTO
URL:https://scuolaedilecremona.it/event/area-tecnico-professionale-elementi-di-contabilita-24/
CATEGORIES:ANNO 2 OPERATORE EDILE - SECONDO ANNO 2024/2025
END:VEVENT
BEGIN:VEVENT
DTSTART;TZID=UTC:20241108T113000
DTEND;TZID=UTC:20241108T133000
DTSTAMP:20260419T234642
CREATED:20250307T043947Z
LAST-MODIFIED:20250307T043947Z
UID:167568-1731065400-1731072600@scuolaedilecremona.it
SUMMARY:Area personalizzazione - Orientamento e capacita personali
DESCRIPTION:Docente: UCCIARDO  CARMELO
URL:https://scuolaedilecremona.it/event/area-personalizzazione-orientamento-e-capacita-personali-10/
CATEGORIES:ANNO 2 OPERATORE EDILE - SECONDO ANNO 2024/2025
END:VEVENT
BEGIN:VEVENT
DTSTART;TZID=UTC:20241108T113000
DTEND;TZID=UTC:20241108T133000
DTSTAMP:20260419T234642
CREATED:20250522T043005Z
LAST-MODIFIED:20250522T043005Z
UID:168419-1731065400-1731072600@scuolaedilecremona.it
SUMMARY:Area personalizzazione - Orientamento e capacita personali
DESCRIPTION:Docente: BONDIONI ELISABETTA\, MEAZZI ANNA CHIARA
URL:https://scuolaedilecremona.it/event/area-personalizzazione-orientamento-e-capacita-personali-19/
CATEGORIES:ANNO 1 OPERATORE EDILE - PRIMO ANNO CREMONA 2024/2025
END:VEVENT
BEGIN:VEVENT
DTSTART;TZID=UTC:20241109T081500
DTEND;TZID=UTC:20241109T133000
DTSTAMP:20260419T234642
CREATED:20250307T043225Z
LAST-MODIFIED:20250307T043225Z
UID:167201-1731140100-1731159000@scuolaedilecremona.it
SUMMARY:Area tecnico professionale - Laboratorio esercitazioni pratiche
DESCRIPTION:Docente: BRUNELLI ERNESTO
URL:https://scuolaedilecremona.it/event/area-tecnico-professionale-laboratorio-esercitazioni-pratiche-120/
CATEGORIES:ANNO 1 OPERATORE EDILE - PRIMO ANNO CREMONA 2024/2025
END:VEVENT
BEGIN:VEVENT
DTSTART;TZID=UTC:20241111T080000
DTEND;TZID=UTC:20241111T160000
DTSTAMP:20260419T234642
CREATED:20250307T044438Z
LAST-MODIFIED:20250307T044438Z
UID:167807-1731312000-1731340800@scuolaedilecremona.it
SUMMARY:STAGE
DESCRIPTION:
URL:https://scuolaedilecremona.it/event/stage-70/
CATEGORIES:ANNO 3 OPERATORE EDILE - DUALE TERZO ANNO 2024/2025
END:VEVENT
BEGIN:VEVENT
DTSTART;TZID=UTC:20241111T080000
DTEND;TZID=UTC:20241111T160000
DTSTAMP:20260419T234642
CREATED:20250307T044850Z
LAST-MODIFIED:20250307T044850Z
UID:168015-1731312000-1731340800@scuolaedilecremona.it
SUMMARY:STAGE
DESCRIPTION:
URL:https://scuolaedilecremona.it/event/stage-27/
CATEGORIES:ANNO 3 OPERATORE EDILE - TERZO ANNO 2024/2025
END:VEVENT
BEGIN:VEVENT
DTSTART;TZID=UTC:20241111T081500
DTEND;TZID=UTC:20241111T101500
DTSTAMP:20260419T234642
CREATED:20250307T043226Z
LAST-MODIFIED:20250307T043226Z
UID:167202-1731312900-1731320100@scuolaedilecremona.it
SUMMARY:Area tecnologica - informatica
DESCRIPTION:Docente: BILLA CHIARA
URL:https://scuolaedilecremona.it/event/area-tecnologica-informatica-29/
CATEGORIES:ANNO 1 OPERATORE EDILE - PRIMO ANNO CREMONA 2024/2025
END:VEVENT
BEGIN:VEVENT
DTSTART;TZID=UTC:20241111T081500
DTEND;TZID=UTC:20241111T101500
DTSTAMP:20260419T234642
CREATED:20250307T043948Z
LAST-MODIFIED:20250307T043948Z
UID:167569-1731312900-1731320100@scuolaedilecremona.it
SUMMARY:AREA DEI LINGUAGGI - LINGUA ITALIANA
DESCRIPTION:Docente: UCCIARDO  CARMELO
URL:https://scuolaedilecremona.it/event/area-dei-linguaggi-lingua-italiana-65/
CATEGORIES:ANNO 2 OPERATORE EDILE - SECONDO ANNO 2024/2025
END:VEVENT
BEGIN:VEVENT
DTSTART;TZID=UTC:20241111T101500
DTEND;TZID=UTC:20241111T111500
DTSTAMP:20260419T234642
CREATED:20250307T043950Z
LAST-MODIFIED:20250307T043950Z
UID:167570-1731320100-1731323700@scuolaedilecremona.it
SUMMARY:Area tecnologica - informatica
DESCRIPTION:Docente: BILLA CHIARA
URL:https://scuolaedilecremona.it/event/area-tecnologica-informatica-18/
CATEGORIES:ANNO 2 OPERATORE EDILE - SECONDO ANNO 2024/2025
END:VEVENT
BEGIN:VEVENT
DTSTART;TZID=UTC:20241111T101500
DTEND;TZID=UTC:20241111T133000
DTSTAMP:20260419T234642
CREATED:20250307T043228Z
LAST-MODIFIED:20250307T043228Z
UID:167203-1731320100-1731331800@scuolaedilecremona.it
SUMMARY:AREA DEI LINGUAGGI - LINGUA ITALIANA
DESCRIPTION:Docente: UCCIARDO  CARMELO
URL:https://scuolaedilecremona.it/event/area-dei-linguaggi-lingua-italiana-101/
CATEGORIES:ANNO 1 OPERATORE EDILE - PRIMO ANNO CREMONA 2024/2025
END:VEVENT
BEGIN:VEVENT
DTSTART;TZID=UTC:20241111T113000
DTEND;TZID=UTC:20241111T133000
DTSTAMP:20260419T234642
CREATED:20250307T043951Z
LAST-MODIFIED:20250307T043951Z
UID:167571-1731324600-1731331800@scuolaedilecremona.it
SUMMARY:Area scientifica - matematica e geometria
DESCRIPTION:Docente: BETTONI FABIO
URL:https://scuolaedilecremona.it/event/area-scientifica-matematica-e-geometria-45/
CATEGORIES:ANNO 2 OPERATORE EDILE - SECONDO ANNO 2024/2025
END:VEVENT
BEGIN:VEVENT
DTSTART;TZID=UTC:20241112T080000
DTEND;TZID=UTC:20241112T160000
DTSTAMP:20260419T234642
CREATED:20250307T044439Z
LAST-MODIFIED:20250307T044439Z
UID:167808-1731398400-1731427200@scuolaedilecremona.it
SUMMARY:STAGE
DESCRIPTION:
URL:https://scuolaedilecremona.it/event/stage-71/
CATEGORIES:ANNO 3 OPERATORE EDILE - DUALE TERZO ANNO 2024/2025
END:VEVENT
BEGIN:VEVENT
DTSTART;TZID=UTC:20241112T080000
DTEND;TZID=UTC:20241112T160000
DTSTAMP:20260419T234642
CREATED:20250307T044851Z
LAST-MODIFIED:20250307T044851Z
UID:168016-1731398400-1731427200@scuolaedilecremona.it
SUMMARY:STAGE
DESCRIPTION:
URL:https://scuolaedilecremona.it/event/stage-28/
CATEGORIES:ANNO 3 OPERATORE EDILE - TERZO ANNO 2024/2025
END:VEVENT
BEGIN:VEVENT
DTSTART;TZID=UTC:20241112T081500
DTEND;TZID=UTC:20241112T091500
DTSTAMP:20260419T234642
CREATED:20250307T043229Z
LAST-MODIFIED:20250307T043229Z
UID:167204-1731399300-1731402900@scuolaedilecremona.it
SUMMARY:AREA DEI LINGUAGGI - LINGUA INGLESE
DESCRIPTION:Docente: VIRGILIO LAURA LETIZIA
URL:https://scuolaedilecremona.it/event/area-dei-linguaggi-lingua-inglese-44/
CATEGORIES:ANNO 1 OPERATORE EDILE - PRIMO ANNO CREMONA 2024/2025
END:VEVENT
BEGIN:VEVENT
DTSTART;TZID=UTC:20241112T081500
DTEND;TZID=UTC:20241112T133000
DTSTAMP:20260419T234642
CREATED:20250307T043952Z
LAST-MODIFIED:20250307T043952Z
UID:167572-1731399300-1731418200@scuolaedilecremona.it
SUMMARY:AREA DEI LINGUAGGI - LINGUA ITALIANA
DESCRIPTION:Docente: UCCIARDO  CARMELO
URL:https://scuolaedilecremona.it/event/area-dei-linguaggi-lingua-italiana-66/
CATEGORIES:ANNO 2 OPERATORE EDILE - SECONDO ANNO 2024/2025
END:VEVENT
BEGIN:VEVENT
DTSTART;TZID=UTC:20241112T091500
DTEND;TZID=UTC:20241112T101500
DTSTAMP:20260419T234642
CREATED:20250307T043230Z
LAST-MODIFIED:20250307T043230Z
UID:167205-1731402900-1731406500@scuolaedilecremona.it
SUMMARY:Area storico-socio-economica - Elementi di economia
DESCRIPTION:Docente: SPOTTI FABIO ENRICO
URL:https://scuolaedilecremona.it/event/area-storico-socio-economica-elementi-di-economia-25/
CATEGORIES:ANNO 1 OPERATORE EDILE - PRIMO ANNO CREMONA 2024/2025
END:VEVENT
BEGIN:VEVENT
DTSTART;TZID=UTC:20241112T091500
DTEND;TZID=UTC:20241112T111500
DTSTAMP:20260419T234642
CREATED:20250307T043953Z
LAST-MODIFIED:20250307T043953Z
UID:167573-1731402900-1731410100@scuolaedilecremona.it
SUMMARY:AREA DEI LINGUAGGI - LINGUA INGLESE
DESCRIPTION:Docente: VIRGILIO LAURA LETIZIA
URL:https://scuolaedilecremona.it/event/area-dei-linguaggi-lingua-inglese-31/
CATEGORIES:ANNO 2 OPERATORE EDILE - SECONDO ANNO 2024/2025
END:VEVENT
BEGIN:VEVENT
DTSTART;TZID=UTC:20241112T101500
DTEND;TZID=UTC:20241112T111500
DTSTAMP:20260419T234642
CREATED:20250307T043231Z
LAST-MODIFIED:20250307T043231Z
UID:167206-1731406500-1731410100@scuolaedilecremona.it
SUMMARY:Area storico-socio-economica - Elementi di diritto del lavoro
DESCRIPTION:Docente: SPOTTI FABIO ENRICO
URL:https://scuolaedilecremona.it/event/area-storico-socio-economica-elementi-di-diritto-del-lavoro-25/
CATEGORIES:ANNO 1 OPERATORE EDILE - PRIMO ANNO CREMONA 2024/2025
END:VEVENT
BEGIN:VEVENT
DTSTART;TZID=UTC:20241112T113000
DTEND;TZID=UTC:20241112T123000
DTSTAMP:20260419T234642
CREATED:20250307T043954Z
LAST-MODIFIED:20250307T043954Z
UID:167574-1731411000-1731414600@scuolaedilecremona.it
SUMMARY:Area storico-socio-economica - Elementi di economia
DESCRIPTION:Docente: SPOTTI FABIO ENRICO
URL:https://scuolaedilecremona.it/event/area-storico-socio-economica-elementi-di-economia-14/
CATEGORIES:ANNO 2 OPERATORE EDILE - SECONDO ANNO 2024/2025
END:VEVENT
BEGIN:VEVENT
DTSTART;TZID=UTC:20241112T113000
DTEND;TZID=UTC:20241112T133000
DTSTAMP:20260419T234642
CREATED:20250307T043232Z
LAST-MODIFIED:20250307T043232Z
UID:167207-1731411000-1731418200@scuolaedilecremona.it
SUMMARY:Area scientifica - matematica e geometria
DESCRIPTION:Docente: BETTONI FABIO
URL:https://scuolaedilecremona.it/event/area-scientifica-matematica-e-geometria-71/
CATEGORIES:ANNO 1 OPERATORE EDILE - PRIMO ANNO CREMONA 2024/2025
END:VEVENT
BEGIN:VEVENT
DTSTART;TZID=UTC:20241114T080000
DTEND;TZID=UTC:20241114T160000
DTSTAMP:20260419T234642
CREATED:20250307T044441Z
LAST-MODIFIED:20250307T044441Z
UID:167809-1731571200-1731600000@scuolaedilecremona.it
SUMMARY:STAGE
DESCRIPTION:
URL:https://scuolaedilecremona.it/event/stage-72/
CATEGORIES:ANNO 3 OPERATORE EDILE - DUALE TERZO ANNO 2024/2025
END:VEVENT
BEGIN:VEVENT
DTSTART;TZID=UTC:20241114T080000
DTEND;TZID=UTC:20241114T160000
DTSTAMP:20260419T234642
CREATED:20250307T044853Z
LAST-MODIFIED:20250307T044853Z
UID:168017-1731571200-1731600000@scuolaedilecremona.it
SUMMARY:STAGE
DESCRIPTION:
URL:https://scuolaedilecremona.it/event/stage-29/
CATEGORIES:ANNO 3 OPERATORE EDILE - TERZO ANNO 2024/2025
END:VEVENT
BEGIN:VEVENT
DTSTART;TZID=UTC:20241114T081500
DTEND;TZID=UTC:20241114T101500
DTSTAMP:20260419T234642
CREATED:20250307T043956Z
LAST-MODIFIED:20250307T043956Z
UID:167575-1731572100-1731579300@scuolaedilecremona.it
SUMMARY:Area tecnico professionale - Elementi di sicurezza sul lavoro
DESCRIPTION:Docente: SOFFIENTINI ROBERTO
URL:https://scuolaedilecremona.it/event/area-tecnico-professionale-elementi-di-sicurezza-sul-lavoro-34/
CATEGORIES:ANNO 2 OPERATORE EDILE - SECONDO ANNO 2024/2025
END:VEVENT
BEGIN:VEVENT
DTSTART;TZID=UTC:20241114T081500
DTEND;TZID=UTC:20241114T133000
DTSTAMP:20260419T234642
CREATED:20250307T043234Z
LAST-MODIFIED:20250307T043234Z
UID:167208-1731572100-1731591000@scuolaedilecremona.it
SUMMARY:Area tecnico professionale - Laboratorio esercitazioni pratiche
DESCRIPTION:Docente: DOSSENA GHERARDO TITO
URL:https://scuolaedilecremona.it/event/area-tecnico-professionale-laboratorio-esercitazioni-pratiche-121/
CATEGORIES:ANNO 1 OPERATORE EDILE - PRIMO ANNO CREMONA 2024/2025
END:VEVENT
BEGIN:VEVENT
DTSTART;TZID=UTC:20241114T101500
DTEND;TZID=UTC:20241114T111500
DTSTAMP:20260419T234642
CREATED:20250307T043957Z
LAST-MODIFIED:20250307T043957Z
UID:167576-1731579300-1731582900@scuolaedilecremona.it
SUMMARY:Area tecnico professionale - Elementi di contabilita
DESCRIPTION:Docente: SOFFIENTINI ROBERTO
URL:https://scuolaedilecremona.it/event/area-tecnico-professionale-elementi-di-contabilita-25/
CATEGORIES:ANNO 2 OPERATORE EDILE - SECONDO ANNO 2024/2025
END:VEVENT
BEGIN:VEVENT
DTSTART;TZID=UTC:20241114T113000
DTEND;TZID=UTC:20241114T133000
DTSTAMP:20260419T234642
CREATED:20250307T043958Z
LAST-MODIFIED:20250307T043958Z
UID:167577-1731583800-1731591000@scuolaedilecremona.it
SUMMARY:Area scientifica - matematica e geometria
DESCRIPTION:Docente: BETTONI FABIO
URL:https://scuolaedilecremona.it/event/area-scientifica-matematica-e-geometria-46/
CATEGORIES:ANNO 2 OPERATORE EDILE - SECONDO ANNO 2024/2025
END:VEVENT
END:VCALENDAR