BEGIN:VCALENDAR
VERSION:2.0
PRODID:-//Ente Scuola Edile Cremona - C.P.T. - ECPv6.15.18//NONSGML v1.0//EN
CALSCALE:GREGORIAN
METHOD:PUBLISH
X-WR-CALNAME:Ente Scuola Edile Cremona - C.P.T.
X-ORIGINAL-URL:https://scuolaedilecremona.it
X-WR-CALDESC:Eventi per Ente Scuola Edile Cremona - C.P.T.
REFRESH-INTERVAL;VALUE=DURATION:PT1H
X-Robots-Tag:noindex
X-PUBLISHED-TTL:PT1H
BEGIN:VTIMEZONE
TZID:UTC
BEGIN:STANDARD
TZOFFSETFROM:+0000
TZOFFSETTO:+0000
TZNAME:UTC
DTSTART:20230101T000000
END:STANDARD
END:VTIMEZONE
BEGIN:VEVENT
DTSTART;TZID=UTC:20241123T081500
DTEND;TZID=UTC:20241123T133000
DTSTAMP:20260419T234513
CREATED:20250307T043255Z
LAST-MODIFIED:20250307T043255Z
UID:167226-1732349700-1732368600@scuolaedilecremona.it
SUMMARY:Area tecnico professionale - Laboratorio esercitazioni pratiche
DESCRIPTION:Docente: DOSSENA GHERARDO TITO
URL:https://scuolaedilecremona.it/event/area-tecnico-professionale-laboratorio-esercitazioni-pratiche-122/
CATEGORIES:ANNO 1 OPERATORE EDILE - PRIMO ANNO CREMONA 2024/2025
END:VEVENT
BEGIN:VEVENT
DTSTART;TZID=UTC:20241125T080000
DTEND;TZID=UTC:20241125T160000
DTSTAMP:20260419T234513
CREATED:20250307T044449Z
LAST-MODIFIED:20250307T044449Z
UID:167816-1732521600-1732550400@scuolaedilecremona.it
SUMMARY:STAGE
DESCRIPTION:
URL:https://scuolaedilecremona.it/event/stage-79/
CATEGORIES:ANNO 3 OPERATORE EDILE - DUALE TERZO ANNO 2024/2025
END:VEVENT
BEGIN:VEVENT
DTSTART;TZID=UTC:20241125T080000
DTEND;TZID=UTC:20241125T160000
DTSTAMP:20260419T234513
CREATED:20250307T044901Z
LAST-MODIFIED:20250307T044901Z
UID:168024-1732521600-1732550400@scuolaedilecremona.it
SUMMARY:STAGE
DESCRIPTION:
URL:https://scuolaedilecremona.it/event/stage-36/
CATEGORIES:ANNO 3 OPERATORE EDILE - TERZO ANNO 2024/2025
END:VEVENT
BEGIN:VEVENT
DTSTART;TZID=UTC:20241125T081500
DTEND;TZID=UTC:20241125T101500
DTSTAMP:20260419T234513
CREATED:20250307T043257Z
LAST-MODIFIED:20250307T043257Z
UID:167227-1732522500-1732529700@scuolaedilecremona.it
SUMMARY:Area tecnologica - informatica
DESCRIPTION:Docente: BILLA CHIARA
URL:https://scuolaedilecremona.it/event/area-tecnologica-informatica-31/
CATEGORIES:ANNO 1 OPERATORE EDILE - PRIMO ANNO CREMONA 2024/2025
END:VEVENT
BEGIN:VEVENT
DTSTART;TZID=UTC:20241125T081500
DTEND;TZID=UTC:20241125T101500
DTSTAMP:20260419T234513
CREATED:20250307T044017Z
LAST-MODIFIED:20250307T044017Z
UID:167592-1732522500-1732529700@scuolaedilecremona.it
SUMMARY:AREA DEI LINGUAGGI - LINGUA INGLESE
DESCRIPTION:Docente: VIRGILIO LAURA LETIZIA
URL:https://scuolaedilecremona.it/event/area-dei-linguaggi-lingua-inglese-33/
CATEGORIES:ANNO 2 OPERATORE EDILE - SECONDO ANNO 2024/2025
END:VEVENT
BEGIN:VEVENT
DTSTART;TZID=UTC:20241125T101500
DTEND;TZID=UTC:20241125T111500
DTSTAMP:20260419T234513
CREATED:20250307T044018Z
LAST-MODIFIED:20250307T044018Z
UID:167593-1732529700-1732533300@scuolaedilecremona.it
SUMMARY:Area tecnologica - informatica
DESCRIPTION:Docente: BILLA CHIARA
URL:https://scuolaedilecremona.it/event/area-tecnologica-informatica-20/
CATEGORIES:ANNO 2 OPERATORE EDILE - SECONDO ANNO 2024/2025
END:VEVENT
BEGIN:VEVENT
DTSTART;TZID=UTC:20241125T101500
DTEND;TZID=UTC:20241125T133000
DTSTAMP:20260419T234513
CREATED:20250307T043258Z
LAST-MODIFIED:20250307T043258Z
UID:167228-1732529700-1732541400@scuolaedilecremona.it
SUMMARY:AREA DEI LINGUAGGI - LINGUA INGLESE
DESCRIPTION:Docente: VIRGILIO LAURA LETIZIA
URL:https://scuolaedilecremona.it/event/area-dei-linguaggi-lingua-inglese-46/
CATEGORIES:ANNO 1 OPERATORE EDILE - PRIMO ANNO CREMONA 2024/2025
END:VEVENT
BEGIN:VEVENT
DTSTART;TZID=UTC:20241125T113000
DTEND;TZID=UTC:20241125T133000
DTSTAMP:20260419T234513
CREATED:20250307T044019Z
LAST-MODIFIED:20250307T044019Z
UID:167594-1732534200-1732541400@scuolaedilecremona.it
SUMMARY:AREA DEI LINGUAGGI - LINGUA ITALIANA
DESCRIPTION:Docente: UCCIARDO  CARMELO
URL:https://scuolaedilecremona.it/event/area-dei-linguaggi-lingua-italiana-69/
CATEGORIES:ANNO 2 OPERATORE EDILE - SECONDO ANNO 2024/2025
END:VEVENT
BEGIN:VEVENT
DTSTART;TZID=UTC:20241126T080000
DTEND;TZID=UTC:20241126T160000
DTSTAMP:20260419T234513
CREATED:20250307T044450Z
LAST-MODIFIED:20250307T044450Z
UID:167817-1732608000-1732636800@scuolaedilecremona.it
SUMMARY:STAGE
DESCRIPTION:
URL:https://scuolaedilecremona.it/event/stage-80/
CATEGORIES:ANNO 3 OPERATORE EDILE - DUALE TERZO ANNO 2024/2025
END:VEVENT
BEGIN:VEVENT
DTSTART;TZID=UTC:20241126T080000
DTEND;TZID=UTC:20241126T160000
DTSTAMP:20260419T234513
CREATED:20250307T044902Z
LAST-MODIFIED:20250307T044902Z
UID:168025-1732608000-1732636800@scuolaedilecremona.it
SUMMARY:STAGE
DESCRIPTION:
URL:https://scuolaedilecremona.it/event/stage-37/
CATEGORIES:ANNO 3 OPERATORE EDILE - TERZO ANNO 2024/2025
END:VEVENT
BEGIN:VEVENT
DTSTART;TZID=UTC:20241126T081500
DTEND;TZID=UTC:20241126T091500
DTSTAMP:20260419T234513
CREATED:20250307T043259Z
LAST-MODIFIED:20250307T043259Z
UID:167229-1732608900-1732612500@scuolaedilecremona.it
SUMMARY:Religione Cattolica (IRC) / Attivita alternativa
DESCRIPTION:Docente: ROSSI GIAMPIETRO
URL:https://scuolaedilecremona.it/event/religione-cattolica-irc-attivita-alternativa-29/
CATEGORIES:ANNO 1 OPERATORE EDILE - PRIMO ANNO CREMONA 2024/2025
END:VEVENT
BEGIN:VEVENT
DTSTART;TZID=UTC:20241126T081500
DTEND;TZID=UTC:20241126T133000
DTSTAMP:20260419T234513
CREATED:20250307T044020Z
LAST-MODIFIED:20250307T044020Z
UID:167595-1732608900-1732627800@scuolaedilecremona.it
SUMMARY:AREA DEI LINGUAGGI - LINGUA ITALIANA
DESCRIPTION:Docente: UCCIARDO  CARMELO
URL:https://scuolaedilecremona.it/event/area-dei-linguaggi-lingua-italiana-70/
CATEGORIES:ANNO 2 OPERATORE EDILE - SECONDO ANNO 2024/2025
END:VEVENT
BEGIN:VEVENT
DTSTART;TZID=UTC:20241126T091500
DTEND;TZID=UTC:20241126T101500
DTSTAMP:20260419T234513
CREATED:20250307T043300Z
LAST-MODIFIED:20250307T043300Z
UID:167230-1732612500-1732616100@scuolaedilecremona.it
SUMMARY:Area storico-socio-economica - Elementi di economia
DESCRIPTION:Docente: SPOTTI FABIO ENRICO
URL:https://scuolaedilecremona.it/event/area-storico-socio-economica-elementi-di-economia-27/
CATEGORIES:ANNO 1 OPERATORE EDILE - PRIMO ANNO CREMONA 2024/2025
END:VEVENT
BEGIN:VEVENT
DTSTART;TZID=UTC:20241126T091500
DTEND;TZID=UTC:20241126T101500
DTSTAMP:20260419T234513
CREATED:20250307T044021Z
LAST-MODIFIED:20250307T044021Z
UID:167596-1732612500-1732616100@scuolaedilecremona.it
SUMMARY:Area storico-socio-economica - Storia
DESCRIPTION:Docente: ROSSI GIAMPIETRO
URL:https://scuolaedilecremona.it/event/area-storico-socio-economica-storia-18/
CATEGORIES:ANNO 2 OPERATORE EDILE - SECONDO ANNO 2024/2025
END:VEVENT
BEGIN:VEVENT
DTSTART;TZID=UTC:20241126T101500
DTEND;TZID=UTC:20241126T111500
DTSTAMP:20260419T234513
CREATED:20250307T043301Z
LAST-MODIFIED:20250307T043301Z
UID:167231-1732616100-1732619700@scuolaedilecremona.it
SUMMARY:Area storico-socio-economica - Elementi di diritto del lavoro
DESCRIPTION:Docente: SPOTTI FABIO ENRICO
URL:https://scuolaedilecremona.it/event/area-storico-socio-economica-elementi-di-diritto-del-lavoro-27/
CATEGORIES:ANNO 1 OPERATORE EDILE - PRIMO ANNO CREMONA 2024/2025
END:VEVENT
BEGIN:VEVENT
DTSTART;TZID=UTC:20241126T101500
DTEND;TZID=UTC:20241126T111500
DTSTAMP:20260419T234513
CREATED:20250307T044023Z
LAST-MODIFIED:20250307T044023Z
UID:167597-1732616100-1732619700@scuolaedilecremona.it
SUMMARY:Area storico-socio-economica - Geografia
DESCRIPTION:Docente: ROSSI GIAMPIETRO
URL:https://scuolaedilecremona.it/event/area-storico-socio-economica-geografia-18/
CATEGORIES:ANNO 2 OPERATORE EDILE - SECONDO ANNO 2024/2025
END:VEVENT
BEGIN:VEVENT
DTSTART;TZID=UTC:20241126T113000
DTEND;TZID=UTC:20241126T123000
DTSTAMP:20260419T234513
CREATED:20250307T044024Z
LAST-MODIFIED:20250307T044024Z
UID:167598-1732620600-1732624200@scuolaedilecremona.it
SUMMARY:Area storico-socio-economica - Elementi di economia
DESCRIPTION:Docente: SPOTTI FABIO ENRICO
URL:https://scuolaedilecremona.it/event/area-storico-socio-economica-elementi-di-economia-15/
CATEGORIES:ANNO 2 OPERATORE EDILE - SECONDO ANNO 2024/2025
END:VEVENT
BEGIN:VEVENT
DTSTART;TZID=UTC:20241126T113000
DTEND;TZID=UTC:20241126T133000
DTSTAMP:20260419T234513
CREATED:20250307T043303Z
LAST-MODIFIED:20250307T043303Z
UID:167232-1732620600-1732627800@scuolaedilecremona.it
SUMMARY:Area scientifica - matematica e geometria
DESCRIPTION:Docente: BETTONI FABIO
URL:https://scuolaedilecremona.it/event/area-scientifica-matematica-e-geometria-74/
CATEGORIES:ANNO 1 OPERATORE EDILE - PRIMO ANNO CREMONA 2024/2025
END:VEVENT
BEGIN:VEVENT
DTSTART;TZID=UTC:20241127T080000
DTEND;TZID=UTC:20241127T160000
DTSTAMP:20260419T234513
CREATED:20250307T044451Z
LAST-MODIFIED:20250307T044451Z
UID:167818-1732694400-1732723200@scuolaedilecremona.it
SUMMARY:STAGE
DESCRIPTION:
URL:https://scuolaedilecremona.it/event/stage-81/
CATEGORIES:ANNO 3 OPERATORE EDILE - DUALE TERZO ANNO 2024/2025
END:VEVENT
BEGIN:VEVENT
DTSTART;TZID=UTC:20241127T080000
DTEND;TZID=UTC:20241127T160000
DTSTAMP:20260419T234513
CREATED:20250307T044903Z
LAST-MODIFIED:20250307T044903Z
UID:168026-1732694400-1732723200@scuolaedilecremona.it
SUMMARY:STAGE
DESCRIPTION:
URL:https://scuolaedilecremona.it/event/stage-38/
CATEGORIES:ANNO 3 OPERATORE EDILE - TERZO ANNO 2024/2025
END:VEVENT
BEGIN:VEVENT
DTSTART;TZID=UTC:20241127T081500
DTEND;TZID=UTC:20241127T091500
DTSTAMP:20260419T234513
CREATED:20250307T043304Z
LAST-MODIFIED:20250307T043304Z
UID:167233-1732695300-1732698900@scuolaedilecremona.it
SUMMARY:Area storico-socio-economica - Storia
DESCRIPTION:Docente: ROSSI GIAMPIETRO
URL:https://scuolaedilecremona.it/event/area-storico-socio-economica-storia-28/
CATEGORIES:ANNO 1 OPERATORE EDILE - PRIMO ANNO CREMONA 2024/2025
END:VEVENT
BEGIN:VEVENT
DTSTART;TZID=UTC:20241127T081500
DTEND;TZID=UTC:20241127T111500
DTSTAMP:20260419T234513
CREATED:20250307T044025Z
LAST-MODIFIED:20250307T044025Z
UID:167599-1732695300-1732706100@scuolaedilecremona.it
SUMMARY:Area scientifica - scienze
DESCRIPTION:Docente: TAINO CATERINA
URL:https://scuolaedilecremona.it/event/area-scientifica-scienze-16/
CATEGORIES:ANNO 2 OPERATORE EDILE - SECONDO ANNO 2024/2025
END:VEVENT
BEGIN:VEVENT
DTSTART;TZID=UTC:20241127T091500
DTEND;TZID=UTC:20241127T111500
DTSTAMP:20260419T234513
CREATED:20250307T043305Z
LAST-MODIFIED:20250307T043305Z
UID:167234-1732698900-1732706100@scuolaedilecremona.it
SUMMARY:Area storico-socio-economica - Geografia
DESCRIPTION:Docente: ROSSI GIAMPIETRO
URL:https://scuolaedilecremona.it/event/area-storico-socio-economica-geografia-28/
CATEGORIES:ANNO 1 OPERATORE EDILE - PRIMO ANNO CREMONA 2024/2025
END:VEVENT
BEGIN:VEVENT
DTSTART;TZID=UTC:20241127T113000
DTEND;TZID=UTC:20241127T133000
DTSTAMP:20260419T234513
CREATED:20250307T043306Z
LAST-MODIFIED:20250307T043306Z
UID:167235-1732707000-1732714200@scuolaedilecremona.it
SUMMARY:Area scientifica - scienze
DESCRIPTION:Docente: TAINO CATERINA
URL:https://scuolaedilecremona.it/event/area-scientifica-scienze-25/
CATEGORIES:ANNO 1 OPERATORE EDILE - PRIMO ANNO CREMONA 2024/2025
END:VEVENT
BEGIN:VEVENT
DTSTART;TZID=UTC:20241127T113000
DTEND;TZID=UTC:20241127T133000
DTSTAMP:20260419T234513
CREATED:20250307T044026Z
LAST-MODIFIED:20250307T044026Z
UID:167600-1732707000-1732714200@scuolaedilecremona.it
SUMMARY:Area scientifica - matematica e geometria
DESCRIPTION:Docente: BETTONI FABIO
URL:https://scuolaedilecremona.it/event/area-scientifica-matematica-e-geometria-48/
CATEGORIES:ANNO 2 OPERATORE EDILE - SECONDO ANNO 2024/2025
END:VEVENT
BEGIN:VEVENT
DTSTART;TZID=UTC:20241128T080000
DTEND;TZID=UTC:20241128T160000
DTSTAMP:20260419T234513
CREATED:20250307T044453Z
LAST-MODIFIED:20250307T044453Z
UID:167819-1732780800-1732809600@scuolaedilecremona.it
SUMMARY:STAGE
DESCRIPTION:
URL:https://scuolaedilecremona.it/event/stage-82/
CATEGORIES:ANNO 3 OPERATORE EDILE - DUALE TERZO ANNO 2024/2025
END:VEVENT
BEGIN:VEVENT
DTSTART;TZID=UTC:20241128T080000
DTEND;TZID=UTC:20241128T160000
DTSTAMP:20260419T234513
CREATED:20250307T044905Z
LAST-MODIFIED:20250307T044905Z
UID:168027-1732780800-1732809600@scuolaedilecremona.it
SUMMARY:STAGE
DESCRIPTION:
URL:https://scuolaedilecremona.it/event/stage-39/
CATEGORIES:ANNO 3 OPERATORE EDILE - TERZO ANNO 2024/2025
END:VEVENT
BEGIN:VEVENT
DTSTART;TZID=UTC:20241128T081500
DTEND;TZID=UTC:20241128T101500
DTSTAMP:20260419T234513
CREATED:20250307T043308Z
LAST-MODIFIED:20250307T043308Z
UID:167236-1732781700-1732788900@scuolaedilecremona.it
SUMMARY:Area tecnico professionale - Elementi di sicurezza sul lavoro
DESCRIPTION:Docente: SOFFIENTINI ROBERTO
URL:https://scuolaedilecremona.it/event/area-tecnico-professionale-elementi-di-sicurezza-sul-lavoro-50/
CATEGORIES:ANNO 1 OPERATORE EDILE - PRIMO ANNO CREMONA 2024/2025
END:VEVENT
BEGIN:VEVENT
DTSTART;TZID=UTC:20241128T081500
DTEND;TZID=UTC:20241128T133000
DTSTAMP:20260419T234513
CREATED:20250307T044028Z
LAST-MODIFIED:20250307T044028Z
UID:167601-1732781700-1732800600@scuolaedilecremona.it
SUMMARY:Area tecnico professionale - Laboratorio esercitazioni pratiche
DESCRIPTION:Docente: DOSSENA GHERARDO TITO
URL:https://scuolaedilecremona.it/event/area-tecnico-professionale-laboratorio-esercitazioni-pratiche-81/
CATEGORIES:ANNO 2 OPERATORE EDILE - SECONDO ANNO 2024/2025
END:VEVENT
BEGIN:VEVENT
DTSTART;TZID=UTC:20241128T101500
DTEND;TZID=UTC:20241128T111500
DTSTAMP:20260419T234513
CREATED:20250307T043309Z
LAST-MODIFIED:20250307T043309Z
UID:167237-1732788900-1732792500@scuolaedilecremona.it
SUMMARY:Area tecnico professionale - Elementi di contabilita
DESCRIPTION:Docente: SOFFIENTINI ROBERTO
URL:https://scuolaedilecremona.it/event/area-tecnico-professionale-elementi-di-contabilita-41/
CATEGORIES:ANNO 1 OPERATORE EDILE - PRIMO ANNO CREMONA 2024/2025
END:VEVENT
END:VCALENDAR