BEGIN:VCALENDAR
VERSION:2.0
PRODID:-//Ente Scuola Edile Cremona - C.P.T. - ECPv6.15.18//NONSGML v1.0//EN
CALSCALE:GREGORIAN
METHOD:PUBLISH
X-WR-CALNAME:Ente Scuola Edile Cremona - C.P.T.
X-ORIGINAL-URL:https://scuolaedilecremona.it
X-WR-CALDESC:Eventi per Ente Scuola Edile Cremona - C.P.T.
REFRESH-INTERVAL;VALUE=DURATION:PT1H
X-Robots-Tag:noindex
X-PUBLISHED-TTL:PT1H
BEGIN:VTIMEZONE
TZID:UTC
BEGIN:STANDARD
TZOFFSETFROM:+0000
TZOFFSETTO:+0000
TZNAME:UTC
DTSTART:20230101T000000
END:STANDARD
END:VTIMEZONE
BEGIN:VEVENT
DTSTART;TZID=UTC:20241009T101500
DTEND;TZID=UTC:20241009T111500
DTSTAMP:20260420T051257
CREATED:20250307T043130Z
LAST-MODIFIED:20250307T043130Z
UID:167155-1728468900-1728472500@scuolaedilecremona.it
SUMMARY:Area tecnico professionale - Elementi di contabilita
DESCRIPTION:Docente: SOFFIENTINI ROBERTO
URL:https://scuolaedilecremona.it/event/area-tecnico-professionale-elementi-di-contabilita-39/
CATEGORIES:ANNO 1 OPERATORE EDILE - PRIMO ANNO CREMONA 2024/2025
END:VEVENT
BEGIN:VEVENT
DTSTART;TZID=UTC:20241009T091500
DTEND;TZID=UTC:20241009T101500
DTSTAMP:20260420T051257
CREATED:20250307T043852Z
LAST-MODIFIED:20250307T043852Z
UID:167522-1728465300-1728468900@scuolaedilecremona.it
SUMMARY:Area storico-socio-economica - Geografia
DESCRIPTION:Docente: ROSSI GIAMPIETRO
URL:https://scuolaedilecremona.it/event/area-storico-socio-economica-geografia-13/
CATEGORIES:ANNO 2 OPERATORE EDILE - SECONDO ANNO 2024/2025
END:VEVENT
BEGIN:VEVENT
DTSTART;TZID=UTC:20241009T081500
DTEND;TZID=UTC:20241009T101500
DTSTAMP:20260420T051257
CREATED:20250307T043129Z
LAST-MODIFIED:20250307T043129Z
UID:167154-1728461700-1728468900@scuolaedilecremona.it
SUMMARY:Area tecnico professionale - Elementi di sicurezza sul lavoro
DESCRIPTION:Docente: SOFFIENTINI ROBERTO
URL:https://scuolaedilecremona.it/event/area-tecnico-professionale-elementi-di-sicurezza-sul-lavoro-49/
CATEGORIES:ANNO 1 OPERATORE EDILE - PRIMO ANNO CREMONA 2024/2025
END:VEVENT
BEGIN:VEVENT
DTSTART;TZID=UTC:20241009T081500
DTEND;TZID=UTC:20241009T091500
DTSTAMP:20260420T051257
CREATED:20250307T043851Z
LAST-MODIFIED:20250307T043851Z
UID:167521-1728461700-1728465300@scuolaedilecremona.it
SUMMARY:Area storico-socio-economica - Storia
DESCRIPTION:Docente: ROSSI GIAMPIETRO
URL:https://scuolaedilecremona.it/event/area-storico-socio-economica-storia-14/
CATEGORIES:ANNO 2 OPERATORE EDILE - SECONDO ANNO 2024/2025
END:VEVENT
BEGIN:VEVENT
DTSTART;TZID=UTC:20241009T080000
DTEND;TZID=UTC:20241009T160000
DTSTAMP:20260420T051257
CREATED:20250307T044824Z
LAST-MODIFIED:20250307T044824Z
UID:167993-1728460800-1728489600@scuolaedilecremona.it
SUMMARY:STAGE
DESCRIPTION:
URL:https://scuolaedilecremona.it/event/stage-5/
CATEGORIES:ANNO 3 OPERATORE EDILE - TERZO ANNO 2024/2025
END:VEVENT
BEGIN:VEVENT
DTSTART;TZID=UTC:20241008T123000
DTEND;TZID=UTC:20241008T133000
DTSTAMP:20260420T051257
CREATED:20250307T043850Z
LAST-MODIFIED:20250307T043850Z
UID:167520-1728390600-1728394200@scuolaedilecremona.it
SUMMARY:AREA DEI LINGUAGGI - LINGUA ITALIANA
DESCRIPTION:Docente: UCCIARDO  CARMELO
URL:https://scuolaedilecremona.it/event/area-dei-linguaggi-lingua-italiana-58/
CATEGORIES:ANNO 2 OPERATORE EDILE - SECONDO ANNO 2024/2025
END:VEVENT
BEGIN:VEVENT
DTSTART;TZID=UTC:20241008T113000
DTEND;TZID=UTC:20241008T133000
DTSTAMP:20260420T051257
CREATED:20250307T043128Z
LAST-MODIFIED:20250307T043128Z
UID:167153-1728387000-1728394200@scuolaedilecremona.it
SUMMARY:Area scientifica - matematica e geometria
DESCRIPTION:Docente: BETTONI FABIO
URL:https://scuolaedilecremona.it/event/area-scientifica-matematica-e-geometria-67/
CATEGORIES:ANNO 1 OPERATORE EDILE - PRIMO ANNO CREMONA 2024/2025
END:VEVENT
BEGIN:VEVENT
DTSTART;TZID=UTC:20241008T113000
DTEND;TZID=UTC:20241008T123000
DTSTAMP:20260420T051257
CREATED:20250307T043849Z
LAST-MODIFIED:20250307T043849Z
UID:167519-1728387000-1728390600@scuolaedilecremona.it
SUMMARY:Area storico-socio-economica - Elementi di economia
DESCRIPTION:Docente: SPOTTI FABIO ENRICO
URL:https://scuolaedilecremona.it/event/area-storico-socio-economica-elementi-di-economia-13/
CATEGORIES:ANNO 2 OPERATORE EDILE - SECONDO ANNO 2024/2025
END:VEVENT
BEGIN:VEVENT
DTSTART;TZID=UTC:20241008T101500
DTEND;TZID=UTC:20241008T111500
DTSTAMP:20260420T051257
CREATED:20250307T043126Z
LAST-MODIFIED:20250307T043126Z
UID:167152-1728382500-1728386100@scuolaedilecremona.it
SUMMARY:Area storico-socio-economica - Elementi di diritto del lavoro
DESCRIPTION:Docente: SPOTTI FABIO ENRICO
URL:https://scuolaedilecremona.it/event/area-storico-socio-economica-elementi-di-diritto-del-lavoro-22/
CATEGORIES:ANNO 1 OPERATORE EDILE - PRIMO ANNO CREMONA 2024/2025
END:VEVENT
BEGIN:VEVENT
DTSTART;TZID=UTC:20241008T091500
DTEND;TZID=UTC:20241008T111500
DTSTAMP:20260420T051257
CREATED:20250307T043848Z
LAST-MODIFIED:20250307T043848Z
UID:167518-1728378900-1728386100@scuolaedilecremona.it
SUMMARY:Religione Cattolica (IRC) / Attivita alternativa
DESCRIPTION:Docente: ROSSI GIAMPIETRO
URL:https://scuolaedilecremona.it/event/religione-cattolica-irc-attivita-alternativa-10/
CATEGORIES:ANNO 2 OPERATORE EDILE - SECONDO ANNO 2024/2025
END:VEVENT
BEGIN:VEVENT
DTSTART;TZID=UTC:20241008T091500
DTEND;TZID=UTC:20241008T101500
DTSTAMP:20260420T051257
CREATED:20250307T043125Z
LAST-MODIFIED:20250307T043125Z
UID:167151-1728378900-1728382500@scuolaedilecremona.it
SUMMARY:Area storico-socio-economica - Elementi di economia
DESCRIPTION:Docente: SPOTTI FABIO ENRICO
URL:https://scuolaedilecremona.it/event/area-storico-socio-economica-elementi-di-economia-22/
CATEGORIES:ANNO 1 OPERATORE EDILE - PRIMO ANNO CREMONA 2024/2025
END:VEVENT
BEGIN:VEVENT
DTSTART;TZID=UTC:20241008T081500
DTEND;TZID=UTC:20241008T091500
DTSTAMP:20260420T051257
CREATED:20250307T043846Z
LAST-MODIFIED:20250307T043846Z
UID:167517-1728375300-1728378900@scuolaedilecremona.it
SUMMARY:Area tecnico professionale - Elementi di sicurezza sul lavoro
DESCRIPTION:Docente: SOFFIENTINI ROBERTO
URL:https://scuolaedilecremona.it/event/area-tecnico-professionale-elementi-di-sicurezza-sul-lavoro-31/
CATEGORIES:ANNO 2 OPERATORE EDILE - SECONDO ANNO 2024/2025
END:VEVENT
BEGIN:VEVENT
DTSTART;TZID=UTC:20241008T081500
DTEND;TZID=UTC:20241008T091500
DTSTAMP:20260420T051257
CREATED:20250307T043124Z
LAST-MODIFIED:20250307T043124Z
UID:167150-1728375300-1728378900@scuolaedilecremona.it
SUMMARY:Religione Cattolica (IRC) / Attivita alternativa
DESCRIPTION:Docente: ROSSI GIAMPIETRO
URL:https://scuolaedilecremona.it/event/religione-cattolica-irc-attivita-alternativa-24/
CATEGORIES:ANNO 1 OPERATORE EDILE - PRIMO ANNO CREMONA 2024/2025
END:VEVENT
BEGIN:VEVENT
DTSTART;TZID=UTC:20241008T080000
DTEND;TZID=UTC:20241008T160000
DTSTAMP:20260420T051257
CREATED:20250307T044823Z
LAST-MODIFIED:20250307T044823Z
UID:167992-1728374400-1728403200@scuolaedilecremona.it
SUMMARY:STAGE
DESCRIPTION:
URL:https://scuolaedilecremona.it/event/stage-4/
CATEGORIES:ANNO 3 OPERATORE EDILE - TERZO ANNO 2024/2025
END:VEVENT
BEGIN:VEVENT
DTSTART;TZID=UTC:20241007T113000
DTEND;TZID=UTC:20241007T133000
DTSTAMP:20260420T051257
CREATED:20250307T043123Z
LAST-MODIFIED:20250307T043123Z
UID:167149-1728300600-1728307800@scuolaedilecremona.it
SUMMARY:Area scientifica - matematica e geometria
DESCRIPTION:Docente: BETTONI FABIO
URL:https://scuolaedilecremona.it/event/area-scientifica-matematica-e-geometria-66/
CATEGORIES:ANNO 1 OPERATORE EDILE - PRIMO ANNO CREMONA 2024/2025
END:VEVENT
BEGIN:VEVENT
DTSTART;TZID=UTC:20241007T101500
DTEND;TZID=UTC:20241007T123000
DTSTAMP:20260420T051257
CREATED:20250307T043845Z
LAST-MODIFIED:20250307T043845Z
UID:167516-1728296100-1728304200@scuolaedilecremona.it
SUMMARY:AREA DEI LINGUAGGI - LINGUA INGLESE
DESCRIPTION:Docente: VIRGILIO LAURA LETIZIA
URL:https://scuolaedilecremona.it/event/area-dei-linguaggi-lingua-inglese-28/
CATEGORIES:ANNO 2 OPERATORE EDILE - SECONDO ANNO 2024/2025
END:VEVENT
BEGIN:VEVENT
DTSTART;TZID=UTC:20241007T101500
DTEND;TZID=UTC:20241007T111500
DTSTAMP:20260420T051257
CREATED:20250307T043121Z
LAST-MODIFIED:20250307T043121Z
UID:167148-1728296100-1728299700@scuolaedilecremona.it
SUMMARY:AREA DEI LINGUAGGI - LINGUA ITALIANA
DESCRIPTION:Docente: UCCIARDO  CARMELO
URL:https://scuolaedilecremona.it/event/area-dei-linguaggi-lingua-italiana-95/
CATEGORIES:ANNO 1 OPERATORE EDILE - PRIMO ANNO CREMONA 2024/2025
END:VEVENT
BEGIN:VEVENT
DTSTART;TZID=UTC:20241007T081500
DTEND;TZID=UTC:20241007T133000
DTSTAMP:20260420T051257
CREATED:20250307T043844Z
LAST-MODIFIED:20250307T043844Z
UID:167515-1728288900-1728307800@scuolaedilecremona.it
SUMMARY:AREA DEI LINGUAGGI - LINGUA ITALIANA
DESCRIPTION:Docente: UCCIARDO  CARMELO
URL:https://scuolaedilecremona.it/event/area-dei-linguaggi-lingua-italiana-57/
CATEGORIES:ANNO 2 OPERATORE EDILE - SECONDO ANNO 2024/2025
END:VEVENT
BEGIN:VEVENT
DTSTART;TZID=UTC:20241007T081500
DTEND;TZID=UTC:20241007T101500
DTSTAMP:20260420T051257
CREATED:20250307T043120Z
LAST-MODIFIED:20250307T043120Z
UID:167147-1728288900-1728296100@scuolaedilecremona.it
SUMMARY:AREA DEI LINGUAGGI - LINGUA INGLESE
DESCRIPTION:Docente: VIRGILIO LAURA LETIZIA
URL:https://scuolaedilecremona.it/event/area-dei-linguaggi-lingua-inglese-41/
CATEGORIES:ANNO 1 OPERATORE EDILE - PRIMO ANNO CREMONA 2024/2025
END:VEVENT
BEGIN:VEVENT
DTSTART;TZID=UTC:20241007T080000
DTEND;TZID=UTC:20241007T160000
DTSTAMP:20260420T051257
CREATED:20250307T044821Z
LAST-MODIFIED:20250307T044821Z
UID:167991-1728288000-1728316800@scuolaedilecremona.it
SUMMARY:STAGE
DESCRIPTION:
URL:https://scuolaedilecremona.it/event/stage-3/
CATEGORIES:ANNO 3 OPERATORE EDILE - TERZO ANNO 2024/2025
END:VEVENT
BEGIN:VEVENT
DTSTART;TZID=UTC:20241004T113000
DTEND;TZID=UTC:20241004T133000
DTSTAMP:20260420T051257
CREATED:20250307T043843Z
LAST-MODIFIED:20250307T043843Z
UID:167514-1728041400-1728048600@scuolaedilecremona.it
SUMMARY:AREA DEI LINGUAGGI - LINGUA INGLESE
DESCRIPTION:Docente: VIRGILIO LAURA LETIZIA
URL:https://scuolaedilecremona.it/event/area-dei-linguaggi-lingua-inglese-27/
CATEGORIES:ANNO 2 OPERATORE EDILE - SECONDO ANNO 2024/2025
END:VEVENT
BEGIN:VEVENT
DTSTART;TZID=UTC:20241004T113000
DTEND;TZID=UTC:20241004T133000
DTSTAMP:20260420T051257
CREATED:20250307T043119Z
LAST-MODIFIED:20250307T043119Z
UID:167146-1728041400-1728048600@scuolaedilecremona.it
SUMMARY:Area personalizzazione - Laboratorio attivita espressivo motorie
DESCRIPTION:Docente: BODINI DAVIDE
URL:https://scuolaedilecremona.it/event/area-personalizzazione-laboratorio-attivita-espressivo-motorie-14/
CATEGORIES:ANNO 1 OPERATORE EDILE - PRIMO ANNO CREMONA 2024/2025
END:VEVENT
BEGIN:VEVENT
DTSTART;TZID=UTC:20241004T081500
DTEND;TZID=UTC:20241004T111500
DTSTAMP:20260420T051257
CREATED:20250307T043842Z
LAST-MODIFIED:20250307T043842Z
UID:167513-1728029700-1728040500@scuolaedilecremona.it
SUMMARY:Area personalizzazione - Laboratorio attivita espressivo motorie
DESCRIPTION:Docente: BODINI DAVIDE
URL:https://scuolaedilecremona.it/event/area-personalizzazione-laboratorio-attivita-espressivo-motorie-10/
CATEGORIES:ANNO 2 OPERATORE EDILE - SECONDO ANNO 2024/2025
END:VEVENT
BEGIN:VEVENT
DTSTART;TZID=UTC:20241004T081500
DTEND;TZID=UTC:20241004T111500
DTSTAMP:20260420T051257
CREATED:20250307T043118Z
LAST-MODIFIED:20250307T043118Z
UID:167145-1728029700-1728040500@scuolaedilecremona.it
SUMMARY:AREA DEI LINGUAGGI - LINGUA INGLESE
DESCRIPTION:Docente: VIRGILIO LAURA LETIZIA
URL:https://scuolaedilecremona.it/event/area-dei-linguaggi-lingua-inglese-40/
CATEGORIES:ANNO 1 OPERATORE EDILE - PRIMO ANNO CREMONA 2024/2025
END:VEVENT
BEGIN:VEVENT
DTSTART;TZID=UTC:20241004T080000
DTEND;TZID=UTC:20241004T160000
DTSTAMP:20260420T051257
CREATED:20250307T044820Z
LAST-MODIFIED:20250307T044820Z
UID:167990-1728028800-1728057600@scuolaedilecremona.it
SUMMARY:STAGE
DESCRIPTION:
URL:https://scuolaedilecremona.it/event/stage-2/
CATEGORIES:ANNO 3 OPERATORE EDILE - TERZO ANNO 2024/2025
END:VEVENT
BEGIN:VEVENT
DTSTART;TZID=UTC:20241003T081500
DTEND;TZID=UTC:20241003T133000
DTSTAMP:20260420T051257
CREATED:20250307T043841Z
LAST-MODIFIED:20250307T043841Z
UID:167512-1727943300-1727962200@scuolaedilecremona.it
SUMMARY:Area tecnico professionale - Laboratorio esercitazioni pratiche
DESCRIPTION:Docente: BRUNELLI ERNESTO
URL:https://scuolaedilecremona.it/event/area-tecnico-professionale-laboratorio-esercitazioni-pratiche-71/
CATEGORIES:ANNO 2 OPERATORE EDILE - SECONDO ANNO 2024/2025
END:VEVENT
BEGIN:VEVENT
DTSTART;TZID=UTC:20241003T081500
DTEND;TZID=UTC:20241003T133000
DTSTAMP:20260420T051257
CREATED:20250307T043117Z
LAST-MODIFIED:20250307T043117Z
UID:167144-1727943300-1727962200@scuolaedilecremona.it
SUMMARY:Area tecnico professionale - Laboratorio esercitazioni pratiche
DESCRIPTION:Docente: DOSSENA GHERARDO TITO
URL:https://scuolaedilecremona.it/event/area-tecnico-professionale-laboratorio-esercitazioni-pratiche-105/
CATEGORIES:ANNO 1 OPERATORE EDILE - PRIMO ANNO CREMONA 2024/2025
END:VEVENT
BEGIN:VEVENT
DTSTART;TZID=UTC:20241003T080000
DTEND;TZID=UTC:20241003T160000
DTSTAMP:20260420T051257
CREATED:20250307T044819Z
LAST-MODIFIED:20250307T044819Z
UID:167989-1727942400-1727971200@scuolaedilecremona.it
SUMMARY:STAGE
DESCRIPTION:
URL:https://scuolaedilecremona.it/event/stage/
CATEGORIES:ANNO 3 OPERATORE EDILE - TERZO ANNO 2024/2025
END:VEVENT
BEGIN:VEVENT
DTSTART;TZID=UTC:20241002T113000
DTEND;TZID=UTC:20241002T133000
DTSTAMP:20260420T051257
CREATED:20250307T043839Z
LAST-MODIFIED:20250307T043839Z
UID:167511-1727868600-1727875800@scuolaedilecremona.it
SUMMARY:Area scientifica - matematica e geometria
DESCRIPTION:Docente: BETTONI FABIO
URL:https://scuolaedilecremona.it/event/area-scientifica-matematica-e-geometria-40/
CATEGORIES:ANNO 2 OPERATORE EDILE - SECONDO ANNO 2024/2025
END:VEVENT
BEGIN:VEVENT
DTSTART;TZID=UTC:20241002T113000
DTEND;TZID=UTC:20241002T133000
DTSTAMP:20260420T051257
CREATED:20250307T043116Z
LAST-MODIFIED:20250307T043116Z
UID:167143-1727868600-1727875800@scuolaedilecremona.it
SUMMARY:Area scientifica - scienze
DESCRIPTION:Docente: TAINO CATERINA
URL:https://scuolaedilecremona.it/event/area-scientifica-scienze-22/
CATEGORIES:ANNO 1 OPERATORE EDILE - PRIMO ANNO CREMONA 2024/2025
END:VEVENT
END:VCALENDAR