BEGIN:VCALENDAR
VERSION:2.0
PRODID:-//Ente Scuola Edile Cremona - C.P.T. - ECPv6.15.18//NONSGML v1.0//EN
CALSCALE:GREGORIAN
METHOD:PUBLISH
X-ORIGINAL-URL:https://scuolaedilecremona.it
X-WR-CALDESC:Eventi per Ente Scuola Edile Cremona - C.P.T.
REFRESH-INTERVAL;VALUE=DURATION:PT1H
X-Robots-Tag:noindex
X-PUBLISHED-TTL:PT1H
BEGIN:VTIMEZONE
TZID:UTC
BEGIN:STANDARD
TZOFFSETFROM:+0000
TZOFFSETTO:+0000
TZNAME:UTC
DTSTART:20250101T000000
END:STANDARD
END:VTIMEZONE
BEGIN:VEVENT
DTSTART;TZID=UTC:20260302T080000
DTEND;TZID=UTC:20260302T160000
DTSTAMP:20260420T003327
CREATED:20250923T043434Z
LAST-MODIFIED:20250923T043434Z
UID:169339-1772438400-1772467200@scuolaedilecremona.it
SUMMARY:STAGE
DESCRIPTION:
URL:https://scuolaedilecremona.it/event/stage-200/
CATEGORIES:ANNO 2 OPERATORE EDILE - SECONDO ANNO 2025/2026
END:VEVENT
BEGIN:VEVENT
DTSTART;TZID=UTC:20260227T123000
DTEND;TZID=UTC:20260227T143000
DTSTAMP:20260420T003327
CREATED:20250925T043230Z
LAST-MODIFIED:20250925T043230Z
UID:169874-1772195400-1772202600@scuolaedilecremona.it
SUMMARY:Area scientifica - matematica e geometria
DESCRIPTION:Docente: BETTONI FABIO
URL:https://scuolaedilecremona.it/event/area-scientifica-matematica-e-geometria-185/
CATEGORIES:ANNO 3 OPERATORE EDILE - TERZO  ANNO 2025/2026 GOL
END:VEVENT
BEGIN:VEVENT
DTSTART;TZID=UTC:20260227T101500
DTEND;TZID=UTC:20260227T123000
DTSTAMP:20260420T003327
CREATED:20250925T043230Z
LAST-MODIFIED:20250925T043230Z
UID:169873-1772187300-1772195400@scuolaedilecremona.it
SUMMARY:Area tecnico professionale - Disegno tecnico
DESCRIPTION:Docente: SOFFIENTINI ROBERTO
URL:https://scuolaedilecremona.it/event/area-tecnico-professionale-disegno-tecnico-89/
CATEGORIES:ANNO 3 OPERATORE EDILE - TERZO  ANNO 2025/2026 GOL
END:VEVENT
BEGIN:VEVENT
DTSTART;TZID=UTC:20260227T081500
DTEND;TZID=UTC:20260227T143000
DTSTAMP:20260420T003327
CREATED:20260220T043002Z
LAST-MODIFIED:20260220T043002Z
UID:170249-1772180100-1772202600@scuolaedilecremona.it
SUMMARY:Area tecnico professionale - Laboratorio esercitazioni pratiche
DESCRIPTION:Docente: BRUNELLI ERNESTO
URL:https://scuolaedilecremona.it/event/area-tecnico-professionale-laboratorio-esercitazioni-pratiche-191/
CATEGORIES:ANNO 1 OPERATORE EDILE - PRIMO ANNO CREMONA 2025/2026
END:VEVENT
BEGIN:VEVENT
DTSTART;TZID=UTC:20260227T081500
DTEND;TZID=UTC:20260227T101500
DTSTAMP:20260420T003327
CREATED:20250925T043229Z
LAST-MODIFIED:20250925T043229Z
UID:169872-1772180100-1772187300@scuolaedilecremona.it
SUMMARY:Area storico-socio-economica - Elementi di economia
DESCRIPTION:Docente: ROSSI GIAMPIETRO
URL:https://scuolaedilecremona.it/event/area-storico-socio-economica-elementi-di-economia-68/
CATEGORIES:ANNO 3 OPERATORE EDILE - TERZO  ANNO 2025/2026 GOL
END:VEVENT
BEGIN:VEVENT
DTSTART;TZID=UTC:20260227T080000
DTEND;TZID=UTC:20260227T160000
DTSTAMP:20260420T003327
CREATED:20250923T043434Z
LAST-MODIFIED:20250923T043434Z
UID:169338-1772179200-1772208000@scuolaedilecremona.it
SUMMARY:STAGE
DESCRIPTION:
URL:https://scuolaedilecremona.it/event/stage-199/
CATEGORIES:ANNO 2 OPERATORE EDILE - SECONDO ANNO 2025/2026
END:VEVENT
BEGIN:VEVENT
DTSTART;TZID=UTC:20260226T123000
DTEND;TZID=UTC:20260226T143000
DTSTAMP:20260420T003327
CREATED:20250923T043223Z
LAST-MODIFIED:20250923T043223Z
UID:169001-1772109000-1772116200@scuolaedilecremona.it
SUMMARY:Area scientifica - matematica e geometria
DESCRIPTION:Docente: BETTONI FABIO
URL:https://scuolaedilecremona.it/event/area-scientifica-matematica-e-geometria-132/
CATEGORIES:ANNO 1 OPERATORE EDILE - PRIMO ANNO CREMONA 2025/2026
END:VEVENT
BEGIN:VEVENT
DTSTART;TZID=UTC:20260226T101500
DTEND;TZID=UTC:20260226T123000
DTSTAMP:20260420T003327
CREATED:20260213T043103Z
LAST-MODIFIED:20260213T043103Z
UID:170238-1772100900-1772109000@scuolaedilecremona.it
SUMMARY:Area tecnico professionale - Elementi di sicurezza sul lavoro
DESCRIPTION:Docente: SOFFIENTINI ROBERTO
URL:https://scuolaedilecremona.it/event/area-tecnico-professionale-elementi-di-sicurezza-sul-lavoro-75/
CATEGORIES:ANNO 1 OPERATORE EDILE - PRIMO ANNO CREMONA 2025/2026
END:VEVENT
BEGIN:VEVENT
DTSTART;TZID=UTC:20260226T091500
DTEND;TZID=UTC:20260226T101500
DTSTAMP:20260420T003327
CREATED:20260213T043103Z
LAST-MODIFIED:20260213T043103Z
UID:170237-1772097300-1772100900@scuolaedilecremona.it
SUMMARY:Religione Cattolica (IRC) / Attivita alternativa
DESCRIPTION:Docente: ROSSI GIAMPIETRO
URL:https://scuolaedilecremona.it/event/religione-cattolica-irc-attivita-alternativa-40/
CATEGORIES:ANNO 1 OPERATORE EDILE - PRIMO ANNO CREMONA 2025/2026
END:VEVENT
BEGIN:VEVENT
DTSTART;TZID=UTC:20260226T081500
DTEND;TZID=UTC:20260226T143000
DTSTAMP:20260420T003327
CREATED:20250925T043229Z
LAST-MODIFIED:20250925T043229Z
UID:169871-1772093700-1772116200@scuolaedilecremona.it
SUMMARY:Area tecnico professionale - Laboratorio esercitazioni pratiche
DESCRIPTION:Docente: BRUNELLI ERNESTO
URL:https://scuolaedilecremona.it/event/area-tecnico-professionale-laboratorio-esercitazioni-pratiche-245/
CATEGORIES:ANNO 3 OPERATORE EDILE - TERZO  ANNO 2025/2026 GOL
END:VEVENT
BEGIN:VEVENT
DTSTART;TZID=UTC:20260226T081500
DTEND;TZID=UTC:20260226T091500
DTSTAMP:20260420T003327
CREATED:20260213T043102Z
LAST-MODIFIED:20260213T043102Z
UID:170236-1772093700-1772097300@scuolaedilecremona.it
SUMMARY:Area storico-socio-economica - Elementi di economia
DESCRIPTION:Docente: ROSSI GIAMPIETRO
URL:https://scuolaedilecremona.it/event/area-storico-socio-economica-elementi-di-economia-35/
CATEGORIES:ANNO 1 OPERATORE EDILE - PRIMO ANNO CREMONA 2025/2026
END:VEVENT
BEGIN:VEVENT
DTSTART;TZID=UTC:20260226T080000
DTEND;TZID=UTC:20260226T160000
DTSTAMP:20260420T003327
CREATED:20250923T043433Z
LAST-MODIFIED:20250923T043433Z
UID:169337-1772092800-1772121600@scuolaedilecremona.it
SUMMARY:STAGE
DESCRIPTION:
URL:https://scuolaedilecremona.it/event/stage-198/
CATEGORIES:ANNO 2 OPERATORE EDILE - SECONDO ANNO 2025/2026
END:VEVENT
BEGIN:VEVENT
DTSTART;TZID=UTC:20260225T133000
DTEND;TZID=UTC:20260225T143000
DTSTAMP:20260420T003327
CREATED:20250925T043228Z
LAST-MODIFIED:20250925T043228Z
UID:169870-1772026200-1772029800@scuolaedilecremona.it
SUMMARY:Area storico-socio-economica - Elementi di diritto del lavoro
DESCRIPTION:Docente: BRUSCHI GIADA
URL:https://scuolaedilecremona.it/event/area-storico-socio-economica-elementi-di-diritto-del-lavoro-61/
CATEGORIES:ANNO 3 OPERATORE EDILE - TERZO  ANNO 2025/2026 GOL
END:VEVENT
BEGIN:VEVENT
DTSTART;TZID=UTC:20260225T133000
DTEND;TZID=UTC:20260225T143000
DTSTAMP:20260420T003327
CREATED:20250923T043221Z
LAST-MODIFIED:20250923T043221Z
UID:168997-1772026200-1772029800@scuolaedilecremona.it
SUMMARY:AREA DEI LINGUAGGI - LINGUA ITALIANA
DESCRIPTION:Docente: UCCIARDO  CARMELO
URL:https://scuolaedilecremona.it/event/area-dei-linguaggi-lingua-italiana-178/
CATEGORIES:ANNO 1 OPERATORE EDILE - PRIMO ANNO CREMONA 2025/2026
END:VEVENT
BEGIN:VEVENT
DTSTART;TZID=UTC:20260225T081500
DTEND;TZID=UTC:20260225T133000
DTSTAMP:20260420T003327
CREATED:20260224T043033Z
LAST-MODIFIED:20260224T043033Z
UID:170254-1772007300-1772026200@scuolaedilecremona.it
SUMMARY:Area tecnico professionale - Laboratorio esercitazioni pratiche
DESCRIPTION:Docente: BRUNELLI ERNESTO
URL:https://scuolaedilecremona.it/event/area-tecnico-professionale-laboratorio-esercitazioni-pratiche-264/
CATEGORIES:ANNO 3 OPERATORE EDILE - TERZO  ANNO 2025/2026 GOL
END:VEVENT
BEGIN:VEVENT
DTSTART;TZID=UTC:20260225T081500
DTEND;TZID=UTC:20260225T133000
DTSTAMP:20260420T003327
CREATED:20250923T043221Z
LAST-MODIFIED:20250923T043221Z
UID:168996-1772007300-1772026200@scuolaedilecremona.it
SUMMARY:Area personalizzazione - Orientamento e capacita personali
DESCRIPTION:Docente: BRUSCHI GIADA
URL:https://scuolaedilecremona.it/event/area-personalizzazione-orientamento-e-capacita-personali-51/
CATEGORIES:ANNO 1 OPERATORE EDILE - PRIMO ANNO CREMONA 2025/2026
END:VEVENT
BEGIN:VEVENT
DTSTART;TZID=UTC:20260225T080000
DTEND;TZID=UTC:20260225T160000
DTSTAMP:20260420T003327
CREATED:20250923T043433Z
LAST-MODIFIED:20250923T043433Z
UID:169336-1772006400-1772035200@scuolaedilecremona.it
SUMMARY:STAGE
DESCRIPTION:
URL:https://scuolaedilecremona.it/event/stage-197/
CATEGORIES:ANNO 2 OPERATORE EDILE - SECONDO ANNO 2025/2026
END:VEVENT
BEGIN:VEVENT
DTSTART;TZID=UTC:20260224T123000
DTEND;TZID=UTC:20260224T143000
DTSTAMP:20260420T003327
CREATED:20250925T043227Z
LAST-MODIFIED:20250925T043227Z
UID:169868-1771936200-1771943400@scuolaedilecremona.it
SUMMARY:Area scientifica - matematica e geometria
DESCRIPTION:Docente: BETTONI FABIO
URL:https://scuolaedilecremona.it/event/area-scientifica-matematica-e-geometria-184/
CATEGORIES:ANNO 3 OPERATORE EDILE - TERZO  ANNO 2025/2026 GOL
END:VEVENT
BEGIN:VEVENT
DTSTART;TZID=UTC:20260224T123000
DTEND;TZID=UTC:20260224T143000
DTSTAMP:20260420T003327
CREATED:20250923T043221Z
LAST-MODIFIED:20250923T043221Z
UID:168995-1771936200-1771943400@scuolaedilecremona.it
SUMMARY:AREA DEI LINGUAGGI - LINGUA ITALIANA
DESCRIPTION:Docente: UCCIARDO  CARMELO
URL:https://scuolaedilecremona.it/event/area-dei-linguaggi-lingua-italiana-177/
CATEGORIES:ANNO 1 OPERATORE EDILE - PRIMO ANNO CREMONA 2025/2026
END:VEVENT
BEGIN:VEVENT
DTSTART;TZID=UTC:20260224T101500
DTEND;TZID=UTC:20260224T123000
DTSTAMP:20260420T003327
CREATED:20260214T043018Z
LAST-MODIFIED:20260214T043018Z
UID:170245-1771928100-1771936200@scuolaedilecremona.it
SUMMARY:Area storico-socio-economica - Elementi di economia
DESCRIPTION:Docente: ROSSI GIAMPIETRO
URL:https://scuolaedilecremona.it/event/area-storico-socio-economica-elementi-di-economia-48/
CATEGORIES:ANNO 1 OPERATORE EDILE - PRIMO ANNO CREMONA 2025/2026
END:VEVENT
BEGIN:VEVENT
DTSTART;TZID=UTC:20260224T101500
DTEND;TZID=UTC:20260224T123000
DTSTAMP:20260420T003327
CREATED:20250925T043226Z
LAST-MODIFIED:20250925T043226Z
UID:169867-1771928100-1771936200@scuolaedilecremona.it
SUMMARY:Area tecnico professionale - Elementi di tecnologia edile
DESCRIPTION:Docente: BELLADELLI LEONARDO
URL:https://scuolaedilecremona.it/event/area-tecnico-professionale-elementi-di-tecnologia-edile-106/
CATEGORIES:ANNO 3 OPERATORE EDILE - TERZO  ANNO 2025/2026 GOL
END:VEVENT
BEGIN:VEVENT
DTSTART;TZID=UTC:20260224T081500
DTEND;TZID=UTC:20260224T101500
DTSTAMP:20260420T003327
CREATED:20260214T043019Z
LAST-MODIFIED:20260214T043019Z
UID:170246-1771920900-1771928100@scuolaedilecremona.it
SUMMARY:Area storico-socio-economica - Storia
DESCRIPTION:Docente: ROSSI GIAMPIETRO
URL:https://scuolaedilecremona.it/event/area-storico-socio-economica-storia-86/
CATEGORIES:ANNO 3 OPERATORE EDILE - TERZO  ANNO 2025/2026 GOL
END:VEVENT
BEGIN:VEVENT
DTSTART;TZID=UTC:20260224T081500
DTEND;TZID=UTC:20260224T101500
DTSTAMP:20260420T003327
CREATED:20250923T043220Z
LAST-MODIFIED:20250923T043220Z
UID:168993-1771920900-1771928100@scuolaedilecremona.it
SUMMARY:Area tecnico professionale - Elementi di tecnologia edile
DESCRIPTION:Docente: BELLADELLI LEONARDO
URL:https://scuolaedilecremona.it/event/area-tecnico-professionale-elementi-di-tecnologia-edile-75/
CATEGORIES:ANNO 1 OPERATORE EDILE - PRIMO ANNO CREMONA 2025/2026
END:VEVENT
BEGIN:VEVENT
DTSTART;TZID=UTC:20260224T080000
DTEND;TZID=UTC:20260224T160000
DTSTAMP:20260420T003327
CREATED:20250923T043432Z
LAST-MODIFIED:20250923T043432Z
UID:169335-1771920000-1771948800@scuolaedilecremona.it
SUMMARY:STAGE
DESCRIPTION:
URL:https://scuolaedilecremona.it/event/stage-196/
CATEGORIES:ANNO 2 OPERATORE EDILE - SECONDO ANNO 2025/2026
END:VEVENT
BEGIN:VEVENT
DTSTART;TZID=UTC:20260223T133000
DTEND;TZID=UTC:20260223T143000
DTSTAMP:20260420T003327
CREATED:20250925T043225Z
LAST-MODIFIED:20250925T043225Z
UID:169865-1771853400-1771857000@scuolaedilecremona.it
SUMMARY:Area scientifica - matematica e geometria
DESCRIPTION:Docente: BETTONI FABIO
URL:https://scuolaedilecremona.it/event/area-scientifica-matematica-e-geometria-183/
CATEGORIES:ANNO 3 OPERATORE EDILE - TERZO  ANNO 2025/2026 GOL
END:VEVENT
BEGIN:VEVENT
DTSTART;TZID=UTC:20260223T133000
DTEND;TZID=UTC:20260223T143000
DTSTAMP:20260420T003327
CREATED:20250923T043220Z
LAST-MODIFIED:20250923T043220Z
UID:168992-1771853400-1771857000@scuolaedilecremona.it
SUMMARY:AREA DEI LINGUAGGI - LINGUA ITALIANA
DESCRIPTION:Docente: UCCIARDO  CARMELO
URL:https://scuolaedilecremona.it/event/area-dei-linguaggi-lingua-italiana-176/
CATEGORIES:ANNO 1 OPERATORE EDILE - PRIMO ANNO CREMONA 2025/2026
END:VEVENT
BEGIN:VEVENT
DTSTART;TZID=UTC:20260223T123000
DTEND;TZID=UTC:20260223T133000
DTSTAMP:20260420T003327
CREATED:20250923T043219Z
LAST-MODIFIED:20250923T043219Z
UID:168991-1771849800-1771853400@scuolaedilecremona.it
SUMMARY:Area scientifica - matematica e geometria
DESCRIPTION:Docente: BETTONI FABIO
URL:https://scuolaedilecremona.it/event/area-scientifica-matematica-e-geometria-131/
CATEGORIES:ANNO 1 OPERATORE EDILE - PRIMO ANNO CREMONA 2025/2026
END:VEVENT
BEGIN:VEVENT
DTSTART;TZID=UTC:20260223T101500
DTEND;TZID=UTC:20260223T133000
DTSTAMP:20260420T003327
CREATED:20250925T043224Z
LAST-MODIFIED:20250925T043224Z
UID:169864-1771841700-1771853400@scuolaedilecremona.it
SUMMARY:AREA DEI LINGUAGGI - LINGUA INGLESE
DESCRIPTION:Docente: VIRGILIO LAURA LETIZIA
URL:https://scuolaedilecremona.it/event/area-dei-linguaggi-lingua-inglese-102/
CATEGORIES:ANNO 3 OPERATORE EDILE - TERZO  ANNO 2025/2026 GOL
END:VEVENT
BEGIN:VEVENT
DTSTART;TZID=UTC:20260223T101500
DTEND;TZID=UTC:20260223T123000
DTSTAMP:20260420T003327
CREATED:20250923T043219Z
LAST-MODIFIED:20250923T043219Z
UID:168990-1771841700-1771849800@scuolaedilecremona.it
SUMMARY:Area tecnologica - informatica
DESCRIPTION:Docente: BILLA CHIARA
URL:https://scuolaedilecremona.it/event/area-tecnologica-informatica-43/
CATEGORIES:ANNO 1 OPERATORE EDILE - PRIMO ANNO CREMONA 2025/2026
END:VEVENT
BEGIN:VEVENT
DTSTART;TZID=UTC:20260223T081500
DTEND;TZID=UTC:20260223T101500
DTSTAMP:20260420T003327
CREATED:20250925T043224Z
LAST-MODIFIED:20250925T043224Z
UID:169863-1771834500-1771841700@scuolaedilecremona.it
SUMMARY:Area tecnologica - informatica
DESCRIPTION:Docente: BILLA CHIARA
URL:https://scuolaedilecremona.it/event/area-tecnologica-informatica-66/
CATEGORIES:ANNO 3 OPERATORE EDILE - TERZO  ANNO 2025/2026 GOL
END:VEVENT
END:VCALENDAR