BEGIN:VCALENDAR
VERSION:2.0
PRODID:-//Ente Scuola Edile Cremona - C.P.T. - ECPv6.15.18//NONSGML v1.0//EN
CALSCALE:GREGORIAN
METHOD:PUBLISH
X-ORIGINAL-URL:https://scuolaedilecremona.it
X-WR-CALDESC:Eventi per Ente Scuola Edile Cremona - C.P.T.
REFRESH-INTERVAL;VALUE=DURATION:PT1H
X-Robots-Tag:noindex
X-PUBLISHED-TTL:PT1H
BEGIN:VTIMEZONE
TZID:UTC
BEGIN:STANDARD
TZOFFSETFROM:+0000
TZOFFSETTO:+0000
TZNAME:UTC
DTSTART:20250101T000000
END:STANDARD
END:VTIMEZONE
BEGIN:VEVENT
DTSTART;TZID=UTC:20260202T133000
DTEND;TZID=UTC:20260202T143000
DTSTAMP:20260421T025751
CREATED:20250925T043200Z
LAST-MODIFIED:20250925T043200Z
UID:169824-1770039000-1770042600@scuolaedilecremona.it
SUMMARY:Area scientifica - matematica e geometria
DESCRIPTION:Docente: BETTONI FABIO
URL:https://scuolaedilecremona.it/event/area-scientifica-matematica-e-geometria-177/
CATEGORIES:ANNO 3 OPERATORE EDILE - TERZO  ANNO 2025/2026 GOL
END:VEVENT
BEGIN:VEVENT
DTSTART;TZID=UTC:20260203T080000
DTEND;TZID=UTC:20260203T160000
DTSTAMP:20260421T025751
CREATED:20250923T043427Z
LAST-MODIFIED:20250923T043427Z
UID:169322-1770105600-1770134400@scuolaedilecremona.it
SUMMARY:STAGE
DESCRIPTION:
URL:https://scuolaedilecremona.it/event/stage-183/
CATEGORIES:ANNO 2 OPERATORE EDILE - SECONDO ANNO 2025/2026
END:VEVENT
BEGIN:VEVENT
DTSTART;TZID=UTC:20260203T081500
DTEND;TZID=UTC:20260203T101500
DTSTAMP:20260421T025751
CREATED:20250923T043205Z
LAST-MODIFIED:20250923T043205Z
UID:168954-1770106500-1770113700@scuolaedilecremona.it
SUMMARY:Area tecnico professionale - Elementi di tecnologia edile
DESCRIPTION:Docente: BELLADELLI LEONARDO
URL:https://scuolaedilecremona.it/event/area-tecnico-professionale-elementi-di-tecnologia-edile-73/
CATEGORIES:ANNO 1 OPERATORE EDILE - PRIMO ANNO CREMONA 2025/2026
END:VEVENT
BEGIN:VEVENT
DTSTART;TZID=UTC:20260203T081500
DTEND;TZID=UTC:20260203T101500
DTSTAMP:20260421T025751
CREATED:20250925T043201Z
LAST-MODIFIED:20250925T043201Z
UID:169825-1770106500-1770113700@scuolaedilecremona.it
SUMMARY:Area scientifica - scienze
DESCRIPTION:Docente: TAINO CATERINA
URL:https://scuolaedilecremona.it/event/area-scientifica-scienze-65/
CATEGORIES:ANNO 3 OPERATORE EDILE - TERZO  ANNO 2025/2026 GOL
END:VEVENT
BEGIN:VEVENT
DTSTART;TZID=UTC:20260203T101500
DTEND;TZID=UTC:20260203T123000
DTSTAMP:20260421T025751
CREATED:20250923T043206Z
LAST-MODIFIED:20250923T043206Z
UID:168955-1770113700-1770121800@scuolaedilecremona.it
SUMMARY:Area scientifica - scienze
DESCRIPTION:Docente: TAINO CATERINA
URL:https://scuolaedilecremona.it/event/area-scientifica-scienze-45/
CATEGORIES:ANNO 1 OPERATORE EDILE - PRIMO ANNO CREMONA 2025/2026
END:VEVENT
BEGIN:VEVENT
DTSTART;TZID=UTC:20260203T101500
DTEND;TZID=UTC:20260203T123000
DTSTAMP:20260421T025751
CREATED:20250925T043201Z
LAST-MODIFIED:20250925T043201Z
UID:169826-1770113700-1770121800@scuolaedilecremona.it
SUMMARY:Area tecnico professionale - Elementi di tecnologia edile
DESCRIPTION:Docente: BELLADELLI LEONARDO
URL:https://scuolaedilecremona.it/event/area-tecnico-professionale-elementi-di-tecnologia-edile-104/
CATEGORIES:ANNO 3 OPERATORE EDILE - TERZO  ANNO 2025/2026 GOL
END:VEVENT
BEGIN:VEVENT
DTSTART;TZID=UTC:20260203T123000
DTEND;TZID=UTC:20260203T133000
DTSTAMP:20260421T025751
CREATED:20250925T043202Z
LAST-MODIFIED:20250925T043202Z
UID:169827-1770121800-1770125400@scuolaedilecremona.it
SUMMARY:Area storico-socio-economica - Storia
DESCRIPTION:Docente: ROSSI GIAMPIETRO
URL:https://scuolaedilecremona.it/event/area-storico-socio-economica-storia-72/
CATEGORIES:ANNO 3 OPERATORE EDILE - TERZO  ANNO 2025/2026 GOL
END:VEVENT
BEGIN:VEVENT
DTSTART;TZID=UTC:20260203T123000
DTEND;TZID=UTC:20260203T143000
DTSTAMP:20260421T025751
CREATED:20250923T043206Z
LAST-MODIFIED:20250923T043206Z
UID:168956-1770121800-1770129000@scuolaedilecremona.it
SUMMARY:AREA DEI LINGUAGGI - LINGUA ITALIANA
DESCRIPTION:Docente: UCCIARDO  CARMELO
URL:https://scuolaedilecremona.it/event/area-dei-linguaggi-lingua-italiana-172/
CATEGORIES:ANNO 1 OPERATORE EDILE - PRIMO ANNO CREMONA 2025/2026
END:VEVENT
BEGIN:VEVENT
DTSTART;TZID=UTC:20260203T133000
DTEND;TZID=UTC:20260203T143000
DTSTAMP:20260421T025751
CREATED:20250925T043203Z
LAST-MODIFIED:20250925T043203Z
UID:169828-1770125400-1770129000@scuolaedilecremona.it
SUMMARY:Area storico-socio-economica - Geografia
DESCRIPTION:Docente: ROSSI GIAMPIETRO
URL:https://scuolaedilecremona.it/event/area-storico-socio-economica-geografia-72/
CATEGORIES:ANNO 3 OPERATORE EDILE - TERZO  ANNO 2025/2026 GOL
END:VEVENT
BEGIN:VEVENT
DTSTART;TZID=UTC:20260204T080000
DTEND;TZID=UTC:20260204T160000
DTSTAMP:20260421T025751
CREATED:20250923T043427Z
LAST-MODIFIED:20250923T043427Z
UID:169323-1770192000-1770220800@scuolaedilecremona.it
SUMMARY:STAGE
DESCRIPTION:
URL:https://scuolaedilecremona.it/event/stage-184/
CATEGORIES:ANNO 2 OPERATORE EDILE - SECONDO ANNO 2025/2026
END:VEVENT
BEGIN:VEVENT
DTSTART;TZID=UTC:20260204T081500
DTEND;TZID=UTC:20260204T123000
DTSTAMP:20260421T025751
CREATED:20250925T043203Z
LAST-MODIFIED:20250925T043203Z
UID:169829-1770192900-1770208200@scuolaedilecremona.it
SUMMARY:AREA DEI LINGUAGGI - LINGUA ITALIANA
DESCRIPTION:Docente: SPERNAZZATI EMANUELA
URL:https://scuolaedilecremona.it/event/area-dei-linguaggi-lingua-italiana-242/
CATEGORIES:ANNO 3 OPERATORE EDILE - TERZO  ANNO 2025/2026 GOL
END:VEVENT
BEGIN:VEVENT
DTSTART;TZID=UTC:20260204T081500
DTEND;TZID=UTC:20260204T123000
DTSTAMP:20260421T025751
CREATED:20251030T043010Z
LAST-MODIFIED:20251030T043010Z
UID:170066-1770192900-1770208200@scuolaedilecremona.it
SUMMARY:Area tecnico professionale - Elementi di tecnologia edile
DESCRIPTION:Docente: BELLADELLI LEONARDO
URL:https://scuolaedilecremona.it/event/area-tecnico-professionale-elementi-di-tecnologia-edile-115/
CATEGORIES:ANNO 1 OPERATORE EDILE - PRIMO ANNO CREMONA 2025/2026
END:VEVENT
BEGIN:VEVENT
DTSTART;TZID=UTC:20260204T123000
DTEND;TZID=UTC:20260204T133000
DTSTAMP:20260421T025751
CREATED:20250923T043207Z
LAST-MODIFIED:20250923T043207Z
UID:168959-1770208200-1770211800@scuolaedilecremona.it
SUMMARY:Area storico-socio-economica - Storia
DESCRIPTION:Docente: ROSSI GIAMPIETRO
URL:https://scuolaedilecremona.it/event/area-storico-socio-economica-storia-55/
CATEGORIES:ANNO 1 OPERATORE EDILE - PRIMO ANNO CREMONA 2025/2026
END:VEVENT
BEGIN:VEVENT
DTSTART;TZID=UTC:20260204T123000
DTEND;TZID=UTC:20260204T143000
DTSTAMP:20260421T025751
CREATED:20251030T043022Z
LAST-MODIFIED:20251030T043022Z
UID:170081-1770208200-1770215400@scuolaedilecremona.it
SUMMARY:Area tecnico professionale - Elementi di tecnologia edile
DESCRIPTION:Docente: BELLADELLI LEONARDO
URL:https://scuolaedilecremona.it/event/area-tecnico-professionale-elementi-di-tecnologia-edile-81/
CATEGORIES:ANNO 3 OPERATORE EDILE - TERZO  ANNO 2025/2026 GOL
END:VEVENT
BEGIN:VEVENT
DTSTART;TZID=UTC:20260204T133000
DTEND;TZID=UTC:20260204T143000
DTSTAMP:20260421T025751
CREATED:20250923T043208Z
LAST-MODIFIED:20250923T043208Z
UID:168960-1770211800-1770215400@scuolaedilecremona.it
SUMMARY:Area storico-socio-economica - Geografia
DESCRIPTION:Docente: ROSSI GIAMPIETRO
URL:https://scuolaedilecremona.it/event/area-storico-socio-economica-geografia-54/
CATEGORIES:ANNO 1 OPERATORE EDILE - PRIMO ANNO CREMONA 2025/2026
END:VEVENT
BEGIN:VEVENT
DTSTART;TZID=UTC:20260205T080000
DTEND;TZID=UTC:20260205T160000
DTSTAMP:20260421T025751
CREATED:20250923T043428Z
LAST-MODIFIED:20250923T043428Z
UID:169324-1770278400-1770307200@scuolaedilecremona.it
SUMMARY:STAGE
DESCRIPTION:
URL:https://scuolaedilecremona.it/event/stage-185/
CATEGORIES:ANNO 2 OPERATORE EDILE - SECONDO ANNO 2025/2026
END:VEVENT
BEGIN:VEVENT
DTSTART;TZID=UTC:20260205T081500
DTEND;TZID=UTC:20260205T101500
DTSTAMP:20260421T025751
CREATED:20250923T043208Z
LAST-MODIFIED:20250923T043208Z
UID:168961-1770279300-1770286500@scuolaedilecremona.it
SUMMARY:Area tecnico professionale - Disegno tecnico
DESCRIPTION:Docente: SOFFIENTINI ROBERTO
URL:https://scuolaedilecremona.it/event/area-tecnico-professionale-disegno-tecnico-66/
CATEGORIES:ANNO 1 OPERATORE EDILE - PRIMO ANNO CREMONA 2025/2026
END:VEVENT
BEGIN:VEVENT
DTSTART;TZID=UTC:20260205T081500
DTEND;TZID=UTC:20260205T143000
DTSTAMP:20260421T025751
CREATED:20250925T043205Z
LAST-MODIFIED:20250925T043205Z
UID:169832-1770279300-1770301800@scuolaedilecremona.it
SUMMARY:Area tecnico professionale - Laboratorio esercitazioni pratiche
DESCRIPTION:Docente: BRUNELLI ERNESTO
URL:https://scuolaedilecremona.it/event/area-tecnico-professionale-laboratorio-esercitazioni-pratiche-243/
CATEGORIES:ANNO 3 OPERATORE EDILE - TERZO  ANNO 2025/2026 GOL
END:VEVENT
BEGIN:VEVENT
DTSTART;TZID=UTC:20260205T101500
DTEND;TZID=UTC:20260205T111500
DTSTAMP:20260421T025751
CREATED:20250923T043209Z
LAST-MODIFIED:20250923T043209Z
UID:168962-1770286500-1770290100@scuolaedilecremona.it
SUMMARY:Area storico-socio-economica - Elementi di economia
DESCRIPTION:Docente: ROSSI GIAMPIETRO
URL:https://scuolaedilecremona.it/event/area-storico-socio-economica-elementi-di-economia-45/
CATEGORIES:ANNO 1 OPERATORE EDILE - PRIMO ANNO CREMONA 2025/2026
END:VEVENT
BEGIN:VEVENT
DTSTART;TZID=UTC:20260205T113000
DTEND;TZID=UTC:20260205T123000
DTSTAMP:20260421T025751
CREATED:20250923T043209Z
LAST-MODIFIED:20250923T043209Z
UID:168963-1770291000-1770294600@scuolaedilecremona.it
SUMMARY:Religione Cattolica (IRC) / Attivita alternativa
DESCRIPTION:Docente: ROSSI GIAMPIETRO
URL:https://scuolaedilecremona.it/event/religione-cattolica-irc-attivita-alternativa-51/
CATEGORIES:ANNO 1 OPERATORE EDILE - PRIMO ANNO CREMONA 2025/2026
END:VEVENT
BEGIN:VEVENT
DTSTART;TZID=UTC:20260205T123000
DTEND;TZID=UTC:20260205T143000
DTSTAMP:20260421T025751
CREATED:20250923T043209Z
LAST-MODIFIED:20250923T043209Z
UID:168964-1770294600-1770301800@scuolaedilecremona.it
SUMMARY:Area scientifica - matematica e geometria
DESCRIPTION:Docente: BETTONI FABIO
URL:https://scuolaedilecremona.it/event/area-scientifica-matematica-e-geometria-128/
CATEGORIES:ANNO 1 OPERATORE EDILE - PRIMO ANNO CREMONA 2025/2026
END:VEVENT
BEGIN:VEVENT
DTSTART;TZID=UTC:20260206T080000
DTEND;TZID=UTC:20260206T160000
DTSTAMP:20260421T025751
CREATED:20250923T043428Z
LAST-MODIFIED:20250923T043428Z
UID:169325-1770364800-1770393600@scuolaedilecremona.it
SUMMARY:STAGE
DESCRIPTION:
URL:https://scuolaedilecremona.it/event/stage-186/
CATEGORIES:ANNO 2 OPERATORE EDILE - SECONDO ANNO 2025/2026
END:VEVENT
BEGIN:VEVENT
DTSTART;TZID=UTC:20260206T081500
DTEND;TZID=UTC:20260206T091500
DTSTAMP:20260421T025751
CREATED:20250925T043206Z
LAST-MODIFIED:20250925T043206Z
UID:169833-1770365700-1770369300@scuolaedilecremona.it
SUMMARY:Area storico-socio-economica - Storia
DESCRIPTION:Docente: ROSSI GIAMPIETRO
URL:https://scuolaedilecremona.it/event/area-storico-socio-economica-storia-73/
CATEGORIES:ANNO 3 OPERATORE EDILE - TERZO  ANNO 2025/2026 GOL
END:VEVENT
BEGIN:VEVENT
DTSTART;TZID=UTC:20260206T081500
DTEND;TZID=UTC:20260206T143000
DTSTAMP:20260421T025751
CREATED:20250923T043210Z
LAST-MODIFIED:20250923T043210Z
UID:168965-1770365700-1770388200@scuolaedilecremona.it
SUMMARY:Area tecnico professionale - Laboratorio esercitazioni pratiche
DESCRIPTION:Docente: DOSSENA GHERARDO TITO
URL:https://scuolaedilecremona.it/event/area-tecnico-professionale-laboratorio-esercitazioni-pratiche-188/
CATEGORIES:ANNO 1 OPERATORE EDILE - PRIMO ANNO CREMONA 2025/2026
END:VEVENT
BEGIN:VEVENT
DTSTART;TZID=UTC:20260206T091500
DTEND;TZID=UTC:20260206T101500
DTSTAMP:20260421T025751
CREATED:20250925T043206Z
LAST-MODIFIED:20250925T043206Z
UID:169834-1770369300-1770372900@scuolaedilecremona.it
SUMMARY:Area storico-socio-economica - Geografia
DESCRIPTION:Docente: ROSSI GIAMPIETRO
URL:https://scuolaedilecremona.it/event/area-storico-socio-economica-geografia-73/
CATEGORIES:ANNO 3 OPERATORE EDILE - TERZO  ANNO 2025/2026 GOL
END:VEVENT
BEGIN:VEVENT
DTSTART;TZID=UTC:20260206T101500
DTEND;TZID=UTC:20260206T123000
DTSTAMP:20260421T025751
CREATED:20250925T043207Z
LAST-MODIFIED:20250925T043207Z
UID:169835-1770372900-1770381000@scuolaedilecremona.it
SUMMARY:Area tecnico professionale - Elementi di sicurezza sul lavoro
DESCRIPTION:Docente: SOFFIENTINI ROBERTO
URL:https://scuolaedilecremona.it/event/area-tecnico-professionale-elementi-di-sicurezza-sul-lavoro-96/
CATEGORIES:ANNO 3 OPERATORE EDILE - TERZO  ANNO 2025/2026 GOL
END:VEVENT
BEGIN:VEVENT
DTSTART;TZID=UTC:20260206T123000
DTEND;TZID=UTC:20260206T143000
DTSTAMP:20260421T025751
CREATED:20250925T043208Z
LAST-MODIFIED:20250925T043208Z
UID:169836-1770381000-1770388200@scuolaedilecremona.it
SUMMARY:Area scientifica - matematica e geometria
DESCRIPTION:Docente: BETTONI FABIO
URL:https://scuolaedilecremona.it/event/area-scientifica-matematica-e-geometria-178/
CATEGORIES:ANNO 3 OPERATORE EDILE - TERZO  ANNO 2025/2026 GOL
END:VEVENT
BEGIN:VEVENT
DTSTART;TZID=UTC:20260209T080000
DTEND;TZID=UTC:20260209T160000
DTSTAMP:20260421T025751
CREATED:20250923T043429Z
LAST-MODIFIED:20250923T043429Z
UID:169326-1770624000-1770652800@scuolaedilecremona.it
SUMMARY:STAGE
DESCRIPTION:
URL:https://scuolaedilecremona.it/event/stage-187/
CATEGORIES:ANNO 2 OPERATORE EDILE - SECONDO ANNO 2025/2026
END:VEVENT
BEGIN:VEVENT
DTSTART;TZID=UTC:20260209T081500
DTEND;TZID=UTC:20260209T101500
DTSTAMP:20260421T025751
CREATED:20250923T043210Z
LAST-MODIFIED:20250923T043210Z
UID:168966-1770624900-1770632100@scuolaedilecremona.it
SUMMARY:AREA DEI LINGUAGGI - LINGUA INGLESE
DESCRIPTION:Docente: VIRGILIO LAURA LETIZIA
URL:https://scuolaedilecremona.it/event/area-dei-linguaggi-lingua-inglese-71/
CATEGORIES:ANNO 1 OPERATORE EDILE - PRIMO ANNO CREMONA 2025/2026
END:VEVENT
BEGIN:VEVENT
DTSTART;TZID=UTC:20260209T081500
DTEND;TZID=UTC:20260209T101500
DTSTAMP:20260421T025751
CREATED:20250925T043208Z
LAST-MODIFIED:20250925T043208Z
UID:169837-1770624900-1770632100@scuolaedilecremona.it
SUMMARY:Area tecnologica - informatica
DESCRIPTION:Docente: BILLA CHIARA
URL:https://scuolaedilecremona.it/event/area-tecnologica-informatica-65/
CATEGORIES:ANNO 3 OPERATORE EDILE - TERZO  ANNO 2025/2026 GOL
END:VEVENT
END:VCALENDAR