BEGIN:VCALENDAR
VERSION:2.0
PRODID:-//Ente Scuola Edile Cremona - C.P.T. - ECPv6.15.18//NONSGML v1.0//EN
CALSCALE:GREGORIAN
METHOD:PUBLISH
X-ORIGINAL-URL:https://scuolaedilecremona.it
X-WR-CALDESC:Eventi per Ente Scuola Edile Cremona - C.P.T.
REFRESH-INTERVAL;VALUE=DURATION:PT1H
X-Robots-Tag:noindex
X-PUBLISHED-TTL:PT1H
BEGIN:VTIMEZONE
TZID:UTC
BEGIN:STANDARD
TZOFFSETFROM:+0000
TZOFFSETTO:+0000
TZNAME:UTC
DTSTART:20240101T000000
END:STANDARD
END:VTIMEZONE
BEGIN:VEVENT
DTSTART;TZID=UTC:20251103T080000
DTEND;TZID=UTC:20251103T160000
DTSTAMP:20260420T012510
CREATED:20250925T043116Z
LAST-MODIFIED:20250925T043116Z
UID:169751-1762156800-1762185600@scuolaedilecremona.it
SUMMARY:STAGE
DESCRIPTION:
URL:https://scuolaedilecremona.it/event/stage-250/
CATEGORIES:ANNO 3 OPERATORE EDILE - TERZO  ANNO 2025/2026 GOL
END:VEVENT
BEGIN:VEVENT
DTSTART;TZID=UTC:20251103T081500
DTEND;TZID=UTC:20251103T101500
DTSTAMP:20260420T012510
CREATED:20250923T043332Z
LAST-MODIFIED:20250923T043332Z
UID:169181-1762157700-1762164900@scuolaedilecremona.it
SUMMARY:Area tecnologica - informatica
DESCRIPTION:Docente: BILLA CHIARA
URL:https://scuolaedilecremona.it/event/area-tecnologica-informatica-56/
CATEGORIES:ANNO 2 OPERATORE EDILE - SECONDO ANNO 2025/2026
END:VEVENT
BEGIN:VEVENT
DTSTART;TZID=UTC:20251103T081500
DTEND;TZID=UTC:20251103T101500
DTSTAMP:20260420T012510
CREATED:20251120T043005Z
LAST-MODIFIED:20251120T043005Z
UID:170116-1762157700-1762164900@scuolaedilecremona.it
SUMMARY:AREA DEI LINGUAGGI - LINGUA ITALIANA
DESCRIPTION:Docente: UCCIARDO  CARMELO
URL:https://scuolaedilecremona.it/event/area-dei-linguaggi-lingua-italiana-149/
CATEGORIES:ANNO 1 OPERATORE EDILE - PRIMO ANNO CREMONA 2025/2026
END:VEVENT
BEGIN:VEVENT
DTSTART;TZID=UTC:20251103T101500
DTEND;TZID=UTC:20251103T111500
DTSTAMP:20260420T012510
CREATED:20251120T043006Z
LAST-MODIFIED:20251120T043006Z
UID:170117-1762164900-1762168500@scuolaedilecremona.it
SUMMARY:Area scientifica - scienze
DESCRIPTION:Docente: TAINO CATERINA
URL:https://scuolaedilecremona.it/event/area-scientifica-scienze-71/
CATEGORIES:ANNO 2 OPERATORE EDILE - SECONDO ANNO 2025/2026
END:VEVENT
BEGIN:VEVENT
DTSTART;TZID=UTC:20251103T101500
DTEND;TZID=UTC:20251103T123000
DTSTAMP:20260420T012510
CREATED:20251031T043046Z
LAST-MODIFIED:20251031T043046Z
UID:170090-1762164900-1762173000@scuolaedilecremona.it
SUMMARY:Area tecnico professionale - Disegno tecnico
DESCRIPTION:Docente: SOFFIENTINI ROBERTO
URL:https://scuolaedilecremona.it/event/area-tecnico-professionale-disegno-tecnico-74/
CATEGORIES:ANNO 1 OPERATORE EDILE - PRIMO ANNO CREMONA 2025/2026
END:VEVENT
BEGIN:VEVENT
DTSTART;TZID=UTC:20251103T113000
DTEND;TZID=UTC:20251103T123000
DTSTAMP:20260420T012510
CREATED:20251120T043007Z
LAST-MODIFIED:20251120T043007Z
UID:170118-1762169400-1762173000@scuolaedilecremona.it
SUMMARY:Area storico-socio-economica - Geografia
DESCRIPTION:Docente: ROSSI GIAMPIETRO
URL:https://scuolaedilecremona.it/event/area-storico-socio-economica-geografia-84/
CATEGORIES:ANNO 2 OPERATORE EDILE - SECONDO ANNO 2025/2026
END:VEVENT
BEGIN:VEVENT
DTSTART;TZID=UTC:20251103T123000
DTEND;TZID=UTC:20251103T133000
DTSTAMP:20260420T012510
CREATED:20251120T043008Z
LAST-MODIFIED:20251120T043008Z
UID:170119-1762173000-1762176600@scuolaedilecremona.it
SUMMARY:Area storico-socio-economica - Storia
DESCRIPTION:Docente: ROSSI GIAMPIETRO
URL:https://scuolaedilecremona.it/event/area-storico-socio-economica-storia-64/
CATEGORIES:ANNO 2 OPERATORE EDILE - SECONDO ANNO 2025/2026
END:VEVENT
BEGIN:VEVENT
DTSTART;TZID=UTC:20251103T123000
DTEND;TZID=UTC:20251103T143000
DTSTAMP:20260420T012510
CREATED:20250923T043108Z
LAST-MODIFIED:20250923T043108Z
UID:168801-1762173000-1762180200@scuolaedilecremona.it
SUMMARY:Area scientifica - matematica e geometria
DESCRIPTION:Docente: BETTONI FABIO
URL:https://scuolaedilecremona.it/event/area-scientifica-matematica-e-geometria-109/
CATEGORIES:ANNO 1 OPERATORE EDILE - PRIMO ANNO CREMONA 2025/2026
END:VEVENT
BEGIN:VEVENT
DTSTART;TZID=UTC:20251103T133000
DTEND;TZID=UTC:20251103T143000
DTSTAMP:20260420T012510
CREATED:20250923T043333Z
LAST-MODIFIED:20250923T043333Z
UID:169183-1762176600-1762180200@scuolaedilecremona.it
SUMMARY:AREA DEI LINGUAGGI - LINGUA ITALIANA
DESCRIPTION:Docente: UCCIARDO  CARMELO
URL:https://scuolaedilecremona.it/event/area-dei-linguaggi-lingua-italiana-207/
CATEGORIES:ANNO 2 OPERATORE EDILE - SECONDO ANNO 2025/2026
END:VEVENT
BEGIN:VEVENT
DTSTART;TZID=UTC:20251104T080000
DTEND;TZID=UTC:20251104T160000
DTSTAMP:20260420T012510
CREATED:20250925T043116Z
LAST-MODIFIED:20250925T043116Z
UID:169752-1762243200-1762272000@scuolaedilecremona.it
SUMMARY:STAGE
DESCRIPTION:
URL:https://scuolaedilecremona.it/event/stage-251/
CATEGORIES:ANNO 3 OPERATORE EDILE - TERZO  ANNO 2025/2026 GOL
END:VEVENT
BEGIN:VEVENT
DTSTART;TZID=UTC:20251104T081500
DTEND;TZID=UTC:20251104T091500
DTSTAMP:20260420T012510
CREATED:20251025T043013Z
LAST-MODIFIED:20251025T043013Z
UID:170059-1762244100-1762247700@scuolaedilecremona.it
SUMMARY:Area storico-socio-economica - Geografia
DESCRIPTION:Docente: ROSSI GIAMPIETRO
URL:https://scuolaedilecremona.it/event/area-storico-socio-economica-geografia-60/
CATEGORIES:ANNO 2 OPERATORE EDILE - SECONDO ANNO 2025/2026
END:VEVENT
BEGIN:VEVENT
DTSTART;TZID=UTC:20251104T081500
DTEND;TZID=UTC:20251104T101500
DTSTAMP:20260420T012510
CREATED:20250923T043109Z
LAST-MODIFIED:20250923T043109Z
UID:168802-1762244100-1762251300@scuolaedilecremona.it
SUMMARY:Area tecnico professionale - Elementi di tecnologia edile
DESCRIPTION:Docente: BELLADELLI LEONARDO
URL:https://scuolaedilecremona.it/event/area-tecnico-professionale-elementi-di-tecnologia-edile-62/
CATEGORIES:ANNO 1 OPERATORE EDILE - PRIMO ANNO CREMONA 2025/2026
END:VEVENT
BEGIN:VEVENT
DTSTART;TZID=UTC:20251104T091500
DTEND;TZID=UTC:20251104T101500
DTSTAMP:20260420T012510
CREATED:20251025T043014Z
LAST-MODIFIED:20251025T043014Z
UID:170060-1762247700-1762251300@scuolaedilecremona.it
SUMMARY:Area storico-socio-economica - Storia
DESCRIPTION:Docente: ROSSI GIAMPIETRO
URL:https://scuolaedilecremona.it/event/area-storico-socio-economica-storia-62/
CATEGORIES:ANNO 2 OPERATORE EDILE - SECONDO ANNO 2025/2026
END:VEVENT
BEGIN:VEVENT
DTSTART;TZID=UTC:20251104T101500
DTEND;TZID=UTC:20251104T123000
DTSTAMP:20260420T012510
CREATED:20250923T043333Z
LAST-MODIFIED:20250923T043333Z
UID:169185-1762251300-1762259400@scuolaedilecremona.it
SUMMARY:Area tecnico professionale - Elementi di tecnologia edile
DESCRIPTION:Docente: BELLADELLI LEONARDO
URL:https://scuolaedilecremona.it/event/area-tecnico-professionale-elementi-di-tecnologia-edile-86/
CATEGORIES:ANNO 2 OPERATORE EDILE - SECONDO ANNO 2025/2026
END:VEVENT
BEGIN:VEVENT
DTSTART;TZID=UTC:20251104T101500
DTEND;TZID=UTC:20251104T133000
DTSTAMP:20260420T012510
CREATED:20251025T043006Z
LAST-MODIFIED:20251025T043006Z
UID:170050-1762251300-1762263000@scuolaedilecremona.it
SUMMARY:Area storico-socio-economica - Geografia
DESCRIPTION:Docente: ROSSI GIAMPIETRO
URL:https://scuolaedilecremona.it/event/area-storico-socio-economica-geografia-46/
CATEGORIES:ANNO 1 OPERATORE EDILE - PRIMO ANNO CREMONA 2025/2026
END:VEVENT
BEGIN:VEVENT
DTSTART;TZID=UTC:20251104T123000
DTEND;TZID=UTC:20251104T143000
DTSTAMP:20260420T012510
CREATED:20250923T043334Z
LAST-MODIFIED:20250923T043334Z
UID:169186-1762259400-1762266600@scuolaedilecremona.it
SUMMARY:Area scientifica - matematica e geometria
DESCRIPTION:Docente: BETTONI FABIO
URL:https://scuolaedilecremona.it/event/area-scientifica-matematica-e-geometria-152/
CATEGORIES:ANNO 2 OPERATORE EDILE - SECONDO ANNO 2025/2026
END:VEVENT
BEGIN:VEVENT
DTSTART;TZID=UTC:20251104T133000
DTEND;TZID=UTC:20251104T143000
DTSTAMP:20260420T012510
CREATED:20250923T043110Z
LAST-MODIFIED:20250923T043110Z
UID:168805-1762263000-1762266600@scuolaedilecremona.it
SUMMARY:Area storico-socio-economica - Storia
DESCRIPTION:Docente: ROSSI GIAMPIETRO
URL:https://scuolaedilecremona.it/event/area-storico-socio-economica-storia-48/
CATEGORIES:ANNO 1 OPERATORE EDILE - PRIMO ANNO CREMONA 2025/2026
END:VEVENT
BEGIN:VEVENT
DTSTART;TZID=UTC:20251105T080000
DTEND;TZID=UTC:20251105T160000
DTSTAMP:20260420T012510
CREATED:20250925T043117Z
LAST-MODIFIED:20250925T043117Z
UID:169753-1762329600-1762358400@scuolaedilecremona.it
SUMMARY:STAGE
DESCRIPTION:
URL:https://scuolaedilecremona.it/event/stage-252/
CATEGORIES:ANNO 3 OPERATORE EDILE - TERZO  ANNO 2025/2026 GOL
END:VEVENT
BEGIN:VEVENT
DTSTART;TZID=UTC:20251105T081500
DTEND;TZID=UTC:20251105T091500
DTSTAMP:20260420T012510
CREATED:20250923T043110Z
LAST-MODIFIED:20250923T043110Z
UID:168806-1762330500-1762334100@scuolaedilecremona.it
SUMMARY:Area storico-socio-economica - Elementi di diritto del lavoro
DESCRIPTION:Docente: BRUSCHI GIADA
URL:https://scuolaedilecremona.it/event/area-storico-socio-economica-elementi-di-diritto-del-lavoro-39/
CATEGORIES:ANNO 1 OPERATORE EDILE - PRIMO ANNO CREMONA 2025/2026
END:VEVENT
BEGIN:VEVENT
DTSTART;TZID=UTC:20251105T081500
DTEND;TZID=UTC:20251105T101500
DTSTAMP:20260420T012510
CREATED:20251025T043014Z
LAST-MODIFIED:20251025T043014Z
UID:170061-1762330500-1762337700@scuolaedilecremona.it
SUMMARY:Area scientifica - scienze
DESCRIPTION:Docente: TAINO CATERINA
URL:https://scuolaedilecremona.it/event/area-scientifica-scienze-54/
CATEGORIES:ANNO 2 OPERATORE EDILE - SECONDO ANNO 2025/2026
END:VEVENT
BEGIN:VEVENT
DTSTART;TZID=UTC:20251105T091500
DTEND;TZID=UTC:20251105T101500
DTSTAMP:20260420T012510
CREATED:20250923T043111Z
LAST-MODIFIED:20250923T043111Z
UID:168807-1762334100-1762337700@scuolaedilecremona.it
SUMMARY:Area personalizzazione - Orientamento e capacita personali
DESCRIPTION:Docente: BRUSCHI GIADA
URL:https://scuolaedilecremona.it/event/area-personalizzazione-orientamento-e-capacita-personali-41/
CATEGORIES:ANNO 1 OPERATORE EDILE - PRIMO ANNO CREMONA 2025/2026
END:VEVENT
BEGIN:VEVENT
DTSTART;TZID=UTC:20251105T101500
DTEND;TZID=UTC:20251105T111500
DTSTAMP:20260420T012510
CREATED:20250923T043335Z
LAST-MODIFIED:20250923T043335Z
UID:169189-1762337700-1762341300@scuolaedilecremona.it
SUMMARY:Area storico-socio-economica - Elementi di diritto del lavoro
DESCRIPTION:Docente: BRUSCHI GIADA
URL:https://scuolaedilecremona.it/event/area-storico-socio-economica-elementi-di-diritto-del-lavoro-48/
CATEGORIES:ANNO 2 OPERATORE EDILE - SECONDO ANNO 2025/2026
END:VEVENT
BEGIN:VEVENT
DTSTART;TZID=UTC:20251105T101500
DTEND;TZID=UTC:20251105T123000
DTSTAMP:20260420T012510
CREATED:20251025T043007Z
LAST-MODIFIED:20251025T043007Z
UID:170051-1762337700-1762345800@scuolaedilecremona.it
SUMMARY:Area scientifica - scienze
DESCRIPTION:Docente: TAINO CATERINA
URL:https://scuolaedilecremona.it/event/area-scientifica-scienze-35/
CATEGORIES:ANNO 1 OPERATORE EDILE - PRIMO ANNO CREMONA 2025/2026
END:VEVENT
BEGIN:VEVENT
DTSTART;TZID=UTC:20251105T113000
DTEND;TZID=UTC:20251105T123000
DTSTAMP:20260420T012510
CREATED:20250923T043335Z
LAST-MODIFIED:20250923T043335Z
UID:169190-1762342200-1762345800@scuolaedilecremona.it
SUMMARY:Area personalizzazione - Orientamento e capacita personali
DESCRIPTION:Docente: BRUSCHI GIADA
URL:https://scuolaedilecremona.it/event/area-personalizzazione-orientamento-e-capacita-personali-58/
CATEGORIES:ANNO 2 OPERATORE EDILE - SECONDO ANNO 2025/2026
END:VEVENT
BEGIN:VEVENT
DTSTART;TZID=UTC:20251105T123000
DTEND;TZID=UTC:20251105T143000
DTSTAMP:20260420T012510
CREATED:20250923T043112Z
LAST-MODIFIED:20250923T043112Z
UID:168810-1762345800-1762353000@scuolaedilecremona.it
SUMMARY:Area scientifica - matematica e geometria
DESCRIPTION:Docente: BETTONI FABIO
URL:https://scuolaedilecremona.it/event/area-scientifica-matematica-e-geometria-110/
CATEGORIES:ANNO 1 OPERATORE EDILE - PRIMO ANNO CREMONA 2025/2026
END:VEVENT
BEGIN:VEVENT
DTSTART;TZID=UTC:20251105T123000
DTEND;TZID=UTC:20251105T143000
DTSTAMP:20260420T012510
CREATED:20250923T043335Z
LAST-MODIFIED:20250923T043335Z
UID:169191-1762345800-1762353000@scuolaedilecremona.it
SUMMARY:AREA DEI LINGUAGGI - LINGUA ITALIANA
DESCRIPTION:Docente: UCCIARDO  CARMELO
URL:https://scuolaedilecremona.it/event/area-dei-linguaggi-lingua-italiana-208/
CATEGORIES:ANNO 2 OPERATORE EDILE - SECONDO ANNO 2025/2026
END:VEVENT
BEGIN:VEVENT
DTSTART;TZID=UTC:20251106T080000
DTEND;TZID=UTC:20251106T160000
DTSTAMP:20260420T012510
CREATED:20250925T043117Z
LAST-MODIFIED:20250925T043117Z
UID:169754-1762416000-1762444800@scuolaedilecremona.it
SUMMARY:STAGE
DESCRIPTION:
URL:https://scuolaedilecremona.it/event/stage-253/
CATEGORIES:ANNO 3 OPERATORE EDILE - TERZO  ANNO 2025/2026 GOL
END:VEVENT
BEGIN:VEVENT
DTSTART;TZID=UTC:20251106T081500
DTEND;TZID=UTC:20251106T101500
DTSTAMP:20260420T012510
CREATED:20250923T043112Z
LAST-MODIFIED:20250923T043112Z
UID:168811-1762416900-1762424100@scuolaedilecremona.it
SUMMARY:Area tecnico professionale - Elementi di sicurezza sul lavoro
DESCRIPTION:Docente: SOFFIENTINI ROBERTO
URL:https://scuolaedilecremona.it/event/area-tecnico-professionale-elementi-di-sicurezza-sul-lavoro-67/
CATEGORIES:ANNO 1 OPERATORE EDILE - PRIMO ANNO CREMONA 2025/2026
END:VEVENT
BEGIN:VEVENT
DTSTART;TZID=UTC:20251106T081500
DTEND;TZID=UTC:20251106T143000
DTSTAMP:20260420T012510
CREATED:20250923T043336Z
LAST-MODIFIED:20250923T043336Z
UID:169192-1762416900-1762439400@scuolaedilecremona.it
SUMMARY:Area tecnico professionale - Laboratorio esercitazioni pratiche
DESCRIPTION:Docente: DOSSENA GHERARDO TITO
URL:https://scuolaedilecremona.it/event/area-tecnico-professionale-laboratorio-esercitazioni-pratiche-213/
CATEGORIES:ANNO 2 OPERATORE EDILE - SECONDO ANNO 2025/2026
END:VEVENT
BEGIN:VEVENT
DTSTART;TZID=UTC:20251106T101500
DTEND;TZID=UTC:20251106T123000
DTSTAMP:20260420T012510
CREATED:20251031T043048Z
LAST-MODIFIED:20251031T043048Z
UID:170091-1762424100-1762432200@scuolaedilecremona.it
SUMMARY:Area storico-socio-economica - Geografia
DESCRIPTION:Docente: ROSSI GIAMPIETRO
URL:https://scuolaedilecremona.it/event/area-storico-socio-economica-geografia-48/
CATEGORIES:ANNO 1 OPERATORE EDILE - PRIMO ANNO CREMONA 2025/2026
END:VEVENT
END:VCALENDAR