BEGIN:VCALENDAR
VERSION:2.0
PRODID:-//Ente Scuola Edile Cremona - C.P.T. - ECPv6.15.18//NONSGML v1.0//EN
CALSCALE:GREGORIAN
METHOD:PUBLISH
X-ORIGINAL-URL:https://scuolaedilecremona.it
X-WR-CALDESC:Eventi per Ente Scuola Edile Cremona - C.P.T.
REFRESH-INTERVAL;VALUE=DURATION:PT1H
X-Robots-Tag:noindex
X-PUBLISHED-TTL:PT1H
BEGIN:VTIMEZONE
TZID:UTC
BEGIN:STANDARD
TZOFFSETFROM:+0000
TZOFFSETTO:+0000
TZNAME:UTC
DTSTART:20240101T000000
END:STANDARD
END:VTIMEZONE
BEGIN:VEVENT
DTSTART;TZID=UTC:20250122T081500
DTEND;TZID=UTC:20250122T111500
DTSTAMP:20260419T202033
CREATED:20250307T043438Z
LAST-MODIFIED:20250307T043438Z
UID:167310-1737533700-1737544500@scuolaedilecremona.it
SUMMARY:Area scientifica - scienze
DESCRIPTION:Docente: TAINO CATERINA
URL:https://scuolaedilecremona.it/event/area-scientifica-scienze-28/
CATEGORIES:ANNO 1 OPERATORE EDILE - PRIMO ANNO CREMONA 2024/2025
END:VEVENT
BEGIN:VEVENT
DTSTART;TZID=UTC:20250122T081500
DTEND;TZID=UTC:20250122T111500
DTSTAMP:20260419T202033
CREATED:20250307T044532Z
LAST-MODIFIED:20250307T044532Z
UID:167851-1737533700-1737544500@scuolaedilecremona.it
SUMMARY:AREA DEI LINGUAGGI - LINGUA ITALIANA
DESCRIPTION:Docente: ROSSI GIAMPIETRO
URL:https://scuolaedilecremona.it/event/area-dei-linguaggi-lingua-italiana-26/
CATEGORIES:ANNO 3 OPERATORE EDILE - DUALE TERZO ANNO 2024/2025
END:VEVENT
BEGIN:VEVENT
DTSTART;TZID=UTC:20250122T081500
DTEND;TZID=UTC:20250122T111500
DTSTAMP:20260419T202033
CREATED:20250307T045007Z
LAST-MODIFIED:20250307T045007Z
UID:168078-1737533700-1737544500@scuolaedilecremona.it
SUMMARY:AREA DEI LINGUAGGI - LINGUA ITALIANA
DESCRIPTION:Docente: SPERNAZZATI EMANUELA
URL:https://scuolaedilecremona.it/event/area-dei-linguaggi-lingua-italiana-4/
CATEGORIES:ANNO 3 OPERATORE EDILE - TERZO ANNO 2024/2025
END:VEVENT
BEGIN:VEVENT
DTSTART;TZID=UTC:20250122T081500
DTEND;TZID=UTC:20250122T133000
DTSTAMP:20260419T202033
CREATED:20250307T044147Z
LAST-MODIFIED:20250307T044147Z
UID:167666-1737533700-1737552600@scuolaedilecremona.it
SUMMARY:Area tecnico professionale - Laboratorio esercitazioni pratiche
DESCRIPTION:Docente: DOSSENA GHERARDO TITO
URL:https://scuolaedilecremona.it/event/area-tecnico-professionale-laboratorio-esercitazioni-pratiche-89/
CATEGORIES:ANNO 2 OPERATORE EDILE - SECONDO ANNO 2024/2025
END:VEVENT
BEGIN:VEVENT
DTSTART;TZID=UTC:20250122T113000
DTEND;TZID=UTC:20250122T133000
DTSTAMP:20260419T202033
CREATED:20250307T043439Z
LAST-MODIFIED:20250307T043439Z
UID:167311-1737545400-1737552600@scuolaedilecremona.it
SUMMARY:Area scientifica - matematica e geometria
DESCRIPTION:Docente: BETTONI FABIO
URL:https://scuolaedilecremona.it/event/area-scientifica-matematica-e-geometria-82/
CATEGORIES:ANNO 1 OPERATORE EDILE - PRIMO ANNO CREMONA 2024/2025
END:VEVENT
BEGIN:VEVENT
DTSTART;TZID=UTC:20250122T113000
DTEND;TZID=UTC:20250122T133000
DTSTAMP:20260419T202033
CREATED:20250307T044533Z
LAST-MODIFIED:20250307T044533Z
UID:167852-1737545400-1737552600@scuolaedilecremona.it
SUMMARY:AREA DEI LINGUAGGI - LINGUA ITALIANA
DESCRIPTION:Docente: UCCIARDO  CARMELO
URL:https://scuolaedilecremona.it/event/area-dei-linguaggi-lingua-italiana-27/
CATEGORIES:ANNO 3 OPERATORE EDILE - DUALE TERZO ANNO 2024/2025
END:VEVENT
BEGIN:VEVENT
DTSTART;TZID=UTC:20250122T113000
DTEND;TZID=UTC:20250122T133000
DTSTAMP:20260419T202033
CREATED:20250307T045009Z
LAST-MODIFIED:20250307T045009Z
UID:168079-1737545400-1737552600@scuolaedilecremona.it
SUMMARY:Area scientifica - scienze
DESCRIPTION:Docente: TAINO CATERINA
URL:https://scuolaedilecremona.it/event/area-scientifica-scienze-3/
CATEGORIES:ANNO 3 OPERATORE EDILE - TERZO ANNO 2024/2025
END:VEVENT
BEGIN:VEVENT
DTSTART;TZID=UTC:20250122T133000
DTEND;TZID=UTC:20250122T163000
DTSTAMP:20260419T202033
CREATED:20250307T044534Z
LAST-MODIFIED:20250307T044534Z
UID:167853-1737552600-1737563400@scuolaedilecremona.it
SUMMARY:Area tecnico professionale - Elementi di sicurezza sul lavoro
DESCRIPTION:Docente: TAINO CATERINA
URL:https://scuolaedilecremona.it/event/area-tecnico-professionale-elementi-di-sicurezza-sul-lavoro-25/
CATEGORIES:ANNO 3 OPERATORE EDILE - DUALE TERZO ANNO 2024/2025
END:VEVENT
BEGIN:VEVENT
DTSTART;TZID=UTC:20250123T081500
DTEND;TZID=UTC:20250123T101500
DTSTAMP:20260419T202033
CREATED:20250307T043441Z
LAST-MODIFIED:20250307T043441Z
UID:167312-1737620100-1737627300@scuolaedilecremona.it
SUMMARY:Area tecnico professionale - Disegno tecnico
DESCRIPTION:Docente: SOFFIENTINI ROBERTO
URL:https://scuolaedilecremona.it/event/area-tecnico-professionale-disegno-tecnico-37/
CATEGORIES:ANNO 1 OPERATORE EDILE - PRIMO ANNO CREMONA 2024/2025
END:VEVENT
BEGIN:VEVENT
DTSTART;TZID=UTC:20250123T081500
DTEND;TZID=UTC:20250123T111500
DTSTAMP:20260419T202033
CREATED:20250307T044148Z
LAST-MODIFIED:20250307T044148Z
UID:167667-1737620100-1737630900@scuolaedilecremona.it
SUMMARY:AREA DEI LINGUAGGI - LINGUA ITALIANA
DESCRIPTION:Docente: UCCIARDO  CARMELO
URL:https://scuolaedilecremona.it/event/area-dei-linguaggi-lingua-italiana-80/
CATEGORIES:ANNO 2 OPERATORE EDILE - SECONDO ANNO 2024/2025
END:VEVENT
BEGIN:VEVENT
DTSTART;TZID=UTC:20250123T081500
DTEND;TZID=UTC:20250123T133000
DTSTAMP:20260419T202033
CREATED:20250307T044535Z
LAST-MODIFIED:20250307T044535Z
UID:167854-1737620100-1737639000@scuolaedilecremona.it
SUMMARY:AREA DEI LINGUAGGI - LINGUA ITALIANA
DESCRIPTION:Docente: ROSSI GIAMPIETRO
URL:https://scuolaedilecremona.it/event/area-dei-linguaggi-lingua-italiana-28/
CATEGORIES:ANNO 3 OPERATORE EDILE - DUALE TERZO ANNO 2024/2025
END:VEVENT
BEGIN:VEVENT
DTSTART;TZID=UTC:20250123T081500
DTEND;TZID=UTC:20250123T133000
DTSTAMP:20260419T202033
CREATED:20250307T045010Z
LAST-MODIFIED:20250307T045010Z
UID:168080-1737620100-1737639000@scuolaedilecremona.it
SUMMARY:Area tecnico professionale - Laboratorio esercitazioni pratiche
DESCRIPTION:Docente: DOSSENA GHERARDO TITO
URL:https://scuolaedilecremona.it/event/area-tecnico-professionale-laboratorio-esercitazioni-pratiche-10/
CATEGORIES:ANNO 3 OPERATORE EDILE - TERZO ANNO 2024/2025
END:VEVENT
BEGIN:VEVENT
DTSTART;TZID=UTC:20250123T101500
DTEND;TZID=UTC:20250123T111500
DTSTAMP:20260419T202033
CREATED:20250307T043442Z
LAST-MODIFIED:20250307T043442Z
UID:167313-1737627300-1737630900@scuolaedilecremona.it
SUMMARY:Area tecnico professionale - Elementi di contabilita
DESCRIPTION:Docente: SOFFIENTINI ROBERTO
URL:https://scuolaedilecremona.it/event/area-tecnico-professionale-elementi-di-contabilita-43/
CATEGORIES:ANNO 1 OPERATORE EDILE - PRIMO ANNO CREMONA 2024/2025
END:VEVENT
BEGIN:VEVENT
DTSTART;TZID=UTC:20250123T113000
DTEND;TZID=UTC:20250123T133000
DTSTAMP:20260419T202033
CREATED:20250307T043443Z
LAST-MODIFIED:20250307T043443Z
UID:167314-1737631800-1737639000@scuolaedilecremona.it
SUMMARY:AREA DEI LINGUAGGI - LINGUA ITALIANA
DESCRIPTION:Docente: UCCIARDO  CARMELO
URL:https://scuolaedilecremona.it/event/area-dei-linguaggi-lingua-italiana-110/
CATEGORIES:ANNO 1 OPERATORE EDILE - PRIMO ANNO CREMONA 2024/2025
END:VEVENT
BEGIN:VEVENT
DTSTART;TZID=UTC:20250123T113000
DTEND;TZID=UTC:20250123T133000
DTSTAMP:20260419T202033
CREATED:20250307T044149Z
LAST-MODIFIED:20250307T044149Z
UID:167668-1737631800-1737639000@scuolaedilecremona.it
SUMMARY:Area scientifica - matematica e geometria
DESCRIPTION:Docente: BETTONI FABIO
URL:https://scuolaedilecremona.it/event/area-scientifica-matematica-e-geometria-56/
CATEGORIES:ANNO 2 OPERATORE EDILE - SECONDO ANNO 2024/2025
END:VEVENT
BEGIN:VEVENT
DTSTART;TZID=UTC:20250123T133000
DTEND;TZID=UTC:20250123T163000
DTSTAMP:20260419T202033
CREATED:20250307T044536Z
LAST-MODIFIED:20250307T044536Z
UID:167855-1737639000-1737649800@scuolaedilecremona.it
SUMMARY:AREA DEI LINGUAGGI - LINGUA ITALIANA
DESCRIPTION:Docente: UCCIARDO  CARMELO
URL:https://scuolaedilecremona.it/event/area-dei-linguaggi-lingua-italiana-29/
CATEGORIES:ANNO 3 OPERATORE EDILE - DUALE TERZO ANNO 2024/2025
END:VEVENT
BEGIN:VEVENT
DTSTART;TZID=UTC:20250124T081500
DTEND;TZID=UTC:20250124T101500
DTSTAMP:20260419T202033
CREATED:20250307T043444Z
LAST-MODIFIED:20250307T043444Z
UID:167315-1737706500-1737713700@scuolaedilecremona.it
SUMMARY:Area tecnico professionale - Elementi di sicurezza sul lavoro
DESCRIPTION:Docente: SOFFIENTINI ROBERTO
URL:https://scuolaedilecremona.it/event/area-tecnico-professionale-elementi-di-sicurezza-sul-lavoro-52/
CATEGORIES:ANNO 1 OPERATORE EDILE - PRIMO ANNO CREMONA 2024/2025
END:VEVENT
BEGIN:VEVENT
DTSTART;TZID=UTC:20250124T081500
DTEND;TZID=UTC:20250124T101500
DTSTAMP:20260419T202033
CREATED:20250307T044150Z
LAST-MODIFIED:20250307T044150Z
UID:167669-1737706500-1737713700@scuolaedilecremona.it
SUMMARY:Religione Cattolica (IRC) / Attivita alternativa
DESCRIPTION:Docente: ROSSI GIAMPIETRO
URL:https://scuolaedilecremona.it/event/religione-cattolica-irc-attivita-alternativa-15/
CATEGORIES:ANNO 2 OPERATORE EDILE - SECONDO ANNO 2024/2025
END:VEVENT
BEGIN:VEVENT
DTSTART;TZID=UTC:20250124T081500
DTEND;TZID=UTC:20250124T133000
DTSTAMP:20260419T202033
CREATED:20250307T045011Z
LAST-MODIFIED:20250307T045011Z
UID:168081-1737706500-1737725400@scuolaedilecremona.it
SUMMARY:Area tecnico professionale - Elementi di tecnologia edile
DESCRIPTION:Docente: BELLADELLI LEONARDO
URL:https://scuolaedilecremona.it/event/area-tecnico-professionale-elementi-di-tecnologia-edile-9/
CATEGORIES:ANNO 3 OPERATORE EDILE - TERZO ANNO 2024/2025
END:VEVENT
BEGIN:VEVENT
DTSTART;TZID=UTC:20250124T101500
DTEND;TZID=UTC:20250124T111500
DTSTAMP:20260419T202033
CREATED:20250307T043445Z
LAST-MODIFIED:20250307T043445Z
UID:167316-1737713700-1737717300@scuolaedilecremona.it
SUMMARY:Area tecnico professionale - Elementi di contabilita
DESCRIPTION:Docente: SOFFIENTINI ROBERTO
URL:https://scuolaedilecremona.it/event/area-tecnico-professionale-elementi-di-contabilita-44/
CATEGORIES:ANNO 1 OPERATORE EDILE - PRIMO ANNO CREMONA 2024/2025
END:VEVENT
BEGIN:VEVENT
DTSTART;TZID=UTC:20250124T101500
DTEND;TZID=UTC:20250124T111500
DTSTAMP:20260419T202033
CREATED:20250307T044151Z
LAST-MODIFIED:20250307T044151Z
UID:167670-1737713700-1737717300@scuolaedilecremona.it
SUMMARY:AREA DEI LINGUAGGI - LINGUA ITALIANA
DESCRIPTION:Docente: UCCIARDO  CARMELO
URL:https://scuolaedilecremona.it/event/area-dei-linguaggi-lingua-italiana-81/
CATEGORIES:ANNO 2 OPERATORE EDILE - SECONDO ANNO 2024/2025
END:VEVENT
BEGIN:VEVENT
DTSTART;TZID=UTC:20250124T113000
DTEND;TZID=UTC:20250124T123000
DTSTAMP:20260419T202033
CREATED:20250522T043010Z
LAST-MODIFIED:20250522T043010Z
UID:168431-1737718200-1737721800@scuolaedilecremona.it
SUMMARY:Area personalizzazione - Orientamento e capacita personali
DESCRIPTION:Docente: BONDIONI ELISABETTA\, MEAZZI ANNA CHIARA
URL:https://scuolaedilecremona.it/event/area-personalizzazione-orientamento-e-capacita-personali-24/
CATEGORIES:ANNO 1 OPERATORE EDILE - PRIMO ANNO CREMONA 2024/2025
END:VEVENT
BEGIN:VEVENT
DTSTART;TZID=UTC:20250124T113000
DTEND;TZID=UTC:20250124T133000
DTSTAMP:20260419T202033
CREATED:20250307T044153Z
LAST-MODIFIED:20250307T044153Z
UID:167671-1737718200-1737725400@scuolaedilecremona.it
SUMMARY:Area personalizzazione - Orientamento e capacita personali
DESCRIPTION:Docente: UCCIARDO  CARMELO
URL:https://scuolaedilecremona.it/event/area-personalizzazione-orientamento-e-capacita-personali-15/
CATEGORIES:ANNO 2 OPERATORE EDILE - SECONDO ANNO 2024/2025
END:VEVENT
BEGIN:VEVENT
DTSTART;TZID=UTC:20250124T123000
DTEND;TZID=UTC:20250124T133000
DTSTAMP:20260419T202033
CREATED:20250522T043010Z
LAST-MODIFIED:20250522T043010Z
UID:168432-1737721800-1737725400@scuolaedilecremona.it
SUMMARY:Area personalizzazione - Orientamento e capacita personali
DESCRIPTION:Docente: MEAZZI ANNA CHIARA\, BONDIONI ELISABETTA
URL:https://scuolaedilecremona.it/event/area-personalizzazione-orientamento-e-capacita-personali-27/
CATEGORIES:ANNO 1 OPERATORE EDILE - PRIMO ANNO CREMONA 2024/2025
END:VEVENT
BEGIN:VEVENT
DTSTART;TZID=UTC:20250125T081500
DTEND;TZID=UTC:20250125T133000
DTSTAMP:20260419T202033
CREATED:20250307T043448Z
LAST-MODIFIED:20250307T043448Z
UID:167318-1737792900-1737811800@scuolaedilecremona.it
SUMMARY:Area tecnico professionale - Laboratorio esercitazioni pratiche
DESCRIPTION:Docente: DOSSENA GHERARDO TITO
URL:https://scuolaedilecremona.it/event/area-tecnico-professionale-laboratorio-esercitazioni-pratiche-144/
CATEGORIES:ANNO 1 OPERATORE EDILE - PRIMO ANNO CREMONA 2024/2025
END:VEVENT
BEGIN:VEVENT
DTSTART;TZID=UTC:20250125T081500
DTEND;TZID=UTC:20250125T163000
DTSTAMP:20260419T202033
CREATED:20250307T044538Z
LAST-MODIFIED:20250307T044538Z
UID:167856-1737792900-1737822600@scuolaedilecremona.it
SUMMARY:Area tecnico professionale - Laboratorio esercitazioni pratiche
DESCRIPTION:Docente: BELLADELLI LEONARDO
URL:https://scuolaedilecremona.it/event/area-tecnico-professionale-laboratorio-esercitazioni-pratiche-35/
CATEGORIES:ANNO 3 OPERATORE EDILE - DUALE TERZO ANNO 2024/2025
END:VEVENT
BEGIN:VEVENT
DTSTART;TZID=UTC:20250127T081500
DTEND;TZID=UTC:20250127T111500
DTSTAMP:20260419T202033
CREATED:20250307T043449Z
LAST-MODIFIED:20250307T043449Z
UID:167319-1737965700-1737976500@scuolaedilecremona.it
SUMMARY:Area tecnico professionale - Elementi di tecnologia edile
DESCRIPTION:Docente: BELLADELLI LEONARDO
URL:https://scuolaedilecremona.it/event/area-tecnico-professionale-elementi-di-tecnologia-edile-46/
CATEGORIES:ANNO 1 OPERATORE EDILE - PRIMO ANNO CREMONA 2024/2025
END:VEVENT
BEGIN:VEVENT
DTSTART;TZID=UTC:20250127T081500
DTEND;TZID=UTC:20250127T111500
DTSTAMP:20260419T202033
CREATED:20250307T044154Z
LAST-MODIFIED:20250307T044154Z
UID:167672-1737965700-1737976500@scuolaedilecremona.it
SUMMARY:Area tecnologica - informatica
DESCRIPTION:Docente: BILLA CHIARA
URL:https://scuolaedilecremona.it/event/area-tecnologica-informatica-24/
CATEGORIES:ANNO 2 OPERATORE EDILE - SECONDO ANNO 2024/2025
END:VEVENT
BEGIN:VEVENT
DTSTART;TZID=UTC:20250127T081500
DTEND;TZID=UTC:20250127T111500
DTSTAMP:20260419T202033
CREATED:20250307T045012Z
LAST-MODIFIED:20250307T045012Z
UID:168082-1737965700-1737976500@scuolaedilecremona.it
SUMMARY:AREA DEI LINGUAGGI - LINGUA INGLESE
DESCRIPTION:Docente: VIRGILIO LAURA LETIZIA
URL:https://scuolaedilecremona.it/event/area-dei-linguaggi-lingua-inglese-2/
CATEGORIES:ANNO 3 OPERATORE EDILE - TERZO ANNO 2024/2025
END:VEVENT
BEGIN:VEVENT
DTSTART;TZID=UTC:20250127T113000
DTEND;TZID=UTC:20250127T133000
DTSTAMP:20260419T202033
CREATED:20250307T043450Z
LAST-MODIFIED:20250307T043450Z
UID:167320-1737977400-1737984600@scuolaedilecremona.it
SUMMARY:Area tecnico professionale - Disegno tecnico
DESCRIPTION:Docente: BELLADELLI LEONARDO
URL:https://scuolaedilecremona.it/event/area-tecnico-professionale-disegno-tecnico-38/
CATEGORIES:ANNO 1 OPERATORE EDILE - PRIMO ANNO CREMONA 2024/2025
END:VEVENT
END:VCALENDAR