BEGIN:VCALENDAR
VERSION:2.0
PRODID:-//Ente Scuola Edile Cremona - C.P.T. - ECPv6.15.18//NONSGML v1.0//EN
CALSCALE:GREGORIAN
METHOD:PUBLISH
X-ORIGINAL-URL:https://scuolaedilecremona.it
X-WR-CALDESC:Eventi per Ente Scuola Edile Cremona - C.P.T.
REFRESH-INTERVAL;VALUE=DURATION:PT1H
X-Robots-Tag:noindex
X-PUBLISHED-TTL:PT1H
BEGIN:VTIMEZONE
TZID:UTC
BEGIN:STANDARD
TZOFFSETFROM:+0000
TZOFFSETTO:+0000
TZNAME:UTC
DTSTART:20240101T000000
END:STANDARD
END:VTIMEZONE
BEGIN:VEVENT
DTSTART;TZID=UTC:20250109T081500
DTEND;TZID=UTC:20250109T091500
DTSTAMP:20260419T185820
CREATED:20250307T044940Z
LAST-MODIFIED:20250307T044940Z
UID:168057-1736410500-1736414100@scuolaedilecremona.it
SUMMARY:Area tecnico professionale - Elementi di sicurezza sul lavoro
DESCRIPTION:Docente: SOFFIENTINI ROBERTO
URL:https://scuolaedilecremona.it/event/area-tecnico-professionale-elementi-di-sicurezza-sul-lavoro-4/
CATEGORIES:ANNO 3 OPERATORE EDILE - TERZO ANNO 2024/2025
END:VEVENT
BEGIN:VEVENT
DTSTART;TZID=UTC:20250109T081500
DTEND;TZID=UTC:20250109T101500
DTSTAMP:20260419T185820
CREATED:20250307T043416Z
LAST-MODIFIED:20250307T043416Z
UID:167292-1736410500-1736417700@scuolaedilecremona.it
SUMMARY:AREA DEI LINGUAGGI - LINGUA ITALIANA
DESCRIPTION:Docente: UCCIARDO  CARMELO
URL:https://scuolaedilecremona.it/event/area-dei-linguaggi-lingua-italiana-107/
CATEGORIES:ANNO 1 OPERATORE EDILE - PRIMO ANNO CREMONA 2024/2025
END:VEVENT
BEGIN:VEVENT
DTSTART;TZID=UTC:20250109T081500
DTEND;TZID=UTC:20250109T101500
DTSTAMP:20260419T185820
CREATED:20250307T044517Z
LAST-MODIFIED:20250307T044517Z
UID:167839-1736410500-1736417700@scuolaedilecremona.it
SUMMARY:AREA DEI LINGUAGGI - LINGUA ITALIANA
DESCRIPTION:Docente: ROSSI GIAMPIETRO
URL:https://scuolaedilecremona.it/event/area-dei-linguaggi-lingua-italiana-24/
CATEGORIES:ANNO 3 OPERATORE EDILE - DUALE TERZO ANNO 2024/2025
END:VEVENT
BEGIN:VEVENT
DTSTART;TZID=UTC:20250109T081500
DTEND;TZID=UTC:20250109T133000
DTSTAMP:20260419T185820
CREATED:20250307T044121Z
LAST-MODIFIED:20250307T044121Z
UID:167645-1736410500-1736429400@scuolaedilecremona.it
SUMMARY:Area tecnico professionale - Laboratorio esercitazioni pratiche
DESCRIPTION:Docente: DOSSENA GHERARDO TITO
URL:https://scuolaedilecremona.it/event/area-tecnico-professionale-laboratorio-esercitazioni-pratiche-87/
CATEGORIES:ANNO 2 OPERATORE EDILE - SECONDO ANNO 2024/2025
END:VEVENT
BEGIN:VEVENT
DTSTART;TZID=UTC:20250109T091500
DTEND;TZID=UTC:20250109T101500
DTSTAMP:20260419T185820
CREATED:20250307T044941Z
LAST-MODIFIED:20250307T044941Z
UID:168058-1736414100-1736417700@scuolaedilecremona.it
SUMMARY:Area tecnico professionale - Elementi di contabilita
DESCRIPTION:Docente: SOFFIENTINI ROBERTO
URL:https://scuolaedilecremona.it/event/area-tecnico-professionale-elementi-di-contabilita-5/
CATEGORIES:ANNO 3 OPERATORE EDILE - TERZO ANNO 2024/2025
END:VEVENT
BEGIN:VEVENT
DTSTART;TZID=UTC:20250109T101500
DTEND;TZID=UTC:20250109T111500
DTSTAMP:20260419T185820
CREATED:20250307T043417Z
LAST-MODIFIED:20250307T043417Z
UID:167293-1736417700-1736421300@scuolaedilecremona.it
SUMMARY:Area scientifica - matematica e geometria
DESCRIPTION:Docente: BONDIONI ELISABETTA
URL:https://scuolaedilecremona.it/event/area-scientifica-matematica-e-geometria-80/
CATEGORIES:ANNO 1 OPERATORE EDILE - PRIMO ANNO CREMONA 2024/2025
END:VEVENT
BEGIN:VEVENT
DTSTART;TZID=UTC:20250109T101500
DTEND;TZID=UTC:20250109T111500
DTSTAMP:20260419T185820
CREATED:20250307T044943Z
LAST-MODIFIED:20250307T044943Z
UID:168059-1736417700-1736421300@scuolaedilecremona.it
SUMMARY:Religione Cattolica (IRC) / Attivita alternativa
DESCRIPTION:Docente: ROSSI GIAMPIETRO
URL:https://scuolaedilecremona.it/event/religione-cattolica-irc-attivita-alternativa-6/
CATEGORIES:ANNO 3 OPERATORE EDILE - TERZO ANNO 2024/2025
END:VEVENT
BEGIN:VEVENT
DTSTART;TZID=UTC:20250109T101500
DTEND;TZID=UTC:20250109T163000
DTSTAMP:20260419T185820
CREATED:20250307T044518Z
LAST-MODIFIED:20250307T044518Z
UID:167840-1736417700-1736440200@scuolaedilecremona.it
SUMMARY:AREA DEI LINGUAGGI - LINGUA ITALIANA
DESCRIPTION:Docente: UCCIARDO  CARMELO
URL:https://scuolaedilecremona.it/event/area-dei-linguaggi-lingua-italiana-25/
CATEGORIES:ANNO 3 OPERATORE EDILE - DUALE TERZO ANNO 2024/2025
END:VEVENT
BEGIN:VEVENT
DTSTART;TZID=UTC:20250109T113000
DTEND;TZID=UTC:20250109T123000
DTSTAMP:20260419T185820
CREATED:20250307T043418Z
LAST-MODIFIED:20250307T043418Z
UID:167294-1736422200-1736425800@scuolaedilecremona.it
SUMMARY:Area storico-socio-economica - Storia
DESCRIPTION:Docente: ROSSI GIAMPIETRO
URL:https://scuolaedilecremona.it/event/area-storico-socio-economica-storia-34/
CATEGORIES:ANNO 1 OPERATORE EDILE - PRIMO ANNO CREMONA 2024/2025
END:VEVENT
BEGIN:VEVENT
DTSTART;TZID=UTC:20250109T113000
DTEND;TZID=UTC:20250109T133000
DTSTAMP:20260419T185820
CREATED:20250307T044944Z
LAST-MODIFIED:20250307T044944Z
UID:168060-1736422200-1736429400@scuolaedilecremona.it
SUMMARY:Area scientifica - matematica e geometria
DESCRIPTION:Docente: BETTONI FABIO
URL:https://scuolaedilecremona.it/event/area-scientifica-matematica-e-geometria-4/
CATEGORIES:ANNO 3 OPERATORE EDILE - TERZO ANNO 2024/2025
END:VEVENT
BEGIN:VEVENT
DTSTART;TZID=UTC:20250109T123000
DTEND;TZID=UTC:20250109T133000
DTSTAMP:20260419T185820
CREATED:20250307T043419Z
LAST-MODIFIED:20250307T043419Z
UID:167295-1736425800-1736429400@scuolaedilecremona.it
SUMMARY:Area storico-socio-economica - Geografia
DESCRIPTION:Docente: ROSSI GIAMPIETRO
URL:https://scuolaedilecremona.it/event/area-storico-socio-economica-geografia-34/
CATEGORIES:ANNO 1 OPERATORE EDILE - PRIMO ANNO CREMONA 2024/2025
END:VEVENT
BEGIN:VEVENT
DTSTART;TZID=UTC:20250110T081500
DTEND;TZID=UTC:20250110T101500
DTSTAMP:20260419T185820
CREATED:20250307T044123Z
LAST-MODIFIED:20250307T044123Z
UID:167646-1736496900-1736504100@scuolaedilecremona.it
SUMMARY:Area tecnico professionale - Elementi di sicurezza sul lavoro
DESCRIPTION:Docente: SOFFIENTINI ROBERTO
URL:https://scuolaedilecremona.it/event/area-tecnico-professionale-elementi-di-sicurezza-sul-lavoro-36/
CATEGORIES:ANNO 2 OPERATORE EDILE - SECONDO ANNO 2024/2025
END:VEVENT
BEGIN:VEVENT
DTSTART;TZID=UTC:20250110T081500
DTEND;TZID=UTC:20250110T111500
DTSTAMP:20260419T185820
CREATED:20250307T043421Z
LAST-MODIFIED:20250307T043421Z
UID:167296-1736496900-1736507700@scuolaedilecremona.it
SUMMARY:AREA DEI LINGUAGGI - LINGUA ITALIANA
DESCRIPTION:Docente: UCCIARDO  CARMELO
URL:https://scuolaedilecremona.it/event/area-dei-linguaggi-lingua-italiana-108/
CATEGORIES:ANNO 1 OPERATORE EDILE - PRIMO ANNO CREMONA 2024/2025
END:VEVENT
BEGIN:VEVENT
DTSTART;TZID=UTC:20250110T081500
DTEND;TZID=UTC:20250110T133000
DTSTAMP:20260419T185820
CREATED:20250307T044945Z
LAST-MODIFIED:20250307T044945Z
UID:168061-1736496900-1736515800@scuolaedilecremona.it
SUMMARY:Area tecnico professionale - Elementi di tecnologia edile
DESCRIPTION:Docente: BELLADELLI LEONARDO
URL:https://scuolaedilecremona.it/event/area-tecnico-professionale-elementi-di-tecnologia-edile-5/
CATEGORIES:ANNO 3 OPERATORE EDILE - TERZO ANNO 2024/2025
END:VEVENT
BEGIN:VEVENT
DTSTART;TZID=UTC:20250110T101500
DTEND;TZID=UTC:20250110T111500
DTSTAMP:20260419T185820
CREATED:20250307T044124Z
LAST-MODIFIED:20250307T044124Z
UID:167647-1736504100-1736507700@scuolaedilecremona.it
SUMMARY:Area tecnico professionale - Elementi di contabilita
DESCRIPTION:Docente: SOFFIENTINI ROBERTO
URL:https://scuolaedilecremona.it/event/area-tecnico-professionale-elementi-di-contabilita-29/
CATEGORIES:ANNO 2 OPERATORE EDILE - SECONDO ANNO 2024/2025
END:VEVENT
BEGIN:VEVENT
DTSTART;TZID=UTC:20250110T113000
DTEND;TZID=UTC:20250110T123000
DTSTAMP:20260419T185820
CREATED:20250307T043422Z
LAST-MODIFIED:20250307T043422Z
UID:167297-1736508600-1736512200@scuolaedilecremona.it
SUMMARY:Area personalizzazione - Orientamento e capacita personali
DESCRIPTION:Docente: BONDIONI ELISABETTA\, MEAZZI ANNA CHIARA
URL:https://scuolaedilecremona.it/event/area-personalizzazione-orientamento-e-capacita-personali-25/
CATEGORIES:ANNO 1 OPERATORE EDILE - PRIMO ANNO CREMONA 2024/2025
END:VEVENT
BEGIN:VEVENT
DTSTART;TZID=UTC:20250110T113000
DTEND;TZID=UTC:20250110T133000
DTSTAMP:20260419T185820
CREATED:20250307T044125Z
LAST-MODIFIED:20250307T044125Z
UID:167648-1736508600-1736515800@scuolaedilecremona.it
SUMMARY:Area personalizzazione - Orientamento e capacita personali
DESCRIPTION:Docente: UCCIARDO  CARMELO
URL:https://scuolaedilecremona.it/event/area-personalizzazione-orientamento-e-capacita-personali-14/
CATEGORIES:ANNO 2 OPERATORE EDILE - SECONDO ANNO 2024/2025
END:VEVENT
BEGIN:VEVENT
DTSTART;TZID=UTC:20250110T123000
DTEND;TZID=UTC:20250110T133000
DTSTAMP:20260419T185820
CREATED:20250307T043423Z
LAST-MODIFIED:20250307T043423Z
UID:167298-1736512200-1736515800@scuolaedilecremona.it
SUMMARY:Area personalizzazione - Orientamento e capacita personali
DESCRIPTION:Docente: MEAZZI ANNA CHIARA\, BONDIONI ELISABETTA
URL:https://scuolaedilecremona.it/event/area-personalizzazione-orientamento-e-capacita-personali-26/
CATEGORIES:ANNO 1 OPERATORE EDILE - PRIMO ANNO CREMONA 2024/2025
END:VEVENT
BEGIN:VEVENT
DTSTART;TZID=UTC:20250111T081500
DTEND;TZID=UTC:20250111T133000
DTSTAMP:20260419T185820
CREATED:20250307T043424Z
LAST-MODIFIED:20250307T043424Z
UID:167299-1736583300-1736602200@scuolaedilecremona.it
SUMMARY:Area tecnico professionale - Laboratorio esercitazioni pratiche
DESCRIPTION:Docente: DOSSENA GHERARDO TITO
URL:https://scuolaedilecremona.it/event/area-tecnico-professionale-laboratorio-esercitazioni-pratiche-138/
CATEGORIES:ANNO 1 OPERATORE EDILE - PRIMO ANNO CREMONA 2024/2025
END:VEVENT
BEGIN:VEVENT
DTSTART;TZID=UTC:20250111T081500
DTEND;TZID=UTC:20250111T163000
DTSTAMP:20260419T185820
CREATED:20250307T044520Z
LAST-MODIFIED:20250307T044520Z
UID:167841-1736583300-1736613000@scuolaedilecremona.it
SUMMARY:Area tecnico professionale - Laboratorio esercitazioni pratiche
DESCRIPTION:Docente: BRUNELLI ERNESTO
URL:https://scuolaedilecremona.it/event/area-tecnico-professionale-laboratorio-esercitazioni-pratiche-32/
CATEGORIES:ANNO 3 OPERATORE EDILE - DUALE TERZO ANNO 2024/2025
END:VEVENT
BEGIN:VEVENT
DTSTART;TZID=UTC:20250113T081500
DTEND;TZID=UTC:20250113T101500
DTSTAMP:20260419T185820
CREATED:20250307T044126Z
LAST-MODIFIED:20250307T044126Z
UID:167649-1736756100-1736763300@scuolaedilecremona.it
SUMMARY:Area tecnico professionale - Elementi di tecnologia edile
DESCRIPTION:Docente: BELLADELLI LEONARDO
URL:https://scuolaedilecremona.it/event/area-tecnico-professionale-elementi-di-tecnologia-edile-35/
CATEGORIES:ANNO 2 OPERATORE EDILE - SECONDO ANNO 2024/2025
END:VEVENT
BEGIN:VEVENT
DTSTART;TZID=UTC:20250113T081500
DTEND;TZID=UTC:20250113T101500
DTSTAMP:20260419T185820
CREATED:20250307T044946Z
LAST-MODIFIED:20250307T044946Z
UID:168062-1736756100-1736763300@scuolaedilecremona.it
SUMMARY:Area tecnico professionale - Elementi di sicurezza sul lavoro
DESCRIPTION:Docente: SOFFIENTINI ROBERTO
URL:https://scuolaedilecremona.it/event/area-tecnico-professionale-elementi-di-sicurezza-sul-lavoro-5/
CATEGORIES:ANNO 3 OPERATORE EDILE - TERZO ANNO 2024/2025
END:VEVENT
BEGIN:VEVENT
DTSTART;TZID=UTC:20250113T081500
DTEND;TZID=UTC:20250113T111500
DTSTAMP:20260419T185820
CREATED:20250307T044521Z
LAST-MODIFIED:20250307T044521Z
UID:167842-1736756100-1736766900@scuolaedilecremona.it
SUMMARY:Area scientifica - matematica e geometria
DESCRIPTION:Docente: TAINO CATERINA
URL:https://scuolaedilecremona.it/event/area-scientifica-matematica-e-geometria-27/
CATEGORIES:ANNO 3 OPERATORE EDILE - DUALE TERZO ANNO 2024/2025
END:VEVENT
BEGIN:VEVENT
DTSTART;TZID=UTC:20250113T081500
DTEND;TZID=UTC:20250113T153000
DTSTAMP:20260419T185820
CREATED:20250307T043426Z
LAST-MODIFIED:20250307T043426Z
UID:167300-1736756100-1736782200@scuolaedilecremona.it
SUMMARY:Area tecnico professionale - Laboratorio esercitazioni pratiche
DESCRIPTION:Docente: DOSSENA GHERARDO TITO
URL:https://scuolaedilecremona.it/event/area-tecnico-professionale-laboratorio-esercitazioni-pratiche-139/
CATEGORIES:ANNO 1 OPERATORE EDILE - PRIMO ANNO CREMONA 2024/2025
END:VEVENT
BEGIN:VEVENT
DTSTART;TZID=UTC:20250113T101500
DTEND;TZID=UTC:20250113T111500
DTSTAMP:20260419T185820
CREATED:20250307T044127Z
LAST-MODIFIED:20250307T044127Z
UID:167650-1736763300-1736766900@scuolaedilecremona.it
SUMMARY:Area tecnico professionale - Elementi di contabilita
DESCRIPTION:Docente: SOFFIENTINI ROBERTO
URL:https://scuolaedilecremona.it/event/area-tecnico-professionale-elementi-di-contabilita-30/
CATEGORIES:ANNO 2 OPERATORE EDILE - SECONDO ANNO 2024/2025
END:VEVENT
BEGIN:VEVENT
DTSTART;TZID=UTC:20250113T101500
DTEND;TZID=UTC:20250113T133000
DTSTAMP:20260419T185820
CREATED:20250307T044948Z
LAST-MODIFIED:20250307T044948Z
UID:168063-1736763300-1736775000@scuolaedilecremona.it
SUMMARY:Area tecnico professionale - Elementi di tecnologia edile
DESCRIPTION:Docente: BELLADELLI LEONARDO
URL:https://scuolaedilecremona.it/event/area-tecnico-professionale-elementi-di-tecnologia-edile-6/
CATEGORIES:ANNO 3 OPERATORE EDILE - TERZO ANNO 2024/2025
END:VEVENT
BEGIN:VEVENT
DTSTART;TZID=UTC:20250113T113000
DTEND;TZID=UTC:20250113T133000
DTSTAMP:20260419T185820
CREATED:20250307T044128Z
LAST-MODIFIED:20250307T044128Z
UID:167651-1736767800-1736775000@scuolaedilecremona.it
SUMMARY:AREA DEI LINGUAGGI - LINGUA ITALIANA
DESCRIPTION:Docente: UCCIARDO  CARMELO
URL:https://scuolaedilecremona.it/event/area-dei-linguaggi-lingua-italiana-78/
CATEGORIES:ANNO 2 OPERATORE EDILE - SECONDO ANNO 2024/2025
END:VEVENT
BEGIN:VEVENT
DTSTART;TZID=UTC:20250113T113000
DTEND;TZID=UTC:20250113T133000
DTSTAMP:20260419T185820
CREATED:20250307T044522Z
LAST-MODIFIED:20250307T044522Z
UID:167843-1736767800-1736775000@scuolaedilecremona.it
SUMMARY:Area tecnico professionale - Elementi di sicurezza sul lavoro
DESCRIPTION:Docente: TAINO CATERINA
URL:https://scuolaedilecremona.it/event/area-tecnico-professionale-elementi-di-sicurezza-sul-lavoro-22/
CATEGORIES:ANNO 3 OPERATORE EDILE - DUALE TERZO ANNO 2024/2025
END:VEVENT
BEGIN:VEVENT
DTSTART;TZID=UTC:20250113T133000
DTEND;TZID=UTC:20250113T163000
DTSTAMP:20260419T185820
CREATED:20250307T044523Z
LAST-MODIFIED:20250307T044523Z
UID:167844-1736775000-1736785800@scuolaedilecremona.it
SUMMARY:Area tecnico professionale - Disegno tecnico
DESCRIPTION:Docente: TAINO CATERINA
URL:https://scuolaedilecremona.it/event/area-tecnico-professionale-disegno-tecnico-14/
CATEGORIES:ANNO 3 OPERATORE EDILE - DUALE TERZO ANNO 2024/2025
END:VEVENT
BEGIN:VEVENT
DTSTART;TZID=UTC:20250114T081500
DTEND;TZID=UTC:20250114T091500
DTSTAMP:20260419T185820
CREATED:20250307T044130Z
LAST-MODIFIED:20250307T044130Z
UID:167652-1736842500-1736846100@scuolaedilecremona.it
SUMMARY:AREA DEI LINGUAGGI - LINGUA ITALIANA
DESCRIPTION:Docente: UCCIARDO  CARMELO
URL:https://scuolaedilecremona.it/event/area-dei-linguaggi-lingua-italiana-79/
CATEGORIES:ANNO 2 OPERATORE EDILE - SECONDO ANNO 2024/2025
END:VEVENT
END:VCALENDAR