BEGIN:VCALENDAR
VERSION:2.0
PRODID:-//Ente Scuola Edile Cremona - C.P.T. - ECPv6.15.18//NONSGML v1.0//EN
CALSCALE:GREGORIAN
METHOD:PUBLISH
X-ORIGINAL-URL:https://scuolaedilecremona.it
X-WR-CALDESC:Eventi per Ente Scuola Edile Cremona - C.P.T.
REFRESH-INTERVAL;VALUE=DURATION:PT1H
X-Robots-Tag:noindex
X-PUBLISHED-TTL:PT1H
BEGIN:VTIMEZONE
TZID:UTC
BEGIN:STANDARD
TZOFFSETFROM:+0000
TZOFFSETTO:+0000
TZNAME:UTC
DTSTART:20230101T000000
END:STANDARD
END:VTIMEZONE
BEGIN:VEVENT
DTSTART;TZID=UTC:20241212T080000
DTEND;TZID=UTC:20241212T160000
DTSTAMP:20260419T203543
CREATED:20250307T044505Z
LAST-MODIFIED:20250307T044505Z
UID:167829-1733990400-1734019200@scuolaedilecremona.it
SUMMARY:STAGE
DESCRIPTION:
URL:https://scuolaedilecremona.it/event/stage-92/
CATEGORIES:ANNO 3 OPERATORE EDILE - DUALE TERZO ANNO 2024/2025
END:VEVENT
BEGIN:VEVENT
DTSTART;TZID=UTC:20241212T080000
DTEND;TZID=UTC:20241212T160000
DTSTAMP:20260419T203543
CREATED:20250307T044917Z
LAST-MODIFIED:20250307T044917Z
UID:168037-1733990400-1734019200@scuolaedilecremona.it
SUMMARY:STAGE
DESCRIPTION:
URL:https://scuolaedilecremona.it/event/stage-49/
CATEGORIES:ANNO 3 OPERATORE EDILE - TERZO ANNO 2024/2025
END:VEVENT
BEGIN:VEVENT
DTSTART;TZID=UTC:20241212T081500
DTEND;TZID=UTC:20241212T101500
DTSTAMP:20260419T203543
CREATED:20250307T043345Z
LAST-MODIFIED:20250307T043345Z
UID:167267-1733991300-1733998500@scuolaedilecremona.it
SUMMARY:Area tecnico professionale - Elementi di sicurezza sul lavoro
DESCRIPTION:Docente: SOFFIENTINI ROBERTO
URL:https://scuolaedilecremona.it/event/area-tecnico-professionale-elementi-di-sicurezza-sul-lavoro-51/
CATEGORIES:ANNO 1 OPERATORE EDILE - PRIMO ANNO CREMONA 2024/2025
END:VEVENT
BEGIN:VEVENT
DTSTART;TZID=UTC:20241212T081500
DTEND;TZID=UTC:20241212T133000
DTSTAMP:20260419T203543
CREATED:20250309T203809Z
LAST-MODIFIED:20250309T203809Z
UID:168264-1733991300-1734010200@scuolaedilecremona.it
SUMMARY:Area tecnico professionale - Laboratorio esercitazioni pratiche
DESCRIPTION:Docente: DOSSENA GHERARDO TITO\, BRUNELLI ERNESTO
URL:https://scuolaedilecremona.it/event/area-tecnico-professionale-laboratorio-esercitazioni-pratiche-75/
CATEGORIES:ANNO 2 OPERATORE EDILE - SECONDO ANNO 2024/2025
END:VEVENT
BEGIN:VEVENT
DTSTART;TZID=UTC:20241212T101500
DTEND;TZID=UTC:20241212T111500
DTSTAMP:20260419T203543
CREATED:20250307T043346Z
LAST-MODIFIED:20250307T043346Z
UID:167268-1733998500-1734002100@scuolaedilecremona.it
SUMMARY:Area tecnico professionale - Elementi di contabilita
DESCRIPTION:Docente: SOFFIENTINI ROBERTO
URL:https://scuolaedilecremona.it/event/area-tecnico-professionale-elementi-di-contabilita-42/
CATEGORIES:ANNO 1 OPERATORE EDILE - PRIMO ANNO CREMONA 2024/2025
END:VEVENT
BEGIN:VEVENT
DTSTART;TZID=UTC:20241212T113000
DTEND;TZID=UTC:20241212T123000
DTSTAMP:20260419T203543
CREATED:20250307T043347Z
LAST-MODIFIED:20250307T043347Z
UID:167269-1734003000-1734006600@scuolaedilecremona.it
SUMMARY:Area storico-socio-economica - Storia
DESCRIPTION:Docente: ROSSI GIAMPIETRO
URL:https://scuolaedilecremona.it/event/area-storico-socio-economica-storia-33/
CATEGORIES:ANNO 1 OPERATORE EDILE - PRIMO ANNO CREMONA 2024/2025
END:VEVENT
BEGIN:VEVENT
DTSTART;TZID=UTC:20241212T123000
DTEND;TZID=UTC:20241212T133000
DTSTAMP:20260419T203543
CREATED:20250307T043349Z
LAST-MODIFIED:20250307T043349Z
UID:167270-1734006600-1734010200@scuolaedilecremona.it
SUMMARY:Area storico-socio-economica - Geografia
DESCRIPTION:Docente: ROSSI GIAMPIETRO
URL:https://scuolaedilecremona.it/event/area-storico-socio-economica-geografia-33/
CATEGORIES:ANNO 1 OPERATORE EDILE - PRIMO ANNO CREMONA 2024/2025
END:VEVENT
BEGIN:VEVENT
DTSTART;TZID=UTC:20241213T080000
DTEND;TZID=UTC:20241213T160000
DTSTAMP:20260419T203543
CREATED:20250307T044506Z
LAST-MODIFIED:20250307T044506Z
UID:167830-1734076800-1734105600@scuolaedilecremona.it
SUMMARY:STAGE
DESCRIPTION:
URL:https://scuolaedilecremona.it/event/stage-93/
CATEGORIES:ANNO 3 OPERATORE EDILE - DUALE TERZO ANNO 2024/2025
END:VEVENT
BEGIN:VEVENT
DTSTART;TZID=UTC:20241213T080000
DTEND;TZID=UTC:20241213T160000
DTSTAMP:20260419T203543
CREATED:20250307T044918Z
LAST-MODIFIED:20250307T044918Z
UID:168038-1734076800-1734105600@scuolaedilecremona.it
SUMMARY:STAGE
DESCRIPTION:
URL:https://scuolaedilecremona.it/event/stage-50/
CATEGORIES:ANNO 3 OPERATORE EDILE - TERZO ANNO 2024/2025
END:VEVENT
BEGIN:VEVENT
DTSTART;TZID=UTC:20241213T081500
DTEND;TZID=UTC:20241213T111500
DTSTAMP:20260419T203543
CREATED:20250307T043350Z
LAST-MODIFIED:20250307T043350Z
UID:167271-1734077700-1734088500@scuolaedilecremona.it
SUMMARY:AREA DEI LINGUAGGI - LINGUA ITALIANA
DESCRIPTION:Docente: UCCIARDO  CARMELO
URL:https://scuolaedilecremona.it/event/area-dei-linguaggi-lingua-italiana-106/
CATEGORIES:ANNO 1 OPERATORE EDILE - PRIMO ANNO CREMONA 2024/2025
END:VEVENT
BEGIN:VEVENT
DTSTART;TZID=UTC:20241213T081500
DTEND;TZID=UTC:20241213T111500
DTSTAMP:20260419T203543
CREATED:20250307T044059Z
LAST-MODIFIED:20250307T044059Z
UID:167627-1734077700-1734088500@scuolaedilecremona.it
SUMMARY:Area tecnico professionale - Elementi di tecnologia edile
DESCRIPTION:Docente: BELLADELLI LEONARDO
URL:https://scuolaedilecremona.it/event/area-tecnico-professionale-elementi-di-tecnologia-edile-31/
CATEGORIES:ANNO 2 OPERATORE EDILE - SECONDO ANNO 2024/2025
END:VEVENT
BEGIN:VEVENT
DTSTART;TZID=UTC:20241213T113000
DTEND;TZID=UTC:20241213T133000
DTSTAMP:20260419T203543
CREATED:20250307T044101Z
LAST-MODIFIED:20250307T044101Z
UID:167628-1734089400-1734096600@scuolaedilecremona.it
SUMMARY:Area personalizzazione - Orientamento e capacita personali
DESCRIPTION:Docente: UCCIARDO  CARMELO
URL:https://scuolaedilecremona.it/event/area-personalizzazione-orientamento-e-capacita-personali-13/
CATEGORIES:ANNO 2 OPERATORE EDILE - SECONDO ANNO 2024/2025
END:VEVENT
BEGIN:VEVENT
DTSTART;TZID=UTC:20241213T113000
DTEND;TZID=UTC:20241213T133000
DTSTAMP:20260419T203543
CREATED:20250522T043007Z
LAST-MODIFIED:20250522T043007Z
UID:168423-1734089400-1734096600@scuolaedilecremona.it
SUMMARY:Area personalizzazione - Orientamento e capacita personali
DESCRIPTION:Docente: BONDIONI ELISABETTA\, MEAZZI ANNA CHIARA
URL:https://scuolaedilecremona.it/event/area-personalizzazione-orientamento-e-capacita-personali-23/
CATEGORIES:ANNO 1 OPERATORE EDILE - PRIMO ANNO CREMONA 2024/2025
END:VEVENT
BEGIN:VEVENT
DTSTART;TZID=UTC:20241214T081500
DTEND;TZID=UTC:20241214T133000
DTSTAMP:20260419T203543
CREATED:20250307T043353Z
LAST-MODIFIED:20250307T043353Z
UID:167274-1734164100-1734183000@scuolaedilecremona.it
SUMMARY:Area tecnico professionale - Laboratorio esercitazioni pratiche
DESCRIPTION:Docente: DOSSENA GHERARDO TITO
URL:https://scuolaedilecremona.it/event/area-tecnico-professionale-laboratorio-esercitazioni-pratiche-125/
CATEGORIES:ANNO 1 OPERATORE EDILE - PRIMO ANNO CREMONA 2024/2025
END:VEVENT
BEGIN:VEVENT
DTSTART;TZID=UTC:20241216T080000
DTEND;TZID=UTC:20241216T160000
DTSTAMP:20260419T203543
CREATED:20250307T044507Z
LAST-MODIFIED:20250307T044507Z
UID:167831-1734336000-1734364800@scuolaedilecremona.it
SUMMARY:STAGE
DESCRIPTION:
URL:https://scuolaedilecremona.it/event/stage-94/
CATEGORIES:ANNO 3 OPERATORE EDILE - DUALE TERZO ANNO 2024/2025
END:VEVENT
BEGIN:VEVENT
DTSTART;TZID=UTC:20241216T081500
DTEND;TZID=UTC:20241216T123000
DTSTAMP:20260419T203543
CREATED:20250307T044919Z
LAST-MODIFIED:20250307T044919Z
UID:168039-1734336900-1734352200@scuolaedilecremona.it
SUMMARY:Area tecnologica - informatica
DESCRIPTION:Docente: BILLA CHIARA
URL:https://scuolaedilecremona.it/event/area-tecnologica-informatica/
CATEGORIES:ANNO 3 OPERATORE EDILE - TERZO ANNO 2024/2025
END:VEVENT
BEGIN:VEVENT
DTSTART;TZID=UTC:20241216T081500
DTEND;TZID=UTC:20241216T133000
DTSTAMP:20260419T203543
CREATED:20250307T043355Z
LAST-MODIFIED:20250307T043355Z
UID:167275-1734336900-1734355800@scuolaedilecremona.it
SUMMARY:Area tecnico professionale - Laboratorio esercitazioni pratiche
DESCRIPTION:Docente: PEGOIANI  MATTEO
URL:https://scuolaedilecremona.it/event/area-tecnico-professionale-laboratorio-esercitazioni-pratiche-126/
CATEGORIES:ANNO 1 OPERATORE EDILE - PRIMO ANNO CREMONA 2024/2025
END:VEVENT
BEGIN:VEVENT
DTSTART;TZID=UTC:20241216T081500
DTEND;TZID=UTC:20241216T133000
DTSTAMP:20260419T203543
CREATED:20250307T044102Z
LAST-MODIFIED:20250307T044102Z
UID:167629-1734336900-1734355800@scuolaedilecremona.it
SUMMARY:Area tecnico professionale - Laboratorio esercitazioni pratiche
DESCRIPTION:Docente: DOSSENA GHERARDO TITO
URL:https://scuolaedilecremona.it/event/area-tecnico-professionale-laboratorio-esercitazioni-pratiche-85/
CATEGORIES:ANNO 2 OPERATORE EDILE - SECONDO ANNO 2024/2025
END:VEVENT
BEGIN:VEVENT
DTSTART;TZID=UTC:20241216T123000
DTEND;TZID=UTC:20241216T133000
DTSTAMP:20260419T203543
CREATED:20250307T044920Z
LAST-MODIFIED:20250307T044920Z
UID:168040-1734352200-1734355800@scuolaedilecremona.it
SUMMARY:Area personalizzazione - Orientamento e capacita personali
DESCRIPTION:Docente: UCCIARDO  CARMELO
URL:https://scuolaedilecremona.it/event/area-personalizzazione-orientamento-e-capacita-personali-2/
CATEGORIES:ANNO 3 OPERATORE EDILE - TERZO ANNO 2024/2025
END:VEVENT
BEGIN:VEVENT
DTSTART;TZID=UTC:20241216T133000
DTEND;TZID=UTC:20241216T143000
DTSTAMP:20260419T203543
CREATED:20250522T043007Z
LAST-MODIFIED:20250522T043007Z
UID:168424-1734355800-1734359400@scuolaedilecremona.it
SUMMARY:Area tecnico professionale - Laboratorio esercitazioni pratiche
DESCRIPTION:Docente: DOSSENA GHERARDO TITO\, PEGOIANI  MATTEO
URL:https://scuolaedilecremona.it/event/area-tecnico-professionale-laboratorio-esercitazioni-pratiche-117/
CATEGORIES:ANNO 1 OPERATORE EDILE - PRIMO ANNO CREMONA 2024/2025
END:VEVENT
BEGIN:VEVENT
DTSTART;TZID=UTC:20241216T143000
DTEND;TZID=UTC:20241216T153000
DTSTAMP:20260419T203543
CREATED:20250522T043007Z
LAST-MODIFIED:20250522T043007Z
UID:168425-1734359400-1734363000@scuolaedilecremona.it
SUMMARY:Area tecnico professionale - Laboratorio esercitazioni pratiche
DESCRIPTION:Docente: PEGOIANI  MATTEO\, DOSSENA GHERARDO TITO
URL:https://scuolaedilecremona.it/event/area-tecnico-professionale-laboratorio-esercitazioni-pratiche-119/
CATEGORIES:ANNO 1 OPERATORE EDILE - PRIMO ANNO CREMONA 2024/2025
END:VEVENT
BEGIN:VEVENT
DTSTART;TZID=UTC:20241217T080000
DTEND;TZID=UTC:20241217T160000
DTSTAMP:20260419T203543
CREATED:20250307T044509Z
LAST-MODIFIED:20250307T044509Z
UID:167832-1734422400-1734451200@scuolaedilecremona.it
SUMMARY:STAGE
DESCRIPTION:
URL:https://scuolaedilecremona.it/event/stage-95/
CATEGORIES:ANNO 3 OPERATORE EDILE - DUALE TERZO ANNO 2024/2025
END:VEVENT
BEGIN:VEVENT
DTSTART;TZID=UTC:20241217T081500
DTEND;TZID=UTC:20241217T091500
DTSTAMP:20260419T203543
CREATED:20250307T044103Z
LAST-MODIFIED:20250307T044103Z
UID:167630-1734423300-1734426900@scuolaedilecremona.it
SUMMARY:AREA DEI LINGUAGGI - LINGUA ITALIANA
DESCRIPTION:Docente: UCCIARDO  CARMELO
URL:https://scuolaedilecremona.it/event/area-dei-linguaggi-lingua-italiana-75/
CATEGORIES:ANNO 2 OPERATORE EDILE - SECONDO ANNO 2024/2025
END:VEVENT
BEGIN:VEVENT
DTSTART;TZID=UTC:20241217T081500
DTEND;TZID=UTC:20241217T111500
DTSTAMP:20260419T203543
CREATED:20250307T044921Z
LAST-MODIFIED:20250307T044921Z
UID:168041-1734423300-1734434100@scuolaedilecremona.it
SUMMARY:Religione Cattolica (IRC) / Attivita alternativa
DESCRIPTION:Docente: ROSSI GIAMPIETRO
URL:https://scuolaedilecremona.it/event/religione-cattolica-irc-attivita-alternativa-4/
CATEGORIES:ANNO 3 OPERATORE EDILE - TERZO ANNO 2024/2025
END:VEVENT
BEGIN:VEVENT
DTSTART;TZID=UTC:20241217T081500
DTEND;TZID=UTC:20241217T153000
DTSTAMP:20260419T203543
CREATED:20250307T043358Z
LAST-MODIFIED:20250307T043358Z
UID:167278-1734423300-1734449400@scuolaedilecremona.it
SUMMARY:Area tecnico professionale - Laboratorio esercitazioni pratiche
DESCRIPTION:Docente: DOSSENA GHERARDO TITO\, PEGOIANI  MATTEO
URL:https://scuolaedilecremona.it/event/area-tecnico-professionale-laboratorio-esercitazioni-pratiche-129/
CATEGORIES:ANNO 1 OPERATORE EDILE - PRIMO ANNO CREMONA 2024/2025
END:VEVENT
BEGIN:VEVENT
DTSTART;TZID=UTC:20241217T091500
DTEND;TZID=UTC:20241217T101500
DTSTAMP:20260419T203543
CREATED:20250307T044104Z
LAST-MODIFIED:20250307T044104Z
UID:167631-1734426900-1734430500@scuolaedilecremona.it
SUMMARY:Religione Cattolica (IRC) / Attivita alternativa
DESCRIPTION:Docente: ROSSI GIAMPIETRO
URL:https://scuolaedilecremona.it/event/religione-cattolica-irc-attivita-alternativa-13/
CATEGORIES:ANNO 2 OPERATORE EDILE - SECONDO ANNO 2024/2025
END:VEVENT
BEGIN:VEVENT
DTSTART;TZID=UTC:20241217T091500
DTEND;TZID=UTC:20241217T101500
DTSTAMP:20260419T203543
CREATED:20250307T044922Z
LAST-MODIFIED:20250307T044922Z
UID:168042-1734426900-1734430500@scuolaedilecremona.it
SUMMARY:Area storico-socio-economica - Elementi di economia
DESCRIPTION:Docente: SPOTTI FABIO ENRICO
URL:https://scuolaedilecremona.it/event/area-storico-socio-economica-elementi-di-economia/
CATEGORIES:ANNO 3 OPERATORE EDILE - TERZO ANNO 2024/2025
END:VEVENT
BEGIN:VEVENT
DTSTART;TZID=UTC:20241217T091500
DTEND;TZID=UTC:20241217T133000
DTSTAMP:20260419T203543
CREATED:20250307T043359Z
LAST-MODIFIED:20250307T043359Z
UID:167279-1734426900-1734442200@scuolaedilecremona.it
SUMMARY:Area tecnico professionale - Laboratorio esercitazioni pratiche
DESCRIPTION:Docente: PEGOIANI  MATTEO\, DOSSENA GHERARDO TITO
URL:https://scuolaedilecremona.it/event/area-tecnico-professionale-laboratorio-esercitazioni-pratiche-131/
CATEGORIES:ANNO 1 OPERATORE EDILE - PRIMO ANNO CREMONA 2024/2025
END:VEVENT
BEGIN:VEVENT
DTSTART;TZID=UTC:20241217T101500
DTEND;TZID=UTC:20241217T111500
DTSTAMP:20260419T203543
CREATED:20250307T044106Z
LAST-MODIFIED:20250307T044106Z
UID:167632-1734430500-1734434100@scuolaedilecremona.it
SUMMARY:Area storico-socio-economica - Elementi di diritto del lavoro
DESCRIPTION:Docente: SPOTTI FABIO ENRICO
URL:https://scuolaedilecremona.it/event/area-storico-socio-economica-elementi-di-diritto-del-lavoro-16/
CATEGORIES:ANNO 2 OPERATORE EDILE - SECONDO ANNO 2024/2025
END:VEVENT
BEGIN:VEVENT
DTSTART;TZID=UTC:20241217T113000
DTEND;TZID=UTC:20241217T133000
DTSTAMP:20260419T203543
CREATED:20250307T044107Z
LAST-MODIFIED:20250307T044107Z
UID:167633-1734435000-1734442200@scuolaedilecremona.it
SUMMARY:Area scientifica - matematica e geometria
DESCRIPTION:Docente: BETTONI FABIO
URL:https://scuolaedilecremona.it/event/area-scientifica-matematica-e-geometria-52/
CATEGORIES:ANNO 2 OPERATORE EDILE - SECONDO ANNO 2024/2025
END:VEVENT
END:VCALENDAR