BEGIN:VCALENDAR
VERSION:2.0
PRODID:-//Ente Scuola Edile Cremona - C.P.T. - ECPv6.15.18//NONSGML v1.0//EN
CALSCALE:GREGORIAN
METHOD:PUBLISH
X-WR-CALNAME:Ente Scuola Edile Cremona - C.P.T.
X-ORIGINAL-URL:https://scuolaedilecremona.it
X-WR-CALDESC:Eventi per Ente Scuola Edile Cremona - C.P.T.
REFRESH-INTERVAL;VALUE=DURATION:PT1H
X-Robots-Tag:noindex
X-PUBLISHED-TTL:PT1H
BEGIN:VTIMEZONE
TZID:UTC
BEGIN:STANDARD
TZOFFSETFROM:+0000
TZOFFSETTO:+0000
TZNAME:UTC
DTSTART:20240101T000000
END:STANDARD
END:VTIMEZONE
BEGIN:VEVENT
DTSTART;TZID=UTC:20251112T123000
DTEND;TZID=UTC:20251112T143000
DTSTAMP:20260420T045853
CREATED:20250923T043340Z
LAST-MODIFIED:20250923T043340Z
UID:169204-1762950600-1762957800@scuolaedilecremona.it
SUMMARY:AREA DEI LINGUAGGI - LINGUA ITALIANA
DESCRIPTION:Docente: UCCIARDO  CARMELO
URL:https://scuolaedilecremona.it/event/area-dei-linguaggi-lingua-italiana-211/
CATEGORIES:ANNO 2 OPERATORE EDILE - SECONDO ANNO 2025/2026
END:VEVENT
BEGIN:VEVENT
DTSTART;TZID=UTC:20251112T123000
DTEND;TZID=UTC:20251112T143000
DTSTAMP:20260420T045853
CREATED:20250923T043118Z
LAST-MODIFIED:20250923T043118Z
UID:168827-1762950600-1762957800@scuolaedilecremona.it
SUMMARY:Area scientifica - matematica e geometria
DESCRIPTION:Docente: BETTONI FABIO
URL:https://scuolaedilecremona.it/event/area-scientifica-matematica-e-geometria-112/
CATEGORIES:ANNO 1 OPERATORE EDILE - PRIMO ANNO CREMONA 2025/2026
END:VEVENT
BEGIN:VEVENT
DTSTART;TZID=UTC:20251112T101500
DTEND;TZID=UTC:20251112T123000
DTSTAMP:20260420T045853
CREATED:20251126T043112Z
LAST-MODIFIED:20251126T043112Z
UID:170129-1762942500-1762950600@scuolaedilecremona.it
SUMMARY:Area scientifica - scienze
DESCRIPTION:Docente: TAINO CATERINA
URL:https://scuolaedilecremona.it/event/area-scientifica-scienze-73/
CATEGORIES:ANNO 1 OPERATORE EDILE - PRIMO ANNO CREMONA 2025/2026
END:VEVENT
BEGIN:VEVENT
DTSTART;TZID=UTC:20251112T101500
DTEND;TZID=UTC:20251112T123000
DTSTAMP:20260420T045853
CREATED:20250923T043340Z
LAST-MODIFIED:20250923T043340Z
UID:169203-1762942500-1762950600@scuolaedilecremona.it
SUMMARY:Area tecnico professionale - Disegno tecnico
DESCRIPTION:Docente: SOFFIENTINI ROBERTO
URL:https://scuolaedilecremona.it/event/area-tecnico-professionale-disegno-tecnico-76/
CATEGORIES:ANNO 2 OPERATORE EDILE - SECONDO ANNO 2025/2026
END:VEVENT
BEGIN:VEVENT
DTSTART;TZID=UTC:20251112T081500
DTEND;TZID=UTC:20251112T101500
DTSTAMP:20260420T045853
CREATED:20251127T043007Z
LAST-MODIFIED:20251127T043007Z
UID:170134-1762935300-1762942500@scuolaedilecremona.it
SUMMARY:Area scientifica - scienze
DESCRIPTION:Docente: TAINO CATERINA
URL:https://scuolaedilecremona.it/event/area-scientifica-scienze-75/
CATEGORIES:ANNO 2 OPERATORE EDILE - SECONDO ANNO 2025/2026
END:VEVENT
BEGIN:VEVENT
DTSTART;TZID=UTC:20251112T081500
DTEND;TZID=UTC:20251112T101500
DTSTAMP:20260420T045853
CREATED:20250923T043117Z
LAST-MODIFIED:20250923T043117Z
UID:168824-1762935300-1762942500@scuolaedilecremona.it
SUMMARY:Area tecnico professionale - Disegno tecnico
DESCRIPTION:Docente: SOFFIENTINI ROBERTO
URL:https://scuolaedilecremona.it/event/area-tecnico-professionale-disegno-tecnico-57/
CATEGORIES:ANNO 1 OPERATORE EDILE - PRIMO ANNO CREMONA 2025/2026
END:VEVENT
BEGIN:VEVENT
DTSTART;TZID=UTC:20251112T080000
DTEND;TZID=UTC:20251112T160000
DTSTAMP:20260420T045853
CREATED:20250925T043120Z
LAST-MODIFIED:20250925T043120Z
UID:169758-1762934400-1762963200@scuolaedilecremona.it
SUMMARY:STAGE
DESCRIPTION:
URL:https://scuolaedilecremona.it/event/stage-257/
CATEGORIES:ANNO 3 OPERATORE EDILE - TERZO  ANNO 2025/2026 GOL
END:VEVENT
BEGIN:VEVENT
DTSTART;TZID=UTC:20251111T133000
DTEND;TZID=UTC:20251111T143000
DTSTAMP:20260420T045853
CREATED:20250923T043117Z
LAST-MODIFIED:20250923T043117Z
UID:168823-1762867800-1762871400@scuolaedilecremona.it
SUMMARY:Area storico-socio-economica - Storia
DESCRIPTION:Docente: ROSSI GIAMPIETRO
URL:https://scuolaedilecremona.it/event/area-storico-socio-economica-storia-51/
CATEGORIES:ANNO 1 OPERATORE EDILE - PRIMO ANNO CREMONA 2025/2026
END:VEVENT
BEGIN:VEVENT
DTSTART;TZID=UTC:20251111T123000
DTEND;TZID=UTC:20251111T143000
DTSTAMP:20260420T045853
CREATED:20250923T043339Z
LAST-MODIFIED:20250923T043339Z
UID:169200-1762864200-1762871400@scuolaedilecremona.it
SUMMARY:Area scientifica - matematica e geometria
DESCRIPTION:Docente: BETTONI FABIO
URL:https://scuolaedilecremona.it/event/area-scientifica-matematica-e-geometria-153/
CATEGORIES:ANNO 2 OPERATORE EDILE - SECONDO ANNO 2025/2026
END:VEVENT
BEGIN:VEVENT
DTSTART;TZID=UTC:20251111T123000
DTEND;TZID=UTC:20251111T133000
DTSTAMP:20260420T045853
CREATED:20250923T043116Z
LAST-MODIFIED:20250923T043116Z
UID:168822-1762864200-1762867800@scuolaedilecremona.it
SUMMARY:Area storico-socio-economica - Geografia
DESCRIPTION:Docente: ROSSI GIAMPIETRO
URL:https://scuolaedilecremona.it/event/area-storico-socio-economica-geografia-49/
CATEGORIES:ANNO 1 OPERATORE EDILE - PRIMO ANNO CREMONA 2025/2026
END:VEVENT
BEGIN:VEVENT
DTSTART;TZID=UTC:20251111T101500
DTEND;TZID=UTC:20251111T123000
DTSTAMP:20260420T045853
CREATED:20250923T043339Z
LAST-MODIFIED:20250923T043339Z
UID:169199-1762856100-1762864200@scuolaedilecremona.it
SUMMARY:Area tecnico professionale - Elementi di tecnologia edile
DESCRIPTION:Docente: BELLADELLI LEONARDO
URL:https://scuolaedilecremona.it/event/area-tecnico-professionale-elementi-di-tecnologia-edile-87/
CATEGORIES:ANNO 2 OPERATORE EDILE - SECONDO ANNO 2025/2026
END:VEVENT
BEGIN:VEVENT
DTSTART;TZID=UTC:20251111T101500
DTEND;TZID=UTC:20251111T123000
DTSTAMP:20260420T045853
CREATED:20250923T043116Z
LAST-MODIFIED:20250923T043116Z
UID:168821-1762856100-1762864200@scuolaedilecremona.it
SUMMARY:Area scientifica - scienze
DESCRIPTION:Docente: TAINO CATERINA
URL:https://scuolaedilecremona.it/event/area-scientifica-scienze-36/
CATEGORIES:ANNO 1 OPERATORE EDILE - PRIMO ANNO CREMONA 2025/2026
END:VEVENT
BEGIN:VEVENT
DTSTART;TZID=UTC:20251111T081500
DTEND;TZID=UTC:20251111T101500
DTSTAMP:20260420T045853
CREATED:20250923T043338Z
LAST-MODIFIED:20250923T043338Z
UID:169198-1762848900-1762856100@scuolaedilecremona.it
SUMMARY:Area scientifica - scienze
DESCRIPTION:Docente: TAINO CATERINA
URL:https://scuolaedilecremona.it/event/area-scientifica-scienze-55/
CATEGORIES:ANNO 2 OPERATORE EDILE - SECONDO ANNO 2025/2026
END:VEVENT
BEGIN:VEVENT
DTSTART;TZID=UTC:20251111T081500
DTEND;TZID=UTC:20251111T101500
DTSTAMP:20260420T045853
CREATED:20250923T043116Z
LAST-MODIFIED:20250923T043116Z
UID:168820-1762848900-1762856100@scuolaedilecremona.it
SUMMARY:Area tecnico professionale - Elementi di tecnologia edile
DESCRIPTION:Docente: BELLADELLI LEONARDO
URL:https://scuolaedilecremona.it/event/area-tecnico-professionale-elementi-di-tecnologia-edile-63/
CATEGORIES:ANNO 1 OPERATORE EDILE - PRIMO ANNO CREMONA 2025/2026
END:VEVENT
BEGIN:VEVENT
DTSTART;TZID=UTC:20251111T080000
DTEND;TZID=UTC:20251111T160000
DTSTAMP:20260420T045853
CREATED:20250925T043119Z
LAST-MODIFIED:20250925T043119Z
UID:169757-1762848000-1762876800@scuolaedilecremona.it
SUMMARY:STAGE
DESCRIPTION:
URL:https://scuolaedilecremona.it/event/stage-256/
CATEGORIES:ANNO 3 OPERATORE EDILE - TERZO  ANNO 2025/2026 GOL
END:VEVENT
BEGIN:VEVENT
DTSTART;TZID=UTC:20251110T133000
DTEND;TZID=UTC:20251110T143000
DTSTAMP:20260420T045853
CREATED:20250923T043338Z
LAST-MODIFIED:20250923T043338Z
UID:169197-1762781400-1762785000@scuolaedilecremona.it
SUMMARY:AREA DEI LINGUAGGI - LINGUA ITALIANA
DESCRIPTION:Docente: UCCIARDO  CARMELO
URL:https://scuolaedilecremona.it/event/area-dei-linguaggi-lingua-italiana-210/
CATEGORIES:ANNO 2 OPERATORE EDILE - SECONDO ANNO 2025/2026
END:VEVENT
BEGIN:VEVENT
DTSTART;TZID=UTC:20251110T123000
DTEND;TZID=UTC:20251110T143000
DTSTAMP:20260420T045853
CREATED:20250923T043115Z
LAST-MODIFIED:20250923T043115Z
UID:168819-1762777800-1762785000@scuolaedilecremona.it
SUMMARY:Area scientifica - matematica e geometria
DESCRIPTION:Docente: BETTONI FABIO
URL:https://scuolaedilecremona.it/event/area-scientifica-matematica-e-geometria-111/
CATEGORIES:ANNO 1 OPERATORE EDILE - PRIMO ANNO CREMONA 2025/2026
END:VEVENT
BEGIN:VEVENT
DTSTART;TZID=UTC:20251110T101500
DTEND;TZID=UTC:20251110T133000
DTSTAMP:20260420T045853
CREATED:20250923T043337Z
LAST-MODIFIED:20250923T043337Z
UID:169196-1762769700-1762781400@scuolaedilecremona.it
SUMMARY:AREA DEI LINGUAGGI - LINGUA INGLESE
DESCRIPTION:Docente: VIRGILIO LAURA LETIZIA
URL:https://scuolaedilecremona.it/event/area-dei-linguaggi-lingua-inglese-87/
CATEGORIES:ANNO 2 OPERATORE EDILE - SECONDO ANNO 2025/2026
END:VEVENT
BEGIN:VEVENT
DTSTART;TZID=UTC:20251110T101500
DTEND;TZID=UTC:20251110T123000
DTSTAMP:20260420T045853
CREATED:20250923T043115Z
LAST-MODIFIED:20250923T043115Z
UID:168818-1762769700-1762777800@scuolaedilecremona.it
SUMMARY:AREA DEI LINGUAGGI - LINGUA ITALIANA
DESCRIPTION:Docente: UCCIARDO  CARMELO
URL:https://scuolaedilecremona.it/event/area-dei-linguaggi-lingua-italiana-150/
CATEGORIES:ANNO 1 OPERATORE EDILE - PRIMO ANNO CREMONA 2025/2026
END:VEVENT
BEGIN:VEVENT
DTSTART;TZID=UTC:20251110T081500
DTEND;TZID=UTC:20251110T101500
DTSTAMP:20260420T045853
CREATED:20250923T043337Z
LAST-MODIFIED:20250923T043337Z
UID:169195-1762762500-1762769700@scuolaedilecremona.it
SUMMARY:Area tecnologica - informatica
DESCRIPTION:Docente: BILLA CHIARA
URL:https://scuolaedilecremona.it/event/area-tecnologica-informatica-57/
CATEGORIES:ANNO 2 OPERATORE EDILE - SECONDO ANNO 2025/2026
END:VEVENT
BEGIN:VEVENT
DTSTART;TZID=UTC:20251110T081500
DTEND;TZID=UTC:20251110T101500
DTSTAMP:20260420T045853
CREATED:20250923T043115Z
LAST-MODIFIED:20250923T043115Z
UID:168817-1762762500-1762769700@scuolaedilecremona.it
SUMMARY:AREA DEI LINGUAGGI - LINGUA INGLESE
DESCRIPTION:Docente: VIRGILIO LAURA LETIZIA
URL:https://scuolaedilecremona.it/event/area-dei-linguaggi-lingua-inglese-65/
CATEGORIES:ANNO 1 OPERATORE EDILE - PRIMO ANNO CREMONA 2025/2026
END:VEVENT
BEGIN:VEVENT
DTSTART;TZID=UTC:20251110T080000
DTEND;TZID=UTC:20251110T160000
DTSTAMP:20260420T045853
CREATED:20250925T043119Z
LAST-MODIFIED:20250925T043119Z
UID:169756-1762761600-1762790400@scuolaedilecremona.it
SUMMARY:STAGE
DESCRIPTION:
URL:https://scuolaedilecremona.it/event/stage-255/
CATEGORIES:ANNO 3 OPERATORE EDILE - TERZO  ANNO 2025/2026 GOL
END:VEVENT
BEGIN:VEVENT
DTSTART;TZID=UTC:20251107T123000
DTEND;TZID=UTC:20251107T143000
DTSTAMP:20260420T045853
CREATED:20251031T043050Z
LAST-MODIFIED:20251031T043050Z
UID:170094-1762518600-1762525800@scuolaedilecremona.it
SUMMARY:Area scientifica - matematica e geometria
DESCRIPTION:Docente: BETTONI FABIO
URL:https://scuolaedilecremona.it/event/area-scientifica-matematica-e-geometria-106/
CATEGORIES:ANNO 1 OPERATORE EDILE - PRIMO ANNO CREMONA 2025/2026
END:VEVENT
BEGIN:VEVENT
DTSTART;TZID=UTC:20251107T101500
DTEND;TZID=UTC:20251107T143000
DTSTAMP:20260420T045853
CREATED:20250923T043337Z
LAST-MODIFIED:20250923T043337Z
UID:169194-1762510500-1762525800@scuolaedilecremona.it
SUMMARY:Area personalizzazione - Laboratorio attivita espressivo motorie
DESCRIPTION:Docente: BODINI DAVIDE
URL:https://scuolaedilecremona.it/event/area-personalizzazione-laboratorio-attivita-espressivo-motorie-34/
CATEGORIES:ANNO 2 OPERATORE EDILE - SECONDO ANNO 2025/2026
END:VEVENT
BEGIN:VEVENT
DTSTART;TZID=UTC:20251107T101500
DTEND;TZID=UTC:20251107T123000
DTSTAMP:20260420T045853
CREATED:20251031T043049Z
LAST-MODIFIED:20251031T043049Z
UID:170093-1762510500-1762518600@scuolaedilecremona.it
SUMMARY:AREA DEI LINGUAGGI - LINGUA ITALIANA
DESCRIPTION:Docente: UCCIARDO  CARMELO
URL:https://scuolaedilecremona.it/event/area-dei-linguaggi-lingua-italiana-147/
CATEGORIES:ANNO 1 OPERATORE EDILE - PRIMO ANNO CREMONA 2025/2026
END:VEVENT
BEGIN:VEVENT
DTSTART;TZID=UTC:20251107T081500
DTEND;TZID=UTC:20251107T101500
DTSTAMP:20260420T045853
CREATED:20250923T043336Z
LAST-MODIFIED:20250923T043336Z
UID:169193-1762503300-1762510500@scuolaedilecremona.it
SUMMARY:AREA DEI LINGUAGGI - LINGUA ITALIANA
DESCRIPTION:Docente: UCCIARDO  CARMELO
URL:https://scuolaedilecremona.it/event/area-dei-linguaggi-lingua-italiana-209/
CATEGORIES:ANNO 2 OPERATORE EDILE - SECONDO ANNO 2025/2026
END:VEVENT
BEGIN:VEVENT
DTSTART;TZID=UTC:20251107T081500
DTEND;TZID=UTC:20251107T101500
DTSTAMP:20260420T045853
CREATED:20250923T043114Z
LAST-MODIFIED:20250923T043114Z
UID:168815-1762503300-1762510500@scuolaedilecremona.it
SUMMARY:Area personalizzazione - Laboratorio attivita espressivo motorie
DESCRIPTION:Docente: BODINI DAVIDE
URL:https://scuolaedilecremona.it/event/area-personalizzazione-laboratorio-attivita-espressivo-motorie-27/
CATEGORIES:ANNO 1 OPERATORE EDILE - PRIMO ANNO CREMONA 2025/2026
END:VEVENT
BEGIN:VEVENT
DTSTART;TZID=UTC:20251107T080000
DTEND;TZID=UTC:20251107T160000
DTSTAMP:20260420T045853
CREATED:20250925T043118Z
LAST-MODIFIED:20250925T043118Z
UID:169755-1762502400-1762531200@scuolaedilecremona.it
SUMMARY:STAGE
DESCRIPTION:
URL:https://scuolaedilecremona.it/event/stage-254/
CATEGORIES:ANNO 3 OPERATORE EDILE - TERZO  ANNO 2025/2026 GOL
END:VEVENT
BEGIN:VEVENT
DTSTART;TZID=UTC:20251106T123000
DTEND;TZID=UTC:20251106T143000
DTSTAMP:20260420T045853
CREATED:20251031T043049Z
LAST-MODIFIED:20251031T043049Z
UID:170092-1762432200-1762439400@scuolaedilecremona.it
SUMMARY:Area storico-socio-economica - Storia
DESCRIPTION:Docente: ROSSI GIAMPIETRO
URL:https://scuolaedilecremona.it/event/area-storico-socio-economica-storia-50/
CATEGORIES:ANNO 1 OPERATORE EDILE - PRIMO ANNO CREMONA 2025/2026
END:VEVENT
BEGIN:VEVENT
DTSTART;TZID=UTC:20251106T101500
DTEND;TZID=UTC:20251106T123000
DTSTAMP:20260420T045853
CREATED:20251031T043048Z
LAST-MODIFIED:20251031T043048Z
UID:170091-1762424100-1762432200@scuolaedilecremona.it
SUMMARY:Area storico-socio-economica - Geografia
DESCRIPTION:Docente: ROSSI GIAMPIETRO
URL:https://scuolaedilecremona.it/event/area-storico-socio-economica-geografia-48/
CATEGORIES:ANNO 1 OPERATORE EDILE - PRIMO ANNO CREMONA 2025/2026
END:VEVENT
END:VCALENDAR