BEGIN:VCALENDAR
VERSION:2.0
PRODID:-//Ente Scuola Edile Cremona - C.P.T. - ECPv6.15.18//NONSGML v1.0//EN
CALSCALE:GREGORIAN
METHOD:PUBLISH
X-WR-CALNAME:Ente Scuola Edile Cremona - C.P.T.
X-ORIGINAL-URL:https://scuolaedilecremona.it
X-WR-CALDESC:Eventi per Ente Scuola Edile Cremona - C.P.T.
REFRESH-INTERVAL;VALUE=DURATION:PT1H
X-Robots-Tag:noindex
X-PUBLISHED-TTL:PT1H
BEGIN:VTIMEZONE
TZID:UTC
BEGIN:STANDARD
TZOFFSETFROM:+0000
TZOFFSETTO:+0000
TZNAME:UTC
DTSTART:20250101T000000
END:STANDARD
END:VTIMEZONE
BEGIN:VEVENT
DTSTART;TZID=UTC:20260401T123000
DTEND;TZID=UTC:20260401T143000
DTSTAMP:20260420T040506
CREATED:20250925T043258Z
LAST-MODIFIED:20250925T043258Z
UID:169921-1775046600-1775053800@scuolaedilecremona.it
SUMMARY:Area storico-socio-economica - Elementi di diritto del lavoro
DESCRIPTION:Docente: BRUSCHI GIADA
URL:https://scuolaedilecremona.it/event/area-storico-socio-economica-elementi-di-diritto-del-lavoro-64/
CATEGORIES:ANNO 3 OPERATORE EDILE - TERZO  ANNO 2025/2026 GOL
END:VEVENT
BEGIN:VEVENT
DTSTART;TZID=UTC:20260408T081500
DTEND;TZID=UTC:20260408T123000
DTSTAMP:20260420T040506
CREATED:20250925T043258Z
LAST-MODIFIED:20250925T043258Z
UID:169922-1775636100-1775651400@scuolaedilecremona.it
SUMMARY:AREA DEI LINGUAGGI - LINGUA ITALIANA
DESCRIPTION:Docente: SPERNAZZATI EMANUELA
URL:https://scuolaedilecremona.it/event/area-dei-linguaggi-lingua-italiana-249/
CATEGORIES:ANNO 3 OPERATORE EDILE - TERZO  ANNO 2025/2026 GOL
END:VEVENT
BEGIN:VEVENT
DTSTART;TZID=UTC:20260408T123000
DTEND;TZID=UTC:20260408T133000
DTSTAMP:20260420T040506
CREATED:20250925T043259Z
LAST-MODIFIED:20250925T043259Z
UID:169923-1775651400-1775655000@scuolaedilecremona.it
SUMMARY:Area personalizzazione - Orientamento e capacita personali
DESCRIPTION:Docente: BRUSCHI GIADA
URL:https://scuolaedilecremona.it/event/area-personalizzazione-orientamento-e-capacita-personali-76/
CATEGORIES:ANNO 3 OPERATORE EDILE - TERZO  ANNO 2025/2026 GOL
END:VEVENT
BEGIN:VEVENT
DTSTART;TZID=UTC:20260408T133000
DTEND;TZID=UTC:20260408T143000
DTSTAMP:20260420T040506
CREATED:20250925T043300Z
LAST-MODIFIED:20250925T043300Z
UID:169924-1775655000-1775658600@scuolaedilecremona.it
SUMMARY:Area storico-socio-economica - Elementi di diritto del lavoro
DESCRIPTION:Docente: BRUSCHI GIADA
URL:https://scuolaedilecremona.it/event/area-storico-socio-economica-elementi-di-diritto-del-lavoro-65/
CATEGORIES:ANNO 3 OPERATORE EDILE - TERZO  ANNO 2025/2026 GOL
END:VEVENT
BEGIN:VEVENT
DTSTART;TZID=UTC:20260409T081500
DTEND;TZID=UTC:20260409T143000
DTSTAMP:20260420T040506
CREATED:20250925T043300Z
LAST-MODIFIED:20250925T043300Z
UID:169925-1775722500-1775745000@scuolaedilecremona.it
SUMMARY:Area tecnico professionale - Laboratorio esercitazioni pratiche
DESCRIPTION:Docente: BRUNELLI ERNESTO
URL:https://scuolaedilecremona.it/event/area-tecnico-professionale-laboratorio-esercitazioni-pratiche-254/
CATEGORIES:ANNO 3 OPERATORE EDILE - TERZO  ANNO 2025/2026 GOL
END:VEVENT
BEGIN:VEVENT
DTSTART;TZID=UTC:20260410T081500
DTEND;TZID=UTC:20260410T091500
DTSTAMP:20260420T040506
CREATED:20250925T043301Z
LAST-MODIFIED:20250925T043301Z
UID:169926-1775808900-1775812500@scuolaedilecremona.it
SUMMARY:Area storico-socio-economica - Geografia
DESCRIPTION:Docente: ROSSI GIAMPIETRO
URL:https://scuolaedilecremona.it/event/area-storico-socio-economica-geografia-79/
CATEGORIES:ANNO 3 OPERATORE EDILE - TERZO  ANNO 2025/2026 GOL
END:VEVENT
BEGIN:VEVENT
DTSTART;TZID=UTC:20260410T091500
DTEND;TZID=UTC:20260410T101500
DTSTAMP:20260420T040506
CREATED:20250925T043301Z
LAST-MODIFIED:20250925T043301Z
UID:169927-1775812500-1775816100@scuolaedilecremona.it
SUMMARY:Area storico-socio-economica - Storia
DESCRIPTION:Docente: ROSSI GIAMPIETRO
URL:https://scuolaedilecremona.it/event/area-storico-socio-economica-storia-78/
CATEGORIES:ANNO 3 OPERATORE EDILE - TERZO  ANNO 2025/2026 GOL
END:VEVENT
BEGIN:VEVENT
DTSTART;TZID=UTC:20260410T101500
DTEND;TZID=UTC:20260410T123000
DTSTAMP:20260420T040506
CREATED:20250925T043302Z
LAST-MODIFIED:20250925T043302Z
UID:169928-1775816100-1775824200@scuolaedilecremona.it
SUMMARY:Area tecnico professionale - Disegno tecnico
DESCRIPTION:Docente: SOFFIENTINI ROBERTO
URL:https://scuolaedilecremona.it/event/area-tecnico-professionale-disegno-tecnico-91/
CATEGORIES:ANNO 3 OPERATORE EDILE - TERZO  ANNO 2025/2026 GOL
END:VEVENT
BEGIN:VEVENT
DTSTART;TZID=UTC:20260410T123000
DTEND;TZID=UTC:20260410T143000
DTSTAMP:20260420T040506
CREATED:20250925T043303Z
LAST-MODIFIED:20250925T043303Z
UID:169929-1775824200-1775831400@scuolaedilecremona.it
SUMMARY:Area scientifica - matematica e geometria
DESCRIPTION:Docente: BETTONI FABIO
URL:https://scuolaedilecremona.it/event/area-scientifica-matematica-e-geometria-194/
CATEGORIES:ANNO 3 OPERATORE EDILE - TERZO  ANNO 2025/2026 GOL
END:VEVENT
BEGIN:VEVENT
DTSTART;TZID=UTC:20260413T081500
DTEND;TZID=UTC:20260413T101500
DTSTAMP:20260420T040506
CREATED:20250925T043304Z
LAST-MODIFIED:20250925T043304Z
UID:169930-1776068100-1776075300@scuolaedilecremona.it
SUMMARY:Area tecnologica - informatica
DESCRIPTION:Docente: BILLA CHIARA
URL:https://scuolaedilecremona.it/event/area-tecnologica-informatica-72/
CATEGORIES:ANNO 3 OPERATORE EDILE - TERZO  ANNO 2025/2026 GOL
END:VEVENT
BEGIN:VEVENT
DTSTART;TZID=UTC:20260413T101500
DTEND;TZID=UTC:20260413T111500
DTSTAMP:20260420T040506
CREATED:20260416T043009Z
LAST-MODIFIED:20260416T043009Z
UID:170514-1776075300-1776078900@scuolaedilecremona.it
SUMMARY:AREA DEI LINGUAGGI - LINGUA ITALIANA
DESCRIPTION:Docente: UCCIARDO  CARMELO
URL:https://scuolaedilecremona.it/event/area-dei-linguaggi-lingua-italiana-190/
CATEGORIES:ANNO 3 OPERATORE EDILE - TERZO  ANNO 2025/2026 GOL
END:VEVENT
BEGIN:VEVENT
DTSTART;TZID=UTC:20260413T113000
DTEND;TZID=UTC:20260413T133000
DTSTAMP:20260420T040506
CREATED:20260416T043010Z
LAST-MODIFIED:20260416T043010Z
UID:170515-1776079800-1776087000@scuolaedilecremona.it
SUMMARY:AREA DEI LINGUAGGI - LINGUA INGLESE
DESCRIPTION:Docente: VIRGILIO LAURA LETIZIA
URL:https://scuolaedilecremona.it/event/area-dei-linguaggi-lingua-inglese-69/
CATEGORIES:ANNO 3 OPERATORE EDILE - TERZO  ANNO 2025/2026 GOL
END:VEVENT
BEGIN:VEVENT
DTSTART;TZID=UTC:20260413T133000
DTEND;TZID=UTC:20260413T143000
DTSTAMP:20260420T040506
CREATED:20250925T043305Z
LAST-MODIFIED:20250925T043305Z
UID:169932-1776087000-1776090600@scuolaedilecremona.it
SUMMARY:Area scientifica - matematica e geometria
DESCRIPTION:Docente: BETTONI FABIO
URL:https://scuolaedilecremona.it/event/area-scientifica-matematica-e-geometria-195/
CATEGORIES:ANNO 3 OPERATORE EDILE - TERZO  ANNO 2025/2026 GOL
END:VEVENT
BEGIN:VEVENT
DTSTART;TZID=UTC:20260414T081500
DTEND;TZID=UTC:20260414T123000
DTSTAMP:20260420T040506
CREATED:20250925T043306Z
LAST-MODIFIED:20250925T043306Z
UID:169933-1776154500-1776169800@scuolaedilecremona.it
SUMMARY:Area tecnico professionale - Elementi di tecnologia edile
DESCRIPTION:Docente: BELLADELLI LEONARDO
URL:https://scuolaedilecremona.it/event/area-tecnico-professionale-elementi-di-tecnologia-edile-110/
CATEGORIES:ANNO 3 OPERATORE EDILE - TERZO  ANNO 2025/2026 GOL
END:VEVENT
BEGIN:VEVENT
DTSTART;TZID=UTC:20260414T123000
DTEND;TZID=UTC:20260414T133000
DTSTAMP:20260420T040506
CREATED:20250925T043306Z
LAST-MODIFIED:20250925T043306Z
UID:169934-1776169800-1776173400@scuolaedilecremona.it
SUMMARY:Area storico-socio-economica - Geografia
DESCRIPTION:Docente: ROSSI GIAMPIETRO
URL:https://scuolaedilecremona.it/event/area-storico-socio-economica-geografia-80/
CATEGORIES:ANNO 3 OPERATORE EDILE - TERZO  ANNO 2025/2026 GOL
END:VEVENT
BEGIN:VEVENT
DTSTART;TZID=UTC:20260414T133000
DTEND;TZID=UTC:20260414T143000
DTSTAMP:20260420T040506
CREATED:20250925T043307Z
LAST-MODIFIED:20250925T043307Z
UID:169935-1776173400-1776177000@scuolaedilecremona.it
SUMMARY:Area storico-socio-economica - Storia
DESCRIPTION:Docente: ROSSI GIAMPIETRO
URL:https://scuolaedilecremona.it/event/area-storico-socio-economica-storia-79/
CATEGORIES:ANNO 3 OPERATORE EDILE - TERZO  ANNO 2025/2026 GOL
END:VEVENT
BEGIN:VEVENT
DTSTART;TZID=UTC:20260415T081500
DTEND;TZID=UTC:20260415T123000
DTSTAMP:20260420T040506
CREATED:20250925T043308Z
LAST-MODIFIED:20250925T043308Z
UID:169936-1776240900-1776256200@scuolaedilecremona.it
SUMMARY:AREA DEI LINGUAGGI - LINGUA ITALIANA
DESCRIPTION:Docente: SPERNAZZATI EMANUELA
URL:https://scuolaedilecremona.it/event/area-dei-linguaggi-lingua-italiana-250/
CATEGORIES:ANNO 3 OPERATORE EDILE - TERZO  ANNO 2025/2026 GOL
END:VEVENT
BEGIN:VEVENT
DTSTART;TZID=UTC:20260415T123000
DTEND;TZID=UTC:20260415T143000
DTSTAMP:20260420T040506
CREATED:20250925T043308Z
LAST-MODIFIED:20250925T043308Z
UID:169937-1776256200-1776263400@scuolaedilecremona.it
SUMMARY:Area personalizzazione - Orientamento e capacita personali
DESCRIPTION:Docente: BRUSCHI GIADA
URL:https://scuolaedilecremona.it/event/area-personalizzazione-orientamento-e-capacita-personali-77/
CATEGORIES:ANNO 3 OPERATORE EDILE - TERZO  ANNO 2025/2026 GOL
END:VEVENT
BEGIN:VEVENT
DTSTART;TZID=UTC:20260416T081500
DTEND;TZID=UTC:20260416T143000
DTSTAMP:20260420T040506
CREATED:20250925T043309Z
LAST-MODIFIED:20250925T043309Z
UID:169938-1776327300-1776349800@scuolaedilecremona.it
SUMMARY:Area tecnico professionale - Laboratorio esercitazioni pratiche
DESCRIPTION:Docente: BRUNELLI ERNESTO
URL:https://scuolaedilecremona.it/event/area-tecnico-professionale-laboratorio-esercitazioni-pratiche-255/
CATEGORIES:ANNO 3 OPERATORE EDILE - TERZO  ANNO 2025/2026 GOL
END:VEVENT
BEGIN:VEVENT
DTSTART;TZID=UTC:20260417T081500
DTEND;TZID=UTC:20260417T143000
DTSTAMP:20260420T040506
CREATED:20260416T043010Z
LAST-MODIFIED:20260416T043010Z
UID:170516-1776413700-1776436200@scuolaedilecremona.it
SUMMARY:AREA DEI LINGUAGGI - LINGUA ITALIANA
DESCRIPTION:Docente: UCCIARDO  CARMELO\, TAINO CATERINA
URL:https://scuolaedilecremona.it/event/area-dei-linguaggi-lingua-italiana-191/
CATEGORIES:ANNO 3 OPERATORE EDILE - TERZO  ANNO 2025/2026 GOL
END:VEVENT
BEGIN:VEVENT
DTSTART;TZID=UTC:20260420T081500
DTEND;TZID=UTC:20260420T101500
DTSTAMP:20260420T040506
CREATED:20250925T043312Z
LAST-MODIFIED:20250925T043312Z
UID:169943-1776672900-1776680100@scuolaedilecremona.it
SUMMARY:Area tecnologica - informatica
DESCRIPTION:Docente: BILLA CHIARA
URL:https://scuolaedilecremona.it/event/area-tecnologica-informatica-73/
CATEGORIES:ANNO 3 OPERATORE EDILE - TERZO  ANNO 2025/2026 GOL
END:VEVENT
BEGIN:VEVENT
DTSTART;TZID=UTC:20260420T101500
DTEND;TZID=UTC:20260420T133000
DTSTAMP:20260420T040506
CREATED:20250925T043313Z
LAST-MODIFIED:20250925T043313Z
UID:169944-1776680100-1776691800@scuolaedilecremona.it
SUMMARY:AREA DEI LINGUAGGI - LINGUA INGLESE
DESCRIPTION:Docente: VIRGILIO LAURA LETIZIA
URL:https://scuolaedilecremona.it/event/area-dei-linguaggi-lingua-inglese-109/
CATEGORIES:ANNO 3 OPERATORE EDILE - TERZO  ANNO 2025/2026 GOL
END:VEVENT
BEGIN:VEVENT
DTSTART;TZID=UTC:20260420T133000
DTEND;TZID=UTC:20260420T143000
DTSTAMP:20260420T040506
CREATED:20250925T043313Z
LAST-MODIFIED:20250925T043313Z
UID:169945-1776691800-1776695400@scuolaedilecremona.it
SUMMARY:Area scientifica - matematica e geometria
DESCRIPTION:Docente: BETTONI FABIO
URL:https://scuolaedilecremona.it/event/area-scientifica-matematica-e-geometria-197/
CATEGORIES:ANNO 3 OPERATORE EDILE - TERZO  ANNO 2025/2026 GOL
END:VEVENT
BEGIN:VEVENT
DTSTART;TZID=UTC:20260421T081500
DTEND;TZID=UTC:20260421T143000
DTSTAMP:20260420T040506
CREATED:20250925T043314Z
LAST-MODIFIED:20250925T043314Z
UID:169946-1776759300-1776781800@scuolaedilecremona.it
SUMMARY:Area tecnico professionale - Elementi di tecnologia edile
DESCRIPTION:Docente: BELLADELLI LEONARDO
URL:https://scuolaedilecremona.it/event/area-tecnico-professionale-elementi-di-tecnologia-edile-111/
CATEGORIES:ANNO 3 OPERATORE EDILE - TERZO  ANNO 2025/2026 GOL
END:VEVENT
BEGIN:VEVENT
DTSTART;TZID=UTC:20260422T081500
DTEND;TZID=UTC:20260422T123000
DTSTAMP:20260420T040506
CREATED:20250925T043314Z
LAST-MODIFIED:20250925T043314Z
UID:169947-1776845700-1776861000@scuolaedilecremona.it
SUMMARY:AREA DEI LINGUAGGI - LINGUA ITALIANA
DESCRIPTION:Docente: SPERNAZZATI EMANUELA
URL:https://scuolaedilecremona.it/event/area-dei-linguaggi-lingua-italiana-251/
CATEGORIES:ANNO 3 OPERATORE EDILE - TERZO  ANNO 2025/2026 GOL
END:VEVENT
BEGIN:VEVENT
DTSTART;TZID=UTC:20260422T123000
DTEND;TZID=UTC:20260422T143000
DTSTAMP:20260420T040506
CREATED:20260304T043021Z
LAST-MODIFIED:20260304T043021Z
UID:170311-1776861000-1776868200@scuolaedilecremona.it
SUMMARY:Area scientifica - matematica e geometria
DESCRIPTION:Docente: BETTONI FABIO
URL:https://scuolaedilecremona.it/event/area-scientifica-matematica-e-geometria-141/
CATEGORIES:ANNO 3 OPERATORE EDILE - TERZO  ANNO 2025/2026 GOL
END:VEVENT
BEGIN:VEVENT
DTSTART;TZID=UTC:20260423T081500
DTEND;TZID=UTC:20260423T123000
DTSTAMP:20260420T040506
CREATED:20250925T043316Z
LAST-MODIFIED:20250925T043316Z
UID:169949-1776932100-1776947400@scuolaedilecremona.it
SUMMARY:Area tecnico professionale - Elementi di sicurezza sul lavoro
DESCRIPTION:Docente: SOFFIENTINI ROBERTO
URL:https://scuolaedilecremona.it/event/area-tecnico-professionale-elementi-di-sicurezza-sul-lavoro-98/
CATEGORIES:ANNO 3 OPERATORE EDILE - TERZO  ANNO 2025/2026 GOL
END:VEVENT
BEGIN:VEVENT
DTSTART;TZID=UTC:20260423T123000
DTEND;TZID=UTC:20260423T143000
DTSTAMP:20260420T040506
CREATED:20260304T043022Z
LAST-MODIFIED:20260304T043022Z
UID:170312-1776947400-1776954600@scuolaedilecremona.it
SUMMARY:Area personalizzazione - Orientamento e capacita personali
DESCRIPTION:Docente: BRUSCHI GIADA
URL:https://scuolaedilecremona.it/event/area-personalizzazione-orientamento-e-capacita-personali-52/
CATEGORIES:ANNO 3 OPERATORE EDILE - TERZO  ANNO 2025/2026 GOL
END:VEVENT
BEGIN:VEVENT
DTSTART;TZID=UTC:20260424T081500
DTEND;TZID=UTC:20260424T111500
DTSTAMP:20260420T040506
CREATED:20260416T043011Z
LAST-MODIFIED:20260416T043011Z
UID:170517-1777018500-1777029300@scuolaedilecremona.it
SUMMARY:Area tecnico professionale - Elementi di tecnologia edile
DESCRIPTION:Docente: BELLADELLI LEONARDO
URL:https://scuolaedilecremona.it/event/area-tecnico-professionale-elementi-di-tecnologia-edile-78/
CATEGORIES:ANNO 3 OPERATORE EDILE - TERZO  ANNO 2025/2026 GOL
END:VEVENT
BEGIN:VEVENT
DTSTART;TZID=UTC:20260424T113000
DTEND;TZID=UTC:20260424T143000
DTSTAMP:20260420T040506
CREATED:20250925T043317Z
LAST-MODIFIED:20250925T043317Z
UID:169952-1777030200-1777041000@scuolaedilecremona.it
SUMMARY:Area personalizzazione - Laboratorio attivita espressivo motorie
DESCRIPTION:Docente: BODINI DAVIDE
URL:https://scuolaedilecremona.it/event/area-personalizzazione-laboratorio-attivita-espressivo-motorie-39/
CATEGORIES:ANNO 3 OPERATORE EDILE - TERZO  ANNO 2025/2026 GOL
END:VEVENT
END:VCALENDAR