BEGIN:VCALENDAR
VERSION:2.0
PRODID:-//Ente Scuola Edile Cremona - C.P.T. - ECPv6.15.18//NONSGML v1.0//EN
CALSCALE:GREGORIAN
METHOD:PUBLISH
X-ORIGINAL-URL:https://scuolaedilecremona.it
X-WR-CALDESC:Eventi per Ente Scuola Edile Cremona - C.P.T.
REFRESH-INTERVAL;VALUE=DURATION:PT1H
X-Robots-Tag:noindex
X-PUBLISHED-TTL:PT1H
BEGIN:VTIMEZONE
TZID:UTC
BEGIN:STANDARD
TZOFFSETFROM:+0000
TZOFFSETTO:+0000
TZNAME:UTC
DTSTART:20250101T000000
END:STANDARD
END:VTIMEZONE
BEGIN:VEVENT
DTSTART;TZID=UTC:20260310T081500
DTEND;TZID=UTC:20260310T123000
DTSTAMP:20260420T051933
CREATED:20250925T043240Z
LAST-MODIFIED:20250925T043240Z
UID:169891-1773130500-1773145800@scuolaedilecremona.it
SUMMARY:Area scientifica - scienze
DESCRIPTION:Docente: TAINO CATERINA
URL:https://scuolaedilecremona.it/event/area-scientifica-scienze-69/
CATEGORIES:ANNO 3 OPERATORE EDILE - TERZO  ANNO 2025/2026 GOL
END:VEVENT
BEGIN:VEVENT
DTSTART;TZID=UTC:20260310T123000
DTEND;TZID=UTC:20260310T143000
DTSTAMP:20260420T051933
CREATED:20250925T043241Z
LAST-MODIFIED:20250925T043241Z
UID:169892-1773145800-1773153000@scuolaedilecremona.it
SUMMARY:Area tecnico professionale - Elementi di tecnologia edile
DESCRIPTION:Docente: BELLADELLI LEONARDO
URL:https://scuolaedilecremona.it/event/area-tecnico-professionale-elementi-di-tecnologia-edile-108/
CATEGORIES:ANNO 3 OPERATORE EDILE - TERZO  ANNO 2025/2026 GOL
END:VEVENT
BEGIN:VEVENT
DTSTART;TZID=UTC:20260311T081500
DTEND;TZID=UTC:20260311T133000
DTSTAMP:20260420T051933
CREATED:20250925T043241Z
LAST-MODIFIED:20250925T043241Z
UID:169893-1773216900-1773235800@scuolaedilecremona.it
SUMMARY:AREA DEI LINGUAGGI - LINGUA ITALIANA
DESCRIPTION:Docente: SPERNAZZATI EMANUELA
URL:https://scuolaedilecremona.it/event/area-dei-linguaggi-lingua-italiana-247/
CATEGORIES:ANNO 3 OPERATORE EDILE - TERZO  ANNO 2025/2026 GOL
END:VEVENT
BEGIN:VEVENT
DTSTART;TZID=UTC:20260311T133000
DTEND;TZID=UTC:20260311T143000
DTSTAMP:20260420T051933
CREATED:20250925T043242Z
LAST-MODIFIED:20250925T043242Z
UID:169894-1773235800-1773239400@scuolaedilecremona.it
SUMMARY:Area storico-socio-economica - Elementi di diritto del lavoro
DESCRIPTION:Docente: BRUSCHI GIADA
URL:https://scuolaedilecremona.it/event/area-storico-socio-economica-elementi-di-diritto-del-lavoro-63/
CATEGORIES:ANNO 3 OPERATORE EDILE - TERZO  ANNO 2025/2026 GOL
END:VEVENT
BEGIN:VEVENT
DTSTART;TZID=UTC:20260312T081500
DTEND;TZID=UTC:20260312T143000
DTSTAMP:20260420T051933
CREATED:20250925T043243Z
LAST-MODIFIED:20250925T043243Z
UID:169895-1773303300-1773325800@scuolaedilecremona.it
SUMMARY:Area tecnico professionale - Laboratorio esercitazioni pratiche
DESCRIPTION:Docente: BRUNELLI ERNESTO
URL:https://scuolaedilecremona.it/event/area-tecnico-professionale-laboratorio-esercitazioni-pratiche-247/
CATEGORIES:ANNO 3 OPERATORE EDILE - TERZO  ANNO 2025/2026 GOL
END:VEVENT
BEGIN:VEVENT
DTSTART;TZID=UTC:20260313T081500
DTEND;TZID=UTC:20260313T101500
DTSTAMP:20260420T051933
CREATED:20260304T043015Z
LAST-MODIFIED:20260304T043015Z
UID:170301-1773389700-1773396900@scuolaedilecremona.it
SUMMARY:Area tecnico professionale - Disegno tecnico
DESCRIPTION:Docente: SOFFIENTINI ROBERTO
URL:https://scuolaedilecremona.it/event/area-tecnico-professionale-disegno-tecnico-60/
CATEGORIES:ANNO 3 OPERATORE EDILE - TERZO  ANNO 2025/2026 GOL
END:VEVENT
BEGIN:VEVENT
DTSTART;TZID=UTC:20260313T101500
DTEND;TZID=UTC:20260313T111500
DTSTAMP:20260420T051933
CREATED:20260304T043016Z
LAST-MODIFIED:20260304T043016Z
UID:170302-1773396900-1773400500@scuolaedilecremona.it
SUMMARY:Area storico-socio-economica - Geografia
DESCRIPTION:Docente: ROSSI GIAMPIETRO
URL:https://scuolaedilecremona.it/event/area-storico-socio-economica-geografia-57/
CATEGORIES:ANNO 3 OPERATORE EDILE - TERZO  ANNO 2025/2026 GOL
END:VEVENT
BEGIN:VEVENT
DTSTART;TZID=UTC:20260313T113000
DTEND;TZID=UTC:20260313T123000
DTSTAMP:20260420T051933
CREATED:20260304T043016Z
LAST-MODIFIED:20260304T043016Z
UID:170303-1773401400-1773405000@scuolaedilecremona.it
SUMMARY:Area storico-socio-economica - Storia
DESCRIPTION:Docente: ROSSI GIAMPIETRO
URL:https://scuolaedilecremona.it/event/area-storico-socio-economica-storia-58/
CATEGORIES:ANNO 3 OPERATORE EDILE - TERZO  ANNO 2025/2026 GOL
END:VEVENT
BEGIN:VEVENT
DTSTART;TZID=UTC:20260313T123000
DTEND;TZID=UTC:20260313T143000
DTSTAMP:20260420T051933
CREATED:20250925T043245Z
LAST-MODIFIED:20250925T043245Z
UID:169899-1773405000-1773412200@scuolaedilecremona.it
SUMMARY:Area scientifica - matematica e geometria
DESCRIPTION:Docente: BETTONI FABIO
URL:https://scuolaedilecremona.it/event/area-scientifica-matematica-e-geometria-190/
CATEGORIES:ANNO 3 OPERATORE EDILE - TERZO  ANNO 2025/2026 GOL
END:VEVENT
BEGIN:VEVENT
DTSTART;TZID=UTC:20260316T081500
DTEND;TZID=UTC:20260316T101500
DTSTAMP:20260420T051933
CREATED:20260311T043006Z
LAST-MODIFIED:20260311T043006Z
UID:170347-1773648900-1773656100@scuolaedilecremona.it
SUMMARY:Area tecnico professionale - Elementi di sicurezza sul lavoro
DESCRIPTION:Docente: SOFFIENTINI ROBERTO
URL:https://scuolaedilecremona.it/event/area-tecnico-professionale-elementi-di-sicurezza-sul-lavoro-81/
CATEGORIES:ANNO 3 OPERATORE EDILE - TERZO  ANNO 2025/2026 GOL
END:VEVENT
BEGIN:VEVENT
DTSTART;TZID=UTC:20260316T101500
DTEND;TZID=UTC:20260316T111500
DTSTAMP:20260420T051933
CREATED:20260320T043133Z
LAST-MODIFIED:20260320T043133Z
UID:170440-1773656100-1773659700@scuolaedilecremona.it
SUMMARY:Area storico-socio-economica - Storia
DESCRIPTION:Docente: ROSSI GIAMPIETRO
URL:https://scuolaedilecremona.it/event/area-storico-socio-economica-storia-77/
CATEGORIES:ANNO 3 OPERATORE EDILE - TERZO  ANNO 2025/2026 GOL
END:VEVENT
BEGIN:VEVENT
DTSTART;TZID=UTC:20260316T113000
DTEND;TZID=UTC:20260316T123000
DTSTAMP:20260420T051933
CREATED:20260320T043134Z
LAST-MODIFIED:20260320T043134Z
UID:170441-1773660600-1773664200@scuolaedilecremona.it
SUMMARY:Area storico-socio-economica - Geografia
DESCRIPTION:Docente: ROSSI GIAMPIETRO
URL:https://scuolaedilecremona.it/event/area-storico-socio-economica-geografia-75/
CATEGORIES:ANNO 3 OPERATORE EDILE - TERZO  ANNO 2025/2026 GOL
END:VEVENT
BEGIN:VEVENT
DTSTART;TZID=UTC:20260316T123000
DTEND;TZID=UTC:20260316T133000
DTSTAMP:20260420T051933
CREATED:20260320T043135Z
LAST-MODIFIED:20260320T043135Z
UID:170442-1773664200-1773667800@scuolaedilecremona.it
SUMMARY:Area storico-socio-economica - Elementi di economia
DESCRIPTION:Docente: ROSSI GIAMPIETRO
URL:https://scuolaedilecremona.it/event/area-storico-socio-economica-elementi-di-economia-60/
CATEGORIES:ANNO 3 OPERATORE EDILE - TERZO  ANNO 2025/2026 GOL
END:VEVENT
BEGIN:VEVENT
DTSTART;TZID=UTC:20260316T133000
DTEND;TZID=UTC:20260316T143000
DTSTAMP:20260420T051933
CREATED:20250925T043247Z
LAST-MODIFIED:20250925T043247Z
UID:169902-1773667800-1773671400@scuolaedilecremona.it
SUMMARY:Area scientifica - matematica e geometria
DESCRIPTION:Docente: BETTONI FABIO
URL:https://scuolaedilecremona.it/event/area-scientifica-matematica-e-geometria-191/
CATEGORIES:ANNO 3 OPERATORE EDILE - TERZO  ANNO 2025/2026 GOL
END:VEVENT
BEGIN:VEVENT
DTSTART;TZID=UTC:20260317T081500
DTEND;TZID=UTC:20260317T143000
DTSTAMP:20260420T051933
CREATED:20260417T043011Z
LAST-MODIFIED:20260417T043011Z
UID:170539-1773735300-1773757800@scuolaedilecremona.it
SUMMARY:Area tecnico professionale - Laboratorio esercitazioni pratiche
DESCRIPTION:Docente: REGINI MARIA CRISTINA\, BRUNELLI ERNESTO
URL:https://scuolaedilecremona.it/event/area-tecnico-professionale-laboratorio-esercitazioni-pratiche-195/
CATEGORIES:ANNO 3 OPERATORE EDILE - TERZO  ANNO 2025/2026 GOL
END:VEVENT
BEGIN:VEVENT
DTSTART;TZID=UTC:20260317T091500
DTEND;TZID=UTC:20260317T133000
DTSTAMP:20260420T051933
CREATED:20260417T043011Z
LAST-MODIFIED:20260417T043011Z
UID:170540-1773738900-1773754200@scuolaedilecremona.it
SUMMARY:Area tecnico professionale - Laboratorio esercitazioni pratiche
DESCRIPTION:Docente: BRUNELLI ERNESTO\, REGINI MARIA CRISTINA
URL:https://scuolaedilecremona.it/event/area-tecnico-professionale-laboratorio-esercitazioni-pratiche-232/
CATEGORIES:ANNO 3 OPERATORE EDILE - TERZO  ANNO 2025/2026 GOL
END:VEVENT
BEGIN:VEVENT
DTSTART;TZID=UTC:20260318T081500
DTEND;TZID=UTC:20260318T143000
DTSTAMP:20260420T051933
CREATED:20260417T043011Z
LAST-MODIFIED:20260417T043011Z
UID:170541-1773821700-1773844200@scuolaedilecremona.it
SUMMARY:Area tecnico professionale - Laboratorio esercitazioni pratiche
DESCRIPTION:Docente: REGINI MARIA CRISTINA\, BRUNELLI ERNESTO
URL:https://scuolaedilecremona.it/event/area-tecnico-professionale-laboratorio-esercitazioni-pratiche-197/
CATEGORIES:ANNO 3 OPERATORE EDILE - TERZO  ANNO 2025/2026 GOL
END:VEVENT
BEGIN:VEVENT
DTSTART;TZID=UTC:20260318T113000
DTEND;TZID=UTC:20260318T123000
DTSTAMP:20260420T051933
CREATED:20260417T043012Z
LAST-MODIFIED:20260417T043012Z
UID:170542-1773833400-1773837000@scuolaedilecremona.it
SUMMARY:Area tecnico professionale - Laboratorio esercitazioni pratiche
DESCRIPTION:Docente: BRUNELLI ERNESTO\, REGINI MARIA CRISTINA
URL:https://scuolaedilecremona.it/event/area-tecnico-professionale-laboratorio-esercitazioni-pratiche-198/
CATEGORIES:ANNO 3 OPERATORE EDILE - TERZO  ANNO 2025/2026 GOL
END:VEVENT
BEGIN:VEVENT
DTSTART;TZID=UTC:20260319T081500
DTEND;TZID=UTC:20260319T143000
DTSTAMP:20260420T051933
CREATED:20260417T043012Z
LAST-MODIFIED:20260417T043012Z
UID:170543-1773908100-1773930600@scuolaedilecremona.it
SUMMARY:Area tecnico professionale - Laboratorio esercitazioni pratiche
DESCRIPTION:Docente: REGINI MARIA CRISTINA\, BRUNELLI ERNESTO
URL:https://scuolaedilecremona.it/event/area-tecnico-professionale-laboratorio-esercitazioni-pratiche-199/
CATEGORIES:ANNO 3 OPERATORE EDILE - TERZO  ANNO 2025/2026 GOL
END:VEVENT
BEGIN:VEVENT
DTSTART;TZID=UTC:20260319T091500
DTEND;TZID=UTC:20260319T101500
DTSTAMP:20260420T051933
CREATED:20260417T043012Z
LAST-MODIFIED:20260417T043012Z
UID:170544-1773911700-1773915300@scuolaedilecremona.it
SUMMARY:Area tecnico professionale - Laboratorio esercitazioni pratiche
DESCRIPTION:Docente: BRUNELLI ERNESTO\, REGINI MARIA CRISTINA
URL:https://scuolaedilecremona.it/event/area-tecnico-professionale-laboratorio-esercitazioni-pratiche-261/
CATEGORIES:ANNO 3 OPERATORE EDILE - TERZO  ANNO 2025/2026 GOL
END:VEVENT
BEGIN:VEVENT
DTSTART;TZID=UTC:20260320T081500
DTEND;TZID=UTC:20260320T143000
DTSTAMP:20260420T051933
CREATED:20250925T043249Z
LAST-MODIFIED:20250925T043249Z
UID:169906-1773994500-1774017000@scuolaedilecremona.it
SUMMARY:Area personalizzazione - Laboratorio attivita espressivo motorie
DESCRIPTION:Docente: BODINI DAVIDE
URL:https://scuolaedilecremona.it/event/area-personalizzazione-laboratorio-attivita-espressivo-motorie-37/
CATEGORIES:ANNO 3 OPERATORE EDILE - TERZO  ANNO 2025/2026 GOL
END:VEVENT
BEGIN:VEVENT
DTSTART;TZID=UTC:20260323T081500
DTEND;TZID=UTC:20260323T101500
DTSTAMP:20260420T051933
CREATED:20250925T043250Z
LAST-MODIFIED:20250925T043250Z
UID:169907-1774253700-1774260900@scuolaedilecremona.it
SUMMARY:Area tecnologica - informatica
DESCRIPTION:Docente: BILLA CHIARA
URL:https://scuolaedilecremona.it/event/area-tecnologica-informatica-70/
CATEGORIES:ANNO 3 OPERATORE EDILE - TERZO  ANNO 2025/2026 GOL
END:VEVENT
BEGIN:VEVENT
DTSTART;TZID=UTC:20260323T101500
DTEND;TZID=UTC:20260323T133000
DTSTAMP:20260420T051933
CREATED:20250925T043250Z
LAST-MODIFIED:20250925T043250Z
UID:169908-1774260900-1774272600@scuolaedilecremona.it
SUMMARY:AREA DEI LINGUAGGI - LINGUA INGLESE
DESCRIPTION:Docente: VIRGILIO LAURA LETIZIA
URL:https://scuolaedilecremona.it/event/area-dei-linguaggi-lingua-inglese-106/
CATEGORIES:ANNO 3 OPERATORE EDILE - TERZO  ANNO 2025/2026 GOL
END:VEVENT
BEGIN:VEVENT
DTSTART;TZID=UTC:20260323T133000
DTEND;TZID=UTC:20260323T143000
DTSTAMP:20260420T051933
CREATED:20250925T043251Z
LAST-MODIFIED:20250925T043251Z
UID:169909-1774272600-1774276200@scuolaedilecremona.it
SUMMARY:Area scientifica - matematica e geometria
DESCRIPTION:Docente: BETTONI FABIO
URL:https://scuolaedilecremona.it/event/area-scientifica-matematica-e-geometria-192/
CATEGORIES:ANNO 3 OPERATORE EDILE - TERZO  ANNO 2025/2026 GOL
END:VEVENT
BEGIN:VEVENT
DTSTART;TZID=UTC:20260324T081500
DTEND;TZID=UTC:20260324T111500
DTSTAMP:20260420T051933
CREATED:20260417T043013Z
LAST-MODIFIED:20260417T043013Z
UID:170545-1774340100-1774350900@scuolaedilecremona.it
SUMMARY:Area tecnico professionale - Laboratorio esercitazioni pratiche
DESCRIPTION:Docente: REGINI MARIA CRISTINA\, BRUNELLI ERNESTO
URL:https://scuolaedilecremona.it/event/area-tecnico-professionale-laboratorio-esercitazioni-pratiche-201/
CATEGORIES:ANNO 3 OPERATORE EDILE - TERZO  ANNO 2025/2026 GOL
END:VEVENT
BEGIN:VEVENT
DTSTART;TZID=UTC:20260324T113000
DTEND;TZID=UTC:20260324T143000
DTSTAMP:20260420T051933
CREATED:20260417T043013Z
LAST-MODIFIED:20260417T043013Z
UID:170546-1774351800-1774362600@scuolaedilecremona.it
SUMMARY:Area tecnico professionale - Laboratorio esercitazioni pratiche
DESCRIPTION:Docente: BRUNELLI ERNESTO\, REGINI MARIA CRISTINA
URL:https://scuolaedilecremona.it/event/area-tecnico-professionale-laboratorio-esercitazioni-pratiche-250/
CATEGORIES:ANNO 3 OPERATORE EDILE - TERZO  ANNO 2025/2026 GOL
END:VEVENT
BEGIN:VEVENT
DTSTART;TZID=UTC:20260325T081500
DTEND;TZID=UTC:20260325T143000
DTSTAMP:20260420T051933
CREATED:20260417T043013Z
LAST-MODIFIED:20260417T043013Z
UID:170547-1774426500-1774449000@scuolaedilecremona.it
SUMMARY:Area tecnico professionale - Laboratorio esercitazioni pratiche
DESCRIPTION:Docente: REGINI MARIA CRISTINA\, BRUNELLI ERNESTO
URL:https://scuolaedilecremona.it/event/area-tecnico-professionale-laboratorio-esercitazioni-pratiche-202/
CATEGORIES:ANNO 3 OPERATORE EDILE - TERZO  ANNO 2025/2026 GOL
END:VEVENT
BEGIN:VEVENT
DTSTART;TZID=UTC:20260326T081500
DTEND;TZID=UTC:20260326T111500
DTSTAMP:20260420T051933
CREATED:20260320T043139Z
LAST-MODIFIED:20260320T043139Z
UID:170452-1774512900-1774523700@scuolaedilecremona.it
SUMMARY:Area tecnico professionale - Laboratorio esercitazioni pratiche
DESCRIPTION:Docente: REGINI MARIA CRISTINA\, BRUNELLI ERNESTO
URL:https://scuolaedilecremona.it/event/area-tecnico-professionale-laboratorio-esercitazioni-pratiche-203/
CATEGORIES:ANNO 3 OPERATORE EDILE - TERZO  ANNO 2025/2026 GOL
END:VEVENT
BEGIN:VEVENT
DTSTART;TZID=UTC:20260326T113000
DTEND;TZID=UTC:20260326T143000
DTSTAMP:20260420T051933
CREATED:20260320T043140Z
LAST-MODIFIED:20260320T043140Z
UID:170453-1774524600-1774535400@scuolaedilecremona.it
SUMMARY:Area tecnico professionale - Laboratorio esercitazioni pratiche
DESCRIPTION:Docente: BRUNELLI ERNESTO\, REGINI MARIA CRISTINA
URL:https://scuolaedilecremona.it/event/area-tecnico-professionale-laboratorio-esercitazioni-pratiche-248/
CATEGORIES:ANNO 3 OPERATORE EDILE - TERZO  ANNO 2025/2026 GOL
END:VEVENT
BEGIN:VEVENT
DTSTART;TZID=UTC:20260327T081500
DTEND;TZID=UTC:20260327T143000
DTSTAMP:20260420T051933
CREATED:20250925T043253Z
LAST-MODIFIED:20250925T043253Z
UID:169913-1774599300-1774621800@scuolaedilecremona.it
SUMMARY:Area personalizzazione - Laboratorio attivita espressivo motorie
DESCRIPTION:Docente: BODINI DAVIDE
URL:https://scuolaedilecremona.it/event/area-personalizzazione-laboratorio-attivita-espressivo-motorie-38/
CATEGORIES:ANNO 3 OPERATORE EDILE - TERZO  ANNO 2025/2026 GOL
END:VEVENT
END:VCALENDAR