BEGIN:VCALENDAR
VERSION:2.0
PRODID:-//Ente Scuola Edile Cremona - C.P.T. - ECPv6.15.18//NONSGML v1.0//EN
CALSCALE:GREGORIAN
METHOD:PUBLISH
X-ORIGINAL-URL:https://scuolaedilecremona.it
X-WR-CALDESC:Eventi per Ente Scuola Edile Cremona - C.P.T.
REFRESH-INTERVAL;VALUE=DURATION:PT1H
X-Robots-Tag:noindex
X-PUBLISHED-TTL:PT1H
BEGIN:VTIMEZONE
TZID:UTC
BEGIN:STANDARD
TZOFFSETFROM:+0000
TZOFFSETTO:+0000
TZNAME:UTC
DTSTART:20240101T000000
END:STANDARD
END:VTIMEZONE
BEGIN:VEVENT
DTSTART;TZID=UTC:20250210T153000
DTEND;TZID=UTC:20250210T163000
DTSTAMP:20260420T044332
CREATED:20250307T044555Z
LAST-MODIFIED:20250307T044555Z
UID:167870-1739201400-1739205000@scuolaedilecremona.it
SUMMARY:Area tecnico professionale - Disegno tecnico
DESCRIPTION:Docente: TAINO CATERINA
URL:https://scuolaedilecremona.it/event/area-tecnico-professionale-disegno-tecnico-16/
CATEGORIES:ANNO 3 OPERATORE EDILE - DUALE TERZO ANNO 2024/2025
END:VEVENT
BEGIN:VEVENT
DTSTART;TZID=UTC:20250212T133000
DTEND;TZID=UTC:20250212T153000
DTSTAMP:20260420T044332
CREATED:20250307T044556Z
LAST-MODIFIED:20250307T044556Z
UID:167871-1739367000-1739374200@scuolaedilecremona.it
SUMMARY:Area tecnico professionale - Elementi di sicurezza sul lavoro
DESCRIPTION:Docente: TAINO CATERINA
URL:https://scuolaedilecremona.it/event/area-tecnico-professionale-elementi-di-sicurezza-sul-lavoro-27/
CATEGORIES:ANNO 3 OPERATORE EDILE - DUALE TERZO ANNO 2024/2025
END:VEVENT
BEGIN:VEVENT
DTSTART;TZID=UTC:20250212T153000
DTEND;TZID=UTC:20250212T163000
DTSTAMP:20260420T044332
CREATED:20250307T044557Z
LAST-MODIFIED:20250307T044557Z
UID:167872-1739374200-1739377800@scuolaedilecremona.it
SUMMARY:Area scientifica - matematica e geometria
DESCRIPTION:Docente: TAINO CATERINA
URL:https://scuolaedilecremona.it/event/area-scientifica-matematica-e-geometria-28/
CATEGORIES:ANNO 3 OPERATORE EDILE - DUALE TERZO ANNO 2024/2025
END:VEVENT
BEGIN:VEVENT
DTSTART;TZID=UTC:20250213T123000
DTEND;TZID=UTC:20250213T163000
DTSTAMP:20260420T044332
CREATED:20250307T044558Z
LAST-MODIFIED:20250307T044558Z
UID:167873-1739449800-1739464200@scuolaedilecremona.it
SUMMARY:AREA DEI LINGUAGGI - LINGUA ITALIANA
DESCRIPTION:Docente: ROSSI GIAMPIETRO
URL:https://scuolaedilecremona.it/event/area-dei-linguaggi-lingua-italiana-33/
CATEGORIES:ANNO 3 OPERATORE EDILE - DUALE TERZO ANNO 2024/2025
END:VEVENT
BEGIN:VEVENT
DTSTART;TZID=UTC:20250215T081500
DTEND;TZID=UTC:20250215T163000
DTSTAMP:20260420T044332
CREATED:20250307T044559Z
LAST-MODIFIED:20250307T044559Z
UID:167874-1739607300-1739637000@scuolaedilecremona.it
SUMMARY:Area tecnico professionale - Laboratorio esercitazioni pratiche
DESCRIPTION:Docente: DOSSENA GHERARDO TITO
URL:https://scuolaedilecremona.it/event/area-tecnico-professionale-laboratorio-esercitazioni-pratiche-40/
CATEGORIES:ANNO 3 OPERATORE EDILE - DUALE TERZO ANNO 2024/2025
END:VEVENT
BEGIN:VEVENT
DTSTART;TZID=UTC:20250217T133000
DTEND;TZID=UTC:20250217T163000
DTSTAMP:20260420T044332
CREATED:20250307T044601Z
LAST-MODIFIED:20250307T044601Z
UID:167875-1739799000-1739809800@scuolaedilecremona.it
SUMMARY:AREA DEI LINGUAGGI - LINGUA INGLESE
DESCRIPTION:Docente: VIRGILIO LAURA LETIZIA
URL:https://scuolaedilecremona.it/event/area-dei-linguaggi-lingua-inglese-18/
CATEGORIES:ANNO 3 OPERATORE EDILE - DUALE TERZO ANNO 2024/2025
END:VEVENT
BEGIN:VEVENT
DTSTART;TZID=UTC:20250219T133000
DTEND;TZID=UTC:20250219T153000
DTSTAMP:20260420T044332
CREATED:20250307T044602Z
LAST-MODIFIED:20250307T044602Z
UID:167876-1739971800-1739979000@scuolaedilecremona.it
SUMMARY:Area scientifica - matematica e geometria
DESCRIPTION:Docente: TAINO CATERINA
URL:https://scuolaedilecremona.it/event/area-scientifica-matematica-e-geometria-29/
CATEGORIES:ANNO 3 OPERATORE EDILE - DUALE TERZO ANNO 2024/2025
END:VEVENT
BEGIN:VEVENT
DTSTART;TZID=UTC:20250219T153000
DTEND;TZID=UTC:20250219T163000
DTSTAMP:20260420T044332
CREATED:20250307T044603Z
LAST-MODIFIED:20250307T044603Z
UID:167877-1739979000-1739982600@scuolaedilecremona.it
SUMMARY:Area tecnico professionale - Disegno tecnico
DESCRIPTION:Docente: TAINO CATERINA
URL:https://scuolaedilecremona.it/event/area-tecnico-professionale-disegno-tecnico-17/
CATEGORIES:ANNO 3 OPERATORE EDILE - DUALE TERZO ANNO 2024/2025
END:VEVENT
BEGIN:VEVENT
DTSTART;TZID=UTC:20250220T123000
DTEND;TZID=UTC:20250220T163000
DTSTAMP:20260420T044332
CREATED:20250307T044604Z
LAST-MODIFIED:20250307T044604Z
UID:167878-1740054600-1740069000@scuolaedilecremona.it
SUMMARY:AREA DEI LINGUAGGI - LINGUA ITALIANA
DESCRIPTION:Docente: ROSSI GIAMPIETRO
URL:https://scuolaedilecremona.it/event/area-dei-linguaggi-lingua-italiana-34/
CATEGORIES:ANNO 3 OPERATORE EDILE - DUALE TERZO ANNO 2024/2025
END:VEVENT
BEGIN:VEVENT
DTSTART;TZID=UTC:20250222T081500
DTEND;TZID=UTC:20250222T163000
DTSTAMP:20260420T044332
CREATED:20250307T044606Z
LAST-MODIFIED:20250307T044606Z
UID:167879-1740212100-1740241800@scuolaedilecremona.it
SUMMARY:Area tecnico professionale - Laboratorio esercitazioni pratiche
DESCRIPTION:Docente: BELLADELLI LEONARDO
URL:https://scuolaedilecremona.it/event/area-tecnico-professionale-laboratorio-esercitazioni-pratiche-41/
CATEGORIES:ANNO 3 OPERATORE EDILE - DUALE TERZO ANNO 2024/2025
END:VEVENT
BEGIN:VEVENT
DTSTART;TZID=UTC:20250224T133000
DTEND;TZID=UTC:20250224T163000
DTSTAMP:20260420T044332
CREATED:20250307T044607Z
LAST-MODIFIED:20250307T044607Z
UID:167880-1740403800-1740414600@scuolaedilecremona.it
SUMMARY:AREA DEI LINGUAGGI - LINGUA INGLESE
DESCRIPTION:Docente: VIRGILIO LAURA LETIZIA
URL:https://scuolaedilecremona.it/event/area-dei-linguaggi-lingua-inglese-19/
CATEGORIES:ANNO 3 OPERATORE EDILE - DUALE TERZO ANNO 2024/2025
END:VEVENT
BEGIN:VEVENT
DTSTART;TZID=UTC:20250226T133000
DTEND;TZID=UTC:20250226T153000
DTSTAMP:20260420T044332
CREATED:20250307T044608Z
LAST-MODIFIED:20250307T044608Z
UID:167881-1740576600-1740583800@scuolaedilecremona.it
SUMMARY:Area tecnico professionale - Elementi di tecnologia edile
DESCRIPTION:Docente: TAINO CATERINA
URL:https://scuolaedilecremona.it/event/area-tecnico-professionale-elementi-di-tecnologia-edile-18/
CATEGORIES:ANNO 3 OPERATORE EDILE - DUALE TERZO ANNO 2024/2025
END:VEVENT
BEGIN:VEVENT
DTSTART;TZID=UTC:20250226T153000
DTEND;TZID=UTC:20250226T163000
DTSTAMP:20260420T044332
CREATED:20250307T044609Z
LAST-MODIFIED:20250307T044609Z
UID:167882-1740583800-1740587400@scuolaedilecremona.it
SUMMARY:Area tecnico professionale - Disegno tecnico
DESCRIPTION:Docente: TAINO CATERINA
URL:https://scuolaedilecremona.it/event/area-tecnico-professionale-disegno-tecnico-18/
CATEGORIES:ANNO 3 OPERATORE EDILE - DUALE TERZO ANNO 2024/2025
END:VEVENT
BEGIN:VEVENT
DTSTART;TZID=UTC:20250227T123000
DTEND;TZID=UTC:20250227T163000
DTSTAMP:20260420T044332
CREATED:20250307T044610Z
LAST-MODIFIED:20250307T044610Z
UID:167883-1740659400-1740673800@scuolaedilecremona.it
SUMMARY:AREA DEI LINGUAGGI - LINGUA ITALIANA
DESCRIPTION:Docente: ROSSI GIAMPIETRO
URL:https://scuolaedilecremona.it/event/area-dei-linguaggi-lingua-italiana-35/
CATEGORIES:ANNO 3 OPERATORE EDILE - DUALE TERZO ANNO 2024/2025
END:VEVENT
BEGIN:VEVENT
DTSTART;TZID=UTC:20250301T081500
DTEND;TZID=UTC:20250301T163000
DTSTAMP:20260420T044332
CREATED:20250307T044612Z
LAST-MODIFIED:20250307T044612Z
UID:167884-1740816900-1740846600@scuolaedilecremona.it
SUMMARY:Area tecnico professionale - Laboratorio esercitazioni pratiche
DESCRIPTION:Docente: BRUNELLI ERNESTO
URL:https://scuolaedilecremona.it/event/area-tecnico-professionale-laboratorio-esercitazioni-pratiche-42/
CATEGORIES:ANNO 3 OPERATORE EDILE - DUALE TERZO ANNO 2024/2025
END:VEVENT
BEGIN:VEVENT
DTSTART;TZID=UTC:20250303T133000
DTEND;TZID=UTC:20250303T163000
DTSTAMP:20260420T044332
CREATED:20250307T044613Z
LAST-MODIFIED:20250307T044613Z
UID:167885-1741008600-1741019400@scuolaedilecremona.it
SUMMARY:AREA DEI LINGUAGGI - LINGUA INGLESE
DESCRIPTION:Docente: VIRGILIO LAURA LETIZIA
URL:https://scuolaedilecremona.it/event/area-dei-linguaggi-lingua-inglese-20/
CATEGORIES:ANNO 3 OPERATORE EDILE - DUALE TERZO ANNO 2024/2025
END:VEVENT
BEGIN:VEVENT
DTSTART;TZID=UTC:20250304T081500
DTEND;TZID=UTC:20250304T163000
DTSTAMP:20260420T044332
CREATED:20250307T044614Z
LAST-MODIFIED:20250307T044614Z
UID:167886-1741076100-1741105800@scuolaedilecremona.it
SUMMARY:Area tecnico professionale - Laboratorio esercitazioni pratiche
DESCRIPTION:Docente: TAINO CATERINA
URL:https://scuolaedilecremona.it/event/area-tecnico-professionale-laboratorio-esercitazioni-pratiche-43/
CATEGORIES:ANNO 3 OPERATORE EDILE - DUALE TERZO ANNO 2024/2025
END:VEVENT
BEGIN:VEVENT
DTSTART;TZID=UTC:20250305T133000
DTEND;TZID=UTC:20250305T153000
DTSTAMP:20260420T044332
CREATED:20250307T044615Z
LAST-MODIFIED:20250307T044615Z
UID:167887-1741181400-1741188600@scuolaedilecremona.it
SUMMARY:Area scientifica - matematica e geometria
DESCRIPTION:Docente: TAINO CATERINA
URL:https://scuolaedilecremona.it/event/area-scientifica-matematica-e-geometria-30/
CATEGORIES:ANNO 3 OPERATORE EDILE - DUALE TERZO ANNO 2024/2025
END:VEVENT
BEGIN:VEVENT
DTSTART;TZID=UTC:20250305T153000
DTEND;TZID=UTC:20250305T163000
DTSTAMP:20260420T044332
CREATED:20250307T044616Z
LAST-MODIFIED:20250307T044616Z
UID:167888-1741188600-1741192200@scuolaedilecremona.it
SUMMARY:Area tecnico professionale - Disegno tecnico
DESCRIPTION:Docente: TAINO CATERINA
URL:https://scuolaedilecremona.it/event/area-tecnico-professionale-disegno-tecnico-19/
CATEGORIES:ANNO 3 OPERATORE EDILE - DUALE TERZO ANNO 2024/2025
END:VEVENT
BEGIN:VEVENT
DTSTART;TZID=UTC:20250306T123000
DTEND;TZID=UTC:20250306T163000
DTSTAMP:20260420T044332
CREATED:20250307T044617Z
LAST-MODIFIED:20250307T044617Z
UID:167889-1741264200-1741278600@scuolaedilecremona.it
SUMMARY:AREA DEI LINGUAGGI - LINGUA ITALIANA
DESCRIPTION:Docente: ROSSI GIAMPIETRO
URL:https://scuolaedilecremona.it/event/area-dei-linguaggi-lingua-italiana-36/
CATEGORIES:ANNO 3 OPERATORE EDILE - DUALE TERZO ANNO 2024/2025
END:VEVENT
BEGIN:VEVENT
DTSTART;TZID=UTC:20250308T081500
DTEND;TZID=UTC:20250308T163000
DTSTAMP:20260420T044332
CREATED:20250704T043249Z
LAST-MODIFIED:20250704T043249Z
UID:168533-1741421700-1741451400@scuolaedilecremona.it
SUMMARY:Area tecnico professionale - Laboratorio esercitazioni pratiche
DESCRIPTION:Docente: DOSSENA GHERARDO TITO\, TAINO CATERINA
URL:https://scuolaedilecremona.it/event/area-tecnico-professionale-laboratorio-esercitazioni-pratiche-44/
CATEGORIES:ANNO 3 OPERATORE EDILE - DUALE TERZO ANNO 2024/2025
END:VEVENT
BEGIN:VEVENT
DTSTART;TZID=UTC:20250308T091500
DTEND;TZID=UTC:20250308T143000
DTSTAMP:20260420T044332
CREATED:20250704T043249Z
LAST-MODIFIED:20250704T043249Z
UID:168534-1741425300-1741444200@scuolaedilecremona.it
SUMMARY:Area tecnico professionale - Laboratorio esercitazioni pratiche
DESCRIPTION:Docente: TAINO CATERINA\, DOSSENA GHERARDO TITO
URL:https://scuolaedilecremona.it/event/area-tecnico-professionale-laboratorio-esercitazioni-pratiche-47/
CATEGORIES:ANNO 3 OPERATORE EDILE - DUALE TERZO ANNO 2024/2025
END:VEVENT
BEGIN:VEVENT
DTSTART;TZID=UTC:20250310T133000
DTEND;TZID=UTC:20250310T153000
DTSTAMP:20260420T044332
CREATED:20250307T044621Z
LAST-MODIFIED:20250307T044621Z
UID:167892-1741613400-1741620600@scuolaedilecremona.it
SUMMARY:Area tecnico professionale - Elementi di tecnologia edile
DESCRIPTION:Docente: TAINO CATERINA
URL:https://scuolaedilecremona.it/event/area-tecnico-professionale-elementi-di-tecnologia-edile-19/
CATEGORIES:ANNO 3 OPERATORE EDILE - DUALE TERZO ANNO 2024/2025
END:VEVENT
BEGIN:VEVENT
DTSTART;TZID=UTC:20250310T153000
DTEND;TZID=UTC:20250310T163000
DTSTAMP:20260420T044332
CREATED:20250307T044622Z
LAST-MODIFIED:20250307T044622Z
UID:167893-1741620600-1741624200@scuolaedilecremona.it
SUMMARY:Area tecnico professionale - Disegno tecnico
DESCRIPTION:Docente: TAINO CATERINA
URL:https://scuolaedilecremona.it/event/area-tecnico-professionale-disegno-tecnico-20/
CATEGORIES:ANNO 3 OPERATORE EDILE - DUALE TERZO ANNO 2024/2025
END:VEVENT
BEGIN:VEVENT
DTSTART;TZID=UTC:20250312T133000
DTEND;TZID=UTC:20250312T163000
DTSTAMP:20260420T044332
CREATED:20250307T044623Z
LAST-MODIFIED:20250307T044623Z
UID:167894-1741786200-1741797000@scuolaedilecremona.it
SUMMARY:Area scientifica - matematica e geometria
DESCRIPTION:Docente: TAINO CATERINA
URL:https://scuolaedilecremona.it/event/area-scientifica-matematica-e-geometria-31/
CATEGORIES:ANNO 3 OPERATORE EDILE - DUALE TERZO ANNO 2024/2025
END:VEVENT
BEGIN:VEVENT
DTSTART;TZID=UTC:20250313T123000
DTEND;TZID=UTC:20250313T163000
DTSTAMP:20260420T044332
CREATED:20250307T044625Z
LAST-MODIFIED:20250307T044625Z
UID:167895-1741869000-1741883400@scuolaedilecremona.it
SUMMARY:AREA DEI LINGUAGGI - LINGUA ITALIANA
DESCRIPTION:Docente: ROSSI GIAMPIETRO
URL:https://scuolaedilecremona.it/event/area-dei-linguaggi-lingua-italiana-37/
CATEGORIES:ANNO 3 OPERATORE EDILE - DUALE TERZO ANNO 2024/2025
END:VEVENT
BEGIN:VEVENT
DTSTART;TZID=UTC:20250315T081500
DTEND;TZID=UTC:20250315T163000
DTSTAMP:20260420T044332
CREATED:20250704T043250Z
LAST-MODIFIED:20250704T043250Z
UID:168535-1742026500-1742056200@scuolaedilecremona.it
SUMMARY:Area tecnico professionale - Laboratorio esercitazioni pratiche
DESCRIPTION:Docente: BELLADELLI LEONARDO\, DOSSENA GHERARDO TITO
URL:https://scuolaedilecremona.it/event/area-tecnico-professionale-laboratorio-esercitazioni-pratiche-46/
CATEGORIES:ANNO 3 OPERATORE EDILE - DUALE TERZO ANNO 2024/2025
END:VEVENT
BEGIN:VEVENT
DTSTART;TZID=UTC:20250315T113000
DTEND;TZID=UTC:20250315T143000
DTSTAMP:20260420T044332
CREATED:20250704T043250Z
LAST-MODIFIED:20250704T043250Z
UID:168536-1742038200-1742049000@scuolaedilecremona.it
SUMMARY:Area tecnico professionale - Laboratorio esercitazioni pratiche
DESCRIPTION:Docente: DOSSENA GHERARDO TITO\, BELLADELLI LEONARDO
URL:https://scuolaedilecremona.it/event/area-tecnico-professionale-laboratorio-esercitazioni-pratiche-59/
CATEGORIES:ANNO 3 OPERATORE EDILE - DUALE TERZO ANNO 2024/2025
END:VEVENT
BEGIN:VEVENT
DTSTART;TZID=UTC:20250317T133000
DTEND;TZID=UTC:20250317T153000
DTSTAMP:20260420T044332
CREATED:20250307T044628Z
LAST-MODIFIED:20250307T044628Z
UID:167898-1742218200-1742225400@scuolaedilecremona.it
SUMMARY:Area tecnico professionale - Elementi di tecnologia edile
DESCRIPTION:Docente: TAINO CATERINA
URL:https://scuolaedilecremona.it/event/area-tecnico-professionale-elementi-di-tecnologia-edile-20/
CATEGORIES:ANNO 3 OPERATORE EDILE - DUALE TERZO ANNO 2024/2025
END:VEVENT
BEGIN:VEVENT
DTSTART;TZID=UTC:20250317T153000
DTEND;TZID=UTC:20250317T163000
DTSTAMP:20260420T044332
CREATED:20250307T044630Z
LAST-MODIFIED:20250307T044630Z
UID:167899-1742225400-1742229000@scuolaedilecremona.it
SUMMARY:Area tecnico professionale - Elementi di sicurezza sul lavoro
DESCRIPTION:Docente: TAINO CATERINA
URL:https://scuolaedilecremona.it/event/area-tecnico-professionale-elementi-di-sicurezza-sul-lavoro-28/
CATEGORIES:ANNO 3 OPERATORE EDILE - DUALE TERZO ANNO 2024/2025
END:VEVENT
END:VCALENDAR