BEGIN:VCALENDAR
VERSION:2.0
PRODID:-//Ente Scuola Edile Cremona - C.P.T. - ECPv6.15.18//NONSGML v1.0//EN
CALSCALE:GREGORIAN
METHOD:PUBLISH
X-ORIGINAL-URL:https://scuolaedilecremona.it
X-WR-CALDESC:Eventi per Ente Scuola Edile Cremona - C.P.T.
REFRESH-INTERVAL;VALUE=DURATION:PT1H
X-Robots-Tag:noindex
X-PUBLISHED-TTL:PT1H
BEGIN:VTIMEZONE
TZID:UTC
BEGIN:STANDARD
TZOFFSETFROM:+0000
TZOFFSETTO:+0000
TZNAME:UTC
DTSTART:20240101T000000
END:STANDARD
END:VTIMEZONE
BEGIN:VEVENT
DTSTART;TZID=UTC:20250630T081500
DTEND;TZID=UTC:20250630T163000
DTSTAMP:20260419T203120
CREATED:20250704T043257Z
LAST-MODIFIED:20250704T043257Z
UID:168553-1751271300-1751301000@scuolaedilecremona.it
SUMMARY:Area tecnico professionale - Laboratorio esercitazioni pratiche
DESCRIPTION:Docente: BRUNELLI ERNESTO
URL:https://scuolaedilecremona.it/event/area-tecnico-professionale-laboratorio-esercitazioni-pratiche-56/
CATEGORIES:ANNO 3 OPERATORE EDILE - DUALE TERZO ANNO 2024/2025
END:VEVENT
BEGIN:VEVENT
DTSTART;TZID=UTC:20250701T081500
DTEND;TZID=UTC:20250701T163000
DTSTAMP:20260419T203120
CREATED:20250704T043257Z
LAST-MODIFIED:20250704T043257Z
UID:168554-1751357700-1751387400@scuolaedilecremona.it
SUMMARY:Area tecnico professionale - Laboratorio esercitazioni pratiche
DESCRIPTION:Docente: BRUNELLI ERNESTO
URL:https://scuolaedilecremona.it/event/area-tecnico-professionale-laboratorio-esercitazioni-pratiche-62/
CATEGORIES:ANNO 3 OPERATORE EDILE - DUALE TERZO ANNO 2024/2025
END:VEVENT
BEGIN:VEVENT
DTSTART;TZID=UTC:20250702T081500
DTEND;TZID=UTC:20250702T163000
DTSTAMP:20260419T203120
CREATED:20250704T043258Z
LAST-MODIFIED:20250704T043258Z
UID:168555-1751444100-1751473800@scuolaedilecremona.it
SUMMARY:Area tecnico professionale - Laboratorio esercitazioni pratiche
DESCRIPTION:Docente: BRUNELLI ERNESTO
URL:https://scuolaedilecremona.it/event/area-tecnico-professionale-laboratorio-esercitazioni-pratiche-67/
CATEGORIES:ANNO 3 OPERATORE EDILE - DUALE TERZO ANNO 2024/2025
END:VEVENT
BEGIN:VEVENT
DTSTART;TZID=UTC:20250703T081500
DTEND;TZID=UTC:20250703T163000
DTSTAMP:20260419T203120
CREATED:20250704T043258Z
LAST-MODIFIED:20250704T043258Z
UID:168556-1751530500-1751560200@scuolaedilecremona.it
SUMMARY:Area tecnico professionale - Laboratorio esercitazioni pratiche
DESCRIPTION:Docente: BRUNELLI ERNESTO
URL:https://scuolaedilecremona.it/event/area-tecnico-professionale-laboratorio-esercitazioni-pratiche-63/
CATEGORIES:ANNO 3 OPERATORE EDILE - DUALE TERZO ANNO 2024/2025
END:VEVENT
BEGIN:VEVENT
DTSTART;TZID=UTC:20250704T081500
DTEND;TZID=UTC:20250704T163000
DTSTAMP:20260419T203120
CREATED:20250704T043259Z
LAST-MODIFIED:20250704T043259Z
UID:168557-1751616900-1751646600@scuolaedilecremona.it
SUMMARY:Area tecnico professionale - Laboratorio esercitazioni pratiche
DESCRIPTION:Docente: BRUNELLI ERNESTO
URL:https://scuolaedilecremona.it/event/area-tecnico-professionale-laboratorio-esercitazioni-pratiche-65/
CATEGORIES:ANNO 3 OPERATORE EDILE - DUALE TERZO ANNO 2024/2025
END:VEVENT
BEGIN:VEVENT
DTSTART;TZID=UTC:20250707T081500
DTEND;TZID=UTC:20250707T153000
DTSTAMP:20260419T203120
CREATED:20250704T043259Z
LAST-MODIFIED:20250704T043259Z
UID:168558-1751876100-1751902200@scuolaedilecremona.it
SUMMARY:Area tecnico professionale - Laboratorio esercitazioni pratiche
DESCRIPTION:Docente: BRUNELLI ERNESTO
URL:https://scuolaedilecremona.it/event/area-tecnico-professionale-laboratorio-esercitazioni-pratiche-66/
CATEGORIES:ANNO 3 OPERATORE EDILE - DUALE TERZO ANNO 2024/2025
END:VEVENT
BEGIN:VEVENT
DTSTART;TZID=UTC:20250708T081500
DTEND;TZID=UTC:20250708T101500
DTSTAMP:20260419T203120
CREATED:20250704T043259Z
LAST-MODIFIED:20250704T043259Z
UID:168559-1751962500-1751969700@scuolaedilecremona.it
SUMMARY:Area tecnico professionale - Elementi di contabilita
DESCRIPTION:Docente: PIAZZI STEFANIA
URL:https://scuolaedilecremona.it/event/area-tecnico-professionale-elementi-di-contabilita-55/
CATEGORIES:ANNO 3 OPERATORE EDILE - DUALE TERZO ANNO 2024/2025
END:VEVENT
BEGIN:VEVENT
DTSTART;TZID=UTC:20250708T101500
DTEND;TZID=UTC:20250708T123000
DTSTAMP:20260419T203120
CREATED:20250704T043300Z
LAST-MODIFIED:20250704T043300Z
UID:168560-1751969700-1751977800@scuolaedilecremona.it
SUMMARY:Area tecnico professionale - Disegno tecnico
DESCRIPTION:Docente: PIAZZI STEFANIA
URL:https://scuolaedilecremona.it/event/area-tecnico-professionale-disegno-tecnico-50/
CATEGORIES:ANNO 3 OPERATORE EDILE - DUALE TERZO ANNO 2024/2025
END:VEVENT
END:VCALENDAR