BEGIN:VCALENDAR
VERSION:2.0
PRODID:-//Ente Scuola Edile Cremona - C.P.T. - ECPv6.15.18//NONSGML v1.0//EN
CALSCALE:GREGORIAN
METHOD:PUBLISH
X-WR-CALNAME:Ente Scuola Edile Cremona - C.P.T.
X-ORIGINAL-URL:https://scuolaedilecremona.it
X-WR-CALDESC:Eventi per Ente Scuola Edile Cremona - C.P.T.
REFRESH-INTERVAL;VALUE=DURATION:PT1H
X-Robots-Tag:noindex
X-PUBLISHED-TTL:PT1H
BEGIN:VTIMEZONE
TZID:UTC
BEGIN:STANDARD
TZOFFSETFROM:+0000
TZOFFSETTO:+0000
TZNAME:UTC
DTSTART:20240101T000000
END:STANDARD
END:VTIMEZONE
BEGIN:VEVENT
DTSTART;TZID=UTC:20250303T113000
DTEND;TZID=UTC:20250303T133000
DTSTAMP:20260421T005243
CREATED:20250307T045124Z
LAST-MODIFIED:20250307T045124Z
UID:168139-1741001400-1741008600@scuolaedilecremona.it
SUMMARY:Area scientifica - matematica e geometria
DESCRIPTION:Docente: BETTONI FABIO
URL:https://scuolaedilecremona.it/event/area-scientifica-matematica-e-geometria-12/
CATEGORIES:ANNO 3 OPERATORE EDILE - TERZO ANNO 2024/2025
END:VEVENT
BEGIN:VEVENT
DTSTART;TZID=UTC:20250304T081500
DTEND;TZID=UTC:20250304T091500
DTSTAMP:20260421T005243
CREATED:20250307T045125Z
LAST-MODIFIED:20250307T045125Z
UID:168140-1741076100-1741079700@scuolaedilecremona.it
SUMMARY:Area tecnico professionale - Disegno tecnico
DESCRIPTION:Docente: SOFFIENTINI ROBERTO
URL:https://scuolaedilecremona.it/event/area-tecnico-professionale-disegno-tecnico-5/
CATEGORIES:ANNO 3 OPERATORE EDILE - TERZO ANNO 2024/2025
END:VEVENT
BEGIN:VEVENT
DTSTART;TZID=UTC:20250304T091500
DTEND;TZID=UTC:20250304T111500
DTSTAMP:20260421T005243
CREATED:20250307T045126Z
LAST-MODIFIED:20250307T045126Z
UID:168141-1741079700-1741086900@scuolaedilecremona.it
SUMMARY:Area tecnico professionale - Elementi di sicurezza sul lavoro
DESCRIPTION:Docente: SOFFIENTINI ROBERTO
URL:https://scuolaedilecremona.it/event/area-tecnico-professionale-elementi-di-sicurezza-sul-lavoro-11/
CATEGORIES:ANNO 3 OPERATORE EDILE - TERZO ANNO 2024/2025
END:VEVENT
BEGIN:VEVENT
DTSTART;TZID=UTC:20250304T113000
DTEND;TZID=UTC:20250304T133000
DTSTAMP:20260421T005243
CREATED:20250307T045128Z
LAST-MODIFIED:20250307T045128Z
UID:168142-1741087800-1741095000@scuolaedilecremona.it
SUMMARY:Area storico-socio-economica - Elementi di diritto del lavoro
DESCRIPTION:Docente: SPOTTI FABIO ENRICO
URL:https://scuolaedilecremona.it/event/area-storico-socio-economica-elementi-di-diritto-del-lavoro-7/
CATEGORIES:ANNO 3 OPERATORE EDILE - TERZO ANNO 2024/2025
END:VEVENT
BEGIN:VEVENT
DTSTART;TZID=UTC:20250305T081500
DTEND;TZID=UTC:20250305T133000
DTSTAMP:20260421T005243
CREATED:20250307T045129Z
LAST-MODIFIED:20250307T045129Z
UID:168143-1741162500-1741181400@scuolaedilecremona.it
SUMMARY:AREA DEI LINGUAGGI - LINGUA ITALIANA
DESCRIPTION:Docente: SPERNAZZATI EMANUELA
URL:https://scuolaedilecremona.it/event/area-dei-linguaggi-lingua-italiana-10/
CATEGORIES:ANNO 3 OPERATORE EDILE - TERZO ANNO 2024/2025
END:VEVENT
BEGIN:VEVENT
DTSTART;TZID=UTC:20250306T081500
DTEND;TZID=UTC:20250306T101500
DTSTAMP:20260421T005243
CREATED:20250307T045130Z
LAST-MODIFIED:20250307T045130Z
UID:168144-1741248900-1741256100@scuolaedilecremona.it
SUMMARY:Area tecnico professionale - Elementi di contabilita
DESCRIPTION:Docente: SOFFIENTINI ROBERTO
URL:https://scuolaedilecremona.it/event/area-tecnico-professionale-elementi-di-contabilita-12/
CATEGORIES:ANNO 3 OPERATORE EDILE - TERZO ANNO 2024/2025
END:VEVENT
BEGIN:VEVENT
DTSTART;TZID=UTC:20250306T101500
DTEND;TZID=UTC:20250306T111500
DTSTAMP:20260421T005243
CREATED:20250307T045131Z
LAST-MODIFIED:20250307T045131Z
UID:168145-1741256100-1741259700@scuolaedilecremona.it
SUMMARY:Area tecnico professionale - Elementi di sicurezza sul lavoro
DESCRIPTION:Docente: SOFFIENTINI ROBERTO
URL:https://scuolaedilecremona.it/event/area-tecnico-professionale-elementi-di-sicurezza-sul-lavoro-12/
CATEGORIES:ANNO 3 OPERATORE EDILE - TERZO ANNO 2024/2025
END:VEVENT
BEGIN:VEVENT
DTSTART;TZID=UTC:20250306T113000
DTEND;TZID=UTC:20250306T133000
DTSTAMP:20260421T005243
CREATED:20250307T045133Z
LAST-MODIFIED:20250307T045133Z
UID:168146-1741260600-1741267800@scuolaedilecremona.it
SUMMARY:Area scientifica - matematica e geometria
DESCRIPTION:Docente: BETTONI FABIO
URL:https://scuolaedilecremona.it/event/area-scientifica-matematica-e-geometria-13/
CATEGORIES:ANNO 3 OPERATORE EDILE - TERZO ANNO 2024/2025
END:VEVENT
BEGIN:VEVENT
DTSTART;TZID=UTC:20250307T081500
DTEND;TZID=UTC:20250307T111500
DTSTAMP:20260421T005243
CREATED:20250307T045134Z
LAST-MODIFIED:20250307T045134Z
UID:168147-1741335300-1741346100@scuolaedilecremona.it
SUMMARY:Area tecnico professionale - Elementi di tecnologia edile
DESCRIPTION:Docente: BELLADELLI LEONARDO
URL:https://scuolaedilecremona.it/event/area-tecnico-professionale-elementi-di-tecnologia-edile-13/
CATEGORIES:ANNO 3 OPERATORE EDILE - TERZO ANNO 2024/2025
END:VEVENT
BEGIN:VEVENT
DTSTART;TZID=UTC:20250307T113000
DTEND;TZID=UTC:20250307T133000
DTSTAMP:20260421T005243
CREATED:20250307T045135Z
LAST-MODIFIED:20250307T045135Z
UID:168148-1741347000-1741354200@scuolaedilecremona.it
SUMMARY:Area personalizzazione - Laboratorio attivita espressivo motorie
DESCRIPTION:Docente: BODINI DAVIDE
URL:https://scuolaedilecremona.it/event/area-personalizzazione-laboratorio-attivita-espressivo-motorie-3/
CATEGORIES:ANNO 3 OPERATORE EDILE - TERZO ANNO 2024/2025
END:VEVENT
BEGIN:VEVENT
DTSTART;TZID=UTC:20250310T081500
DTEND;TZID=UTC:20250310T101500
DTSTAMP:20260421T005243
CREATED:20250307T045137Z
LAST-MODIFIED:20250307T045137Z
UID:168149-1741594500-1741601700@scuolaedilecremona.it
SUMMARY:AREA DEI LINGUAGGI - LINGUA INGLESE
DESCRIPTION:Docente: VIRGILIO LAURA LETIZIA
URL:https://scuolaedilecremona.it/event/area-dei-linguaggi-lingua-inglese-7/
CATEGORIES:ANNO 3 OPERATORE EDILE - TERZO ANNO 2024/2025
END:VEVENT
BEGIN:VEVENT
DTSTART;TZID=UTC:20250310T101500
DTEND;TZID=UTC:20250310T133000
DTSTAMP:20260421T005243
CREATED:20250307T045138Z
LAST-MODIFIED:20250307T045138Z
UID:168150-1741601700-1741613400@scuolaedilecremona.it
SUMMARY:Area tecnologica - informatica
DESCRIPTION:Docente: BILLA CHIARA
URL:https://scuolaedilecremona.it/event/area-tecnologica-informatica-8/
CATEGORIES:ANNO 3 OPERATORE EDILE - TERZO ANNO 2024/2025
END:VEVENT
BEGIN:VEVENT
DTSTART;TZID=UTC:20250311T081500
DTEND;TZID=UTC:20250311T091500
DTSTAMP:20260421T005243
CREATED:20250307T045139Z
LAST-MODIFIED:20250307T045139Z
UID:168151-1741680900-1741684500@scuolaedilecremona.it
SUMMARY:Area tecnico professionale - Disegno tecnico
DESCRIPTION:Docente: SOFFIENTINI ROBERTO
URL:https://scuolaedilecremona.it/event/area-tecnico-professionale-disegno-tecnico-6/
CATEGORIES:ANNO 3 OPERATORE EDILE - TERZO ANNO 2024/2025
END:VEVENT
BEGIN:VEVENT
DTSTART;TZID=UTC:20250311T091500
DTEND;TZID=UTC:20250311T111500
DTSTAMP:20260421T005243
CREATED:20250307T045140Z
LAST-MODIFIED:20250307T045140Z
UID:168152-1741684500-1741691700@scuolaedilecremona.it
SUMMARY:Area tecnico professionale - Elementi di sicurezza sul lavoro
DESCRIPTION:Docente: SOFFIENTINI ROBERTO
URL:https://scuolaedilecremona.it/event/area-tecnico-professionale-elementi-di-sicurezza-sul-lavoro-13/
CATEGORIES:ANNO 3 OPERATORE EDILE - TERZO ANNO 2024/2025
END:VEVENT
BEGIN:VEVENT
DTSTART;TZID=UTC:20250311T113000
DTEND;TZID=UTC:20250311T133000
DTSTAMP:20260421T005243
CREATED:20250307T045141Z
LAST-MODIFIED:20250307T045141Z
UID:168153-1741692600-1741699800@scuolaedilecremona.it
SUMMARY:Area scientifica - matematica e geometria
DESCRIPTION:Docente: BETTONI FABIO
URL:https://scuolaedilecremona.it/event/area-scientifica-matematica-e-geometria-14/
CATEGORIES:ANNO 3 OPERATORE EDILE - TERZO ANNO 2024/2025
END:VEVENT
BEGIN:VEVENT
DTSTART;TZID=UTC:20250312T081500
DTEND;TZID=UTC:20250312T133000
DTSTAMP:20260421T005243
CREATED:20250307T045143Z
LAST-MODIFIED:20250307T045143Z
UID:168154-1741767300-1741786200@scuolaedilecremona.it
SUMMARY:AREA DEI LINGUAGGI - LINGUA ITALIANA
DESCRIPTION:Docente: SPERNAZZATI EMANUELA
URL:https://scuolaedilecremona.it/event/area-dei-linguaggi-lingua-italiana-11/
CATEGORIES:ANNO 3 OPERATORE EDILE - TERZO ANNO 2024/2025
END:VEVENT
BEGIN:VEVENT
DTSTART;TZID=UTC:20250313T081500
DTEND;TZID=UTC:20250313T111500
DTSTAMP:20260421T005243
CREATED:20250307T045144Z
LAST-MODIFIED:20250307T045144Z
UID:168155-1741853700-1741864500@scuolaedilecremona.it
SUMMARY:Area tecnico professionale - Elementi di sicurezza sul lavoro
DESCRIPTION:Docente: SOFFIENTINI ROBERTO
URL:https://scuolaedilecremona.it/event/area-tecnico-professionale-elementi-di-sicurezza-sul-lavoro-14/
CATEGORIES:ANNO 3 OPERATORE EDILE - TERZO ANNO 2024/2025
END:VEVENT
BEGIN:VEVENT
DTSTART;TZID=UTC:20250313T113000
DTEND;TZID=UTC:20250313T133000
DTSTAMP:20260421T005243
CREATED:20250307T045145Z
LAST-MODIFIED:20250307T045145Z
UID:168156-1741865400-1741872600@scuolaedilecremona.it
SUMMARY:Area scientifica - matematica e geometria
DESCRIPTION:Docente: BETTONI FABIO
URL:https://scuolaedilecremona.it/event/area-scientifica-matematica-e-geometria-15/
CATEGORIES:ANNO 3 OPERATORE EDILE - TERZO ANNO 2024/2025
END:VEVENT
BEGIN:VEVENT
DTSTART;TZID=UTC:20250314T081500
DTEND;TZID=UTC:20250314T101500
DTSTAMP:20260421T005243
CREATED:20250307T045146Z
LAST-MODIFIED:20250307T045146Z
UID:168157-1741940100-1741947300@scuolaedilecremona.it
SUMMARY:Area tecnico professionale - Elementi di contabilita
DESCRIPTION:Docente: SOFFIENTINI ROBERTO
URL:https://scuolaedilecremona.it/event/area-tecnico-professionale-elementi-di-contabilita-13/
CATEGORIES:ANNO 3 OPERATORE EDILE - TERZO ANNO 2024/2025
END:VEVENT
BEGIN:VEVENT
DTSTART;TZID=UTC:20250314T101500
DTEND;TZID=UTC:20250314T111500
DTSTAMP:20260421T005243
CREATED:20250307T045148Z
LAST-MODIFIED:20250307T045148Z
UID:168158-1741947300-1741950900@scuolaedilecremona.it
SUMMARY:Area tecnico professionale - Elementi di sicurezza sul lavoro
DESCRIPTION:Docente: SOFFIENTINI ROBERTO
URL:https://scuolaedilecremona.it/event/area-tecnico-professionale-elementi-di-sicurezza-sul-lavoro-15/
CATEGORIES:ANNO 3 OPERATORE EDILE - TERZO ANNO 2024/2025
END:VEVENT
BEGIN:VEVENT
DTSTART;TZID=UTC:20250314T113000
DTEND;TZID=UTC:20250314T133000
DTSTAMP:20260421T005243
CREATED:20250307T045149Z
LAST-MODIFIED:20250307T045149Z
UID:168159-1741951800-1741959000@scuolaedilecremona.it
SUMMARY:Area personalizzazione - Laboratorio attivita espressivo motorie
DESCRIPTION:Docente: BODINI DAVIDE
URL:https://scuolaedilecremona.it/event/area-personalizzazione-laboratorio-attivita-espressivo-motorie-4/
CATEGORIES:ANNO 3 OPERATORE EDILE - TERZO ANNO 2024/2025
END:VEVENT
BEGIN:VEVENT
DTSTART;TZID=UTC:20250317T081500
DTEND;TZID=UTC:20250317T101500
DTSTAMP:20260421T005243
CREATED:20250307T045150Z
LAST-MODIFIED:20250307T045150Z
UID:168160-1742199300-1742206500@scuolaedilecremona.it
SUMMARY:AREA DEI LINGUAGGI - LINGUA INGLESE
DESCRIPTION:Docente: VIRGILIO LAURA LETIZIA
URL:https://scuolaedilecremona.it/event/area-dei-linguaggi-lingua-inglese-8/
CATEGORIES:ANNO 3 OPERATORE EDILE - TERZO ANNO 2024/2025
END:VEVENT
BEGIN:VEVENT
DTSTART;TZID=UTC:20250317T101500
DTEND;TZID=UTC:20250317T111500
DTSTAMP:20260421T005243
CREATED:20250316T200314Z
LAST-MODIFIED:20250316T200314Z
UID:168289-1742206500-1742210100@scuolaedilecremona.it
SUMMARY:Area tecnico professionale - Elementi di contabilita
DESCRIPTION:Docente: SOFFIENTINI ROBERTO
URL:https://scuolaedilecremona.it/event/area-tecnico-professionale-elementi-di-contabilita-54/
CATEGORIES:ANNO 3 OPERATORE EDILE - TERZO ANNO 2024/2025
END:VEVENT
BEGIN:VEVENT
DTSTART;TZID=UTC:20250317T113000
DTEND;TZID=UTC:20250317T133000
DTSTAMP:20260421T005243
CREATED:20250316T200315Z
LAST-MODIFIED:20250316T200315Z
UID:168290-1742211000-1742218200@scuolaedilecremona.it
SUMMARY:Area scientifica - matematica e geometria
DESCRIPTION:Docente: BETTONI FABIO
URL:https://scuolaedilecremona.it/event/area-scientifica-matematica-e-geometria-99/
CATEGORIES:ANNO 3 OPERATORE EDILE - TERZO ANNO 2024/2025
END:VEVENT
BEGIN:VEVENT
DTSTART;TZID=UTC:20250318T081500
DTEND;TZID=UTC:20250318T091500
DTSTAMP:20260421T005243
CREATED:20250307T045153Z
LAST-MODIFIED:20250307T045153Z
UID:168162-1742285700-1742289300@scuolaedilecremona.it
SUMMARY:Area tecnico professionale - Disegno tecnico
DESCRIPTION:Docente: SOFFIENTINI ROBERTO
URL:https://scuolaedilecremona.it/event/area-tecnico-professionale-disegno-tecnico-7/
CATEGORIES:ANNO 3 OPERATORE EDILE - TERZO ANNO 2024/2025
END:VEVENT
BEGIN:VEVENT
DTSTART;TZID=UTC:20250318T091500
DTEND;TZID=UTC:20250318T111500
DTSTAMP:20260421T005243
CREATED:20250307T045154Z
LAST-MODIFIED:20250307T045154Z
UID:168163-1742289300-1742296500@scuolaedilecremona.it
SUMMARY:Area tecnico professionale - Elementi di sicurezza sul lavoro
DESCRIPTION:Docente: SOFFIENTINI ROBERTO
URL:https://scuolaedilecremona.it/event/area-tecnico-professionale-elementi-di-sicurezza-sul-lavoro-16/
CATEGORIES:ANNO 3 OPERATORE EDILE - TERZO ANNO 2024/2025
END:VEVENT
BEGIN:VEVENT
DTSTART;TZID=UTC:20250318T113000
DTEND;TZID=UTC:20250318T133000
DTSTAMP:20260421T005243
CREATED:20250307T045155Z
LAST-MODIFIED:20250307T045155Z
UID:168164-1742297400-1742304600@scuolaedilecremona.it
SUMMARY:Area scientifica - matematica e geometria
DESCRIPTION:Docente: BETTONI FABIO
URL:https://scuolaedilecremona.it/event/area-scientifica-matematica-e-geometria-16/
CATEGORIES:ANNO 3 OPERATORE EDILE - TERZO ANNO 2024/2025
END:VEVENT
BEGIN:VEVENT
DTSTART;TZID=UTC:20250319T081500
DTEND;TZID=UTC:20250319T123000
DTSTAMP:20260421T005243
CREATED:20250307T045156Z
LAST-MODIFIED:20250307T045156Z
UID:168165-1742372100-1742387400@scuolaedilecremona.it
SUMMARY:AREA DEI LINGUAGGI - LINGUA ITALIANA
DESCRIPTION:Docente: SPERNAZZATI EMANUELA
URL:https://scuolaedilecremona.it/event/area-dei-linguaggi-lingua-italiana-12/
CATEGORIES:ANNO 3 OPERATORE EDILE - TERZO ANNO 2024/2025
END:VEVENT
BEGIN:VEVENT
DTSTART;TZID=UTC:20250319T123000
DTEND;TZID=UTC:20250319T133000
DTSTAMP:20260421T005243
CREATED:20250307T045157Z
LAST-MODIFIED:20250307T045157Z
UID:168166-1742387400-1742391000@scuolaedilecremona.it
SUMMARY:Area storico-socio-economica - Storia
DESCRIPTION:Docente: SPERNAZZATI EMANUELA
URL:https://scuolaedilecremona.it/event/area-storico-socio-economica-storia-2/
CATEGORIES:ANNO 3 OPERATORE EDILE - TERZO ANNO 2024/2025
END:VEVENT
BEGIN:VEVENT
DTSTART;TZID=UTC:20250320T081500
DTEND;TZID=UTC:20250320T133000
DTSTAMP:20260421T005243
CREATED:20250307T045159Z
LAST-MODIFIED:20250307T045159Z
UID:168167-1742458500-1742477400@scuolaedilecremona.it
SUMMARY:Area tecnico professionale - Laboratorio esercitazioni pratiche
DESCRIPTION:Docente: REGINI MARIA CRISTINA
URL:https://scuolaedilecremona.it/event/area-tecnico-professionale-laboratorio-esercitazioni-pratiche-17/
CATEGORIES:ANNO 3 OPERATORE EDILE - TERZO ANNO 2024/2025
END:VEVENT
END:VCALENDAR