BEGIN:VCALENDAR
VERSION:2.0
PRODID:-//Ente Scuola Edile Cremona - C.P.T. - ECPv6.15.18//NONSGML v1.0//EN
CALSCALE:GREGORIAN
METHOD:PUBLISH
X-WR-CALNAME:Ente Scuola Edile Cremona - C.P.T.
X-ORIGINAL-URL:https://scuolaedilecremona.it
X-WR-CALDESC:Eventi per Ente Scuola Edile Cremona - C.P.T.
REFRESH-INTERVAL;VALUE=DURATION:PT1H
X-Robots-Tag:noindex
X-PUBLISHED-TTL:PT1H
BEGIN:VTIMEZONE
TZID:UTC
BEGIN:STANDARD
TZOFFSETFROM:+0000
TZOFFSETTO:+0000
TZNAME:UTC
DTSTART:20240101T000000
END:STANDARD
END:VTIMEZONE
BEGIN:VEVENT
DTSTART;TZID=UTC:20250210T123000
DTEND;TZID=UTC:20250210T133000
DTSTAMP:20260420T230313
CREATED:20250307T045043Z
LAST-MODIFIED:20250307T045043Z
UID:168106-1739190600-1739194200@scuolaedilecremona.it
SUMMARY:Area storico-socio-economica - Elementi di economia
DESCRIPTION:Docente: SPOTTI FABIO ENRICO
URL:https://scuolaedilecremona.it/event/area-storico-socio-economica-elementi-di-economia-6/
CATEGORIES:ANNO 3 OPERATORE EDILE - TERZO ANNO 2024/2025
END:VEVENT
BEGIN:VEVENT
DTSTART;TZID=UTC:20250211T081500
DTEND;TZID=UTC:20250211T111500
DTSTAMP:20260420T230313
CREATED:20250307T045044Z
LAST-MODIFIED:20250307T045044Z
UID:168107-1739261700-1739272500@scuolaedilecremona.it
SUMMARY:Religione Cattolica (IRC) / Attivita alternativa
DESCRIPTION:Docente: ROSSI GIAMPIETRO
URL:https://scuolaedilecremona.it/event/religione-cattolica-irc-attivita-alternativa-7/
CATEGORIES:ANNO 3 OPERATORE EDILE - TERZO ANNO 2024/2025
END:VEVENT
BEGIN:VEVENT
DTSTART;TZID=UTC:20250211T113000
DTEND;TZID=UTC:20250211T133000
DTSTAMP:20260420T230313
CREATED:20250307T045045Z
LAST-MODIFIED:20250307T045045Z
UID:168108-1739273400-1739280600@scuolaedilecremona.it
SUMMARY:Area scientifica - matematica e geometria
DESCRIPTION:Docente: BETTONI FABIO
URL:https://scuolaedilecremona.it/event/area-scientifica-matematica-e-geometria-8/
CATEGORIES:ANNO 3 OPERATORE EDILE - TERZO ANNO 2024/2025
END:VEVENT
BEGIN:VEVENT
DTSTART;TZID=UTC:20250212T081500
DTEND;TZID=UTC:20250212T111500
DTSTAMP:20260420T230313
CREATED:20250307T045047Z
LAST-MODIFIED:20250307T045047Z
UID:168109-1739348100-1739358900@scuolaedilecremona.it
SUMMARY:AREA DEI LINGUAGGI - LINGUA ITALIANA
DESCRIPTION:Docente: SPERNAZZATI EMANUELA
URL:https://scuolaedilecremona.it/event/area-dei-linguaggi-lingua-italiana-7/
CATEGORIES:ANNO 3 OPERATORE EDILE - TERZO ANNO 2024/2025
END:VEVENT
BEGIN:VEVENT
DTSTART;TZID=UTC:20250212T113000
DTEND;TZID=UTC:20250212T133000
DTSTAMP:20260420T230313
CREATED:20250307T045048Z
LAST-MODIFIED:20250307T045048Z
UID:168110-1739359800-1739367000@scuolaedilecremona.it
SUMMARY:Area scientifica - scienze
DESCRIPTION:Docente: TAINO CATERINA
URL:https://scuolaedilecremona.it/event/area-scientifica-scienze-6/
CATEGORIES:ANNO 3 OPERATORE EDILE - TERZO ANNO 2024/2025
END:VEVENT
BEGIN:VEVENT
DTSTART;TZID=UTC:20250213T081500
DTEND;TZID=UTC:20250213T133000
DTSTAMP:20260420T230313
CREATED:20250307T045049Z
LAST-MODIFIED:20250307T045049Z
UID:168111-1739434500-1739453400@scuolaedilecremona.it
SUMMARY:Area tecnico professionale - Laboratorio esercitazioni pratiche
DESCRIPTION:Docente: BRUNELLI ERNESTO
URL:https://scuolaedilecremona.it/event/area-tecnico-professionale-laboratorio-esercitazioni-pratiche-13/
CATEGORIES:ANNO 3 OPERATORE EDILE - TERZO ANNO 2024/2025
END:VEVENT
BEGIN:VEVENT
DTSTART;TZID=UTC:20250214T081500
DTEND;TZID=UTC:20250214T091500
DTSTAMP:20260420T230313
CREATED:20250307T045051Z
LAST-MODIFIED:20250307T045051Z
UID:168112-1739520900-1739524500@scuolaedilecremona.it
SUMMARY:Area tecnico professionale - Elementi di contabilita
DESCRIPTION:Docente: SOFFIENTINI ROBERTO
URL:https://scuolaedilecremona.it/event/area-tecnico-professionale-elementi-di-contabilita-9/
CATEGORIES:ANNO 3 OPERATORE EDILE - TERZO ANNO 2024/2025
END:VEVENT
BEGIN:VEVENT
DTSTART;TZID=UTC:20250214T091500
DTEND;TZID=UTC:20250214T101500
DTSTAMP:20260420T230313
CREATED:20250307T045052Z
LAST-MODIFIED:20250307T045052Z
UID:168113-1739524500-1739528100@scuolaedilecremona.it
SUMMARY:Area tecnico professionale - Elementi di sicurezza sul lavoro
DESCRIPTION:Docente: SOFFIENTINI ROBERTO
URL:https://scuolaedilecremona.it/event/area-tecnico-professionale-elementi-di-sicurezza-sul-lavoro-8/
CATEGORIES:ANNO 3 OPERATORE EDILE - TERZO ANNO 2024/2025
END:VEVENT
BEGIN:VEVENT
DTSTART;TZID=UTC:20250214T101500
DTEND;TZID=UTC:20250214T133000
DTSTAMP:20260420T230313
CREATED:20250307T045053Z
LAST-MODIFIED:20250307T045053Z
UID:168114-1739528100-1739539800@scuolaedilecremona.it
SUMMARY:Area tecnico professionale - Elementi di tecnologia edile
DESCRIPTION:Docente: BELLADELLI LEONARDO
URL:https://scuolaedilecremona.it/event/area-tecnico-professionale-elementi-di-tecnologia-edile-12/
CATEGORIES:ANNO 3 OPERATORE EDILE - TERZO ANNO 2024/2025
END:VEVENT
BEGIN:VEVENT
DTSTART;TZID=UTC:20250217T081500
DTEND;TZID=UTC:20250217T101500
DTSTAMP:20260420T230313
CREATED:20250307T045054Z
LAST-MODIFIED:20250307T045054Z
UID:168115-1739780100-1739787300@scuolaedilecremona.it
SUMMARY:AREA DEI LINGUAGGI - LINGUA INGLESE
DESCRIPTION:Docente: VIRGILIO LAURA LETIZIA
URL:https://scuolaedilecremona.it/event/area-dei-linguaggi-lingua-inglese-4/
CATEGORIES:ANNO 3 OPERATORE EDILE - TERZO ANNO 2024/2025
END:VEVENT
BEGIN:VEVENT
DTSTART;TZID=UTC:20250217T101500
DTEND;TZID=UTC:20250217T123000
DTSTAMP:20260420T230313
CREATED:20250307T045055Z
LAST-MODIFIED:20250307T045055Z
UID:168116-1739787300-1739795400@scuolaedilecremona.it
SUMMARY:Area tecnologica - informatica
DESCRIPTION:Docente: BILLA CHIARA
URL:https://scuolaedilecremona.it/event/area-tecnologica-informatica-6/
CATEGORIES:ANNO 3 OPERATORE EDILE - TERZO ANNO 2024/2025
END:VEVENT
BEGIN:VEVENT
DTSTART;TZID=UTC:20250217T123000
DTEND;TZID=UTC:20250217T133000
DTSTAMP:20260420T230313
CREATED:20250307T045057Z
LAST-MODIFIED:20250307T045057Z
UID:168117-1739795400-1739799000@scuolaedilecremona.it
SUMMARY:Area scientifica - matematica e geometria
DESCRIPTION:Docente: BETTONI FABIO
URL:https://scuolaedilecremona.it/event/area-scientifica-matematica-e-geometria-9/
CATEGORIES:ANNO 3 OPERATORE EDILE - TERZO ANNO 2024/2025
END:VEVENT
BEGIN:VEVENT
DTSTART;TZID=UTC:20250218T081500
DTEND;TZID=UTC:20250218T091500
DTSTAMP:20260420T230313
CREATED:20250307T045058Z
LAST-MODIFIED:20250307T045058Z
UID:168118-1739866500-1739870100@scuolaedilecremona.it
SUMMARY:Area tecnico professionale - Elementi di contabilita
DESCRIPTION:Docente: SOFFIENTINI ROBERTO
URL:https://scuolaedilecremona.it/event/area-tecnico-professionale-elementi-di-contabilita-10/
CATEGORIES:ANNO 3 OPERATORE EDILE - TERZO ANNO 2024/2025
END:VEVENT
BEGIN:VEVENT
DTSTART;TZID=UTC:20250218T091500
DTEND;TZID=UTC:20250218T111500
DTSTAMP:20260420T230313
CREATED:20250307T045059Z
LAST-MODIFIED:20250307T045059Z
UID:168119-1739870100-1739877300@scuolaedilecremona.it
SUMMARY:Area tecnico professionale - Elementi di sicurezza sul lavoro
DESCRIPTION:Docente: SOFFIENTINI ROBERTO
URL:https://scuolaedilecremona.it/event/area-tecnico-professionale-elementi-di-sicurezza-sul-lavoro-9/
CATEGORIES:ANNO 3 OPERATORE EDILE - TERZO ANNO 2024/2025
END:VEVENT
BEGIN:VEVENT
DTSTART;TZID=UTC:20250218T113000
DTEND;TZID=UTC:20250218T123000
DTSTAMP:20260420T230313
CREATED:20250307T045100Z
LAST-MODIFIED:20250307T045100Z
UID:168120-1739878200-1739881800@scuolaedilecremona.it
SUMMARY:Area storico-socio-economica - Elementi di economia
DESCRIPTION:Docente: SPOTTI FABIO ENRICO
URL:https://scuolaedilecremona.it/event/area-storico-socio-economica-elementi-di-economia-7/
CATEGORIES:ANNO 3 OPERATORE EDILE - TERZO ANNO 2024/2025
END:VEVENT
BEGIN:VEVENT
DTSTART;TZID=UTC:20250218T123000
DTEND;TZID=UTC:20250218T133000
DTSTAMP:20260420T230313
CREATED:20250307T045102Z
LAST-MODIFIED:20250307T045102Z
UID:168121-1739881800-1739885400@scuolaedilecremona.it
SUMMARY:Religione Cattolica (IRC) / Attivita alternativa
DESCRIPTION:Docente: ROSSI GIAMPIETRO
URL:https://scuolaedilecremona.it/event/religione-cattolica-irc-attivita-alternativa-8/
CATEGORIES:ANNO 3 OPERATORE EDILE - TERZO ANNO 2024/2025
END:VEVENT
BEGIN:VEVENT
DTSTART;TZID=UTC:20250219T081500
DTEND;TZID=UTC:20250219T111500
DTSTAMP:20260420T230313
CREATED:20250307T045103Z
LAST-MODIFIED:20250307T045103Z
UID:168122-1739952900-1739963700@scuolaedilecremona.it
SUMMARY:AREA DEI LINGUAGGI - LINGUA ITALIANA
DESCRIPTION:Docente: SPERNAZZATI EMANUELA
URL:https://scuolaedilecremona.it/event/area-dei-linguaggi-lingua-italiana-8/
CATEGORIES:ANNO 3 OPERATORE EDILE - TERZO ANNO 2024/2025
END:VEVENT
BEGIN:VEVENT
DTSTART;TZID=UTC:20250219T113000
DTEND;TZID=UTC:20250219T133000
DTSTAMP:20260420T230313
CREATED:20250307T045104Z
LAST-MODIFIED:20250307T045104Z
UID:168123-1739964600-1739971800@scuolaedilecremona.it
SUMMARY:Area scientifica - scienze
DESCRIPTION:Docente: TAINO CATERINA
URL:https://scuolaedilecremona.it/event/area-scientifica-scienze-7/
CATEGORIES:ANNO 3 OPERATORE EDILE - TERZO ANNO 2024/2025
END:VEVENT
BEGIN:VEVENT
DTSTART;TZID=UTC:20250220T081500
DTEND;TZID=UTC:20250220T133000
DTSTAMP:20260420T230313
CREATED:20250307T045105Z
LAST-MODIFIED:20250307T045105Z
UID:168124-1740039300-1740058200@scuolaedilecremona.it
SUMMARY:Area tecnico professionale - Laboratorio esercitazioni pratiche
DESCRIPTION:Docente: BRUNELLI ERNESTO
URL:https://scuolaedilecremona.it/event/area-tecnico-professionale-laboratorio-esercitazioni-pratiche-14/
CATEGORIES:ANNO 3 OPERATORE EDILE - TERZO ANNO 2024/2025
END:VEVENT
BEGIN:VEVENT
DTSTART;TZID=UTC:20250221T081500
DTEND;TZID=UTC:20250221T133000
DTSTAMP:20260420T230313
CREATED:20250307T045107Z
LAST-MODIFIED:20250307T045107Z
UID:168125-1740125700-1740144600@scuolaedilecremona.it
SUMMARY:Area tecnico professionale - Laboratorio esercitazioni pratiche
DESCRIPTION:Docente: BELLADELLI LEONARDO
URL:https://scuolaedilecremona.it/event/area-tecnico-professionale-laboratorio-esercitazioni-pratiche-15/
CATEGORIES:ANNO 3 OPERATORE EDILE - TERZO ANNO 2024/2025
END:VEVENT
BEGIN:VEVENT
DTSTART;TZID=UTC:20250224T081500
DTEND;TZID=UTC:20250224T101500
DTSTAMP:20260420T230313
CREATED:20250307T045108Z
LAST-MODIFIED:20250307T045108Z
UID:168126-1740384900-1740392100@scuolaedilecremona.it
SUMMARY:AREA DEI LINGUAGGI - LINGUA INGLESE
DESCRIPTION:Docente: VIRGILIO LAURA LETIZIA
URL:https://scuolaedilecremona.it/event/area-dei-linguaggi-lingua-inglese-5/
CATEGORIES:ANNO 3 OPERATORE EDILE - TERZO ANNO 2024/2025
END:VEVENT
BEGIN:VEVENT
DTSTART;TZID=UTC:20250224T101500
DTEND;TZID=UTC:20250224T123000
DTSTAMP:20260420T230313
CREATED:20250307T045109Z
LAST-MODIFIED:20250307T045109Z
UID:168127-1740392100-1740400200@scuolaedilecremona.it
SUMMARY:Area tecnologica - informatica
DESCRIPTION:Docente: BILLA CHIARA
URL:https://scuolaedilecremona.it/event/area-tecnologica-informatica-7/
CATEGORIES:ANNO 3 OPERATORE EDILE - TERZO ANNO 2024/2025
END:VEVENT
BEGIN:VEVENT
DTSTART;TZID=UTC:20250224T123000
DTEND;TZID=UTC:20250224T133000
DTSTAMP:20260420T230313
CREATED:20250307T045110Z
LAST-MODIFIED:20250307T045110Z
UID:168128-1740400200-1740403800@scuolaedilecremona.it
SUMMARY:Area scientifica - matematica e geometria
DESCRIPTION:Docente: BETTONI FABIO
URL:https://scuolaedilecremona.it/event/area-scientifica-matematica-e-geometria-10/
CATEGORIES:ANNO 3 OPERATORE EDILE - TERZO ANNO 2024/2025
END:VEVENT
BEGIN:VEVENT
DTSTART;TZID=UTC:20250225T081500
DTEND;TZID=UTC:20250225T101500
DTSTAMP:20260420T230313
CREATED:20250307T045112Z
LAST-MODIFIED:20250307T045112Z
UID:168129-1740471300-1740478500@scuolaedilecremona.it
SUMMARY:Area tecnico professionale - Disegno tecnico
DESCRIPTION:Docente: SOFFIENTINI ROBERTO
URL:https://scuolaedilecremona.it/event/area-tecnico-professionale-disegno-tecnico-4/
CATEGORIES:ANNO 3 OPERATORE EDILE - TERZO ANNO 2024/2025
END:VEVENT
BEGIN:VEVENT
DTSTART;TZID=UTC:20250225T101500
DTEND;TZID=UTC:20250225T133000
DTSTAMP:20260420T230313
CREATED:20250307T045113Z
LAST-MODIFIED:20250307T045113Z
UID:168130-1740478500-1740490200@scuolaedilecremona.it
SUMMARY:Religione Cattolica (IRC) / Attivita alternativa
DESCRIPTION:Docente: ROSSI GIAMPIETRO
URL:https://scuolaedilecremona.it/event/religione-cattolica-irc-attivita-alternativa-9/
CATEGORIES:ANNO 3 OPERATORE EDILE - TERZO ANNO 2024/2025
END:VEVENT
BEGIN:VEVENT
DTSTART;TZID=UTC:20250226T081500
DTEND;TZID=UTC:20250226T111500
DTSTAMP:20260420T230313
CREATED:20250307T045114Z
LAST-MODIFIED:20250307T045114Z
UID:168131-1740557700-1740568500@scuolaedilecremona.it
SUMMARY:AREA DEI LINGUAGGI - LINGUA ITALIANA
DESCRIPTION:Docente: SPERNAZZATI EMANUELA
URL:https://scuolaedilecremona.it/event/area-dei-linguaggi-lingua-italiana-9/
CATEGORIES:ANNO 3 OPERATORE EDILE - TERZO ANNO 2024/2025
END:VEVENT
BEGIN:VEVENT
DTSTART;TZID=UTC:20250226T113000
DTEND;TZID=UTC:20250226T133000
DTSTAMP:20260420T230313
CREATED:20250307T045115Z
LAST-MODIFIED:20250307T045115Z
UID:168132-1740569400-1740576600@scuolaedilecremona.it
SUMMARY:Area scientifica - scienze
DESCRIPTION:Docente: TAINO CATERINA
URL:https://scuolaedilecremona.it/event/area-scientifica-scienze-8/
CATEGORIES:ANNO 3 OPERATORE EDILE - TERZO ANNO 2024/2025
END:VEVENT
BEGIN:VEVENT
DTSTART;TZID=UTC:20250227T081500
DTEND;TZID=UTC:20250227T133000
DTSTAMP:20260420T230313
CREATED:20250307T045116Z
LAST-MODIFIED:20250307T045116Z
UID:168133-1740644100-1740663000@scuolaedilecremona.it
SUMMARY:Area tecnico professionale - Laboratorio esercitazioni pratiche
DESCRIPTION:Docente: BRUNELLI ERNESTO
URL:https://scuolaedilecremona.it/event/area-tecnico-professionale-laboratorio-esercitazioni-pratiche-16/
CATEGORIES:ANNO 3 OPERATORE EDILE - TERZO ANNO 2024/2025
END:VEVENT
BEGIN:VEVENT
DTSTART;TZID=UTC:20250228T081500
DTEND;TZID=UTC:20250228T101500
DTSTAMP:20260420T230313
CREATED:20250307T045118Z
LAST-MODIFIED:20250307T045118Z
UID:168134-1740730500-1740737700@scuolaedilecremona.it
SUMMARY:Area tecnico professionale - Elementi di contabilita
DESCRIPTION:Docente: SOFFIENTINI ROBERTO
URL:https://scuolaedilecremona.it/event/area-tecnico-professionale-elementi-di-contabilita-11/
CATEGORIES:ANNO 3 OPERATORE EDILE - TERZO ANNO 2024/2025
END:VEVENT
BEGIN:VEVENT
DTSTART;TZID=UTC:20250228T101500
DTEND;TZID=UTC:20250228T111500
DTSTAMP:20260420T230313
CREATED:20250307T045119Z
LAST-MODIFIED:20250307T045119Z
UID:168135-1740737700-1740741300@scuolaedilecremona.it
SUMMARY:Area tecnico professionale - Elementi di sicurezza sul lavoro
DESCRIPTION:Docente: SOFFIENTINI ROBERTO
URL:https://scuolaedilecremona.it/event/area-tecnico-professionale-elementi-di-sicurezza-sul-lavoro-10/
CATEGORIES:ANNO 3 OPERATORE EDILE - TERZO ANNO 2024/2025
END:VEVENT
END:VCALENDAR