BEGIN:VCALENDAR
VERSION:2.0
PRODID:-//Ente Scuola Edile Cremona - C.P.T. - ECPv6.15.18//NONSGML v1.0//EN
CALSCALE:GREGORIAN
METHOD:PUBLISH
X-WR-CALNAME:Ente Scuola Edile Cremona - C.P.T.
X-ORIGINAL-URL:https://scuolaedilecremona.it
X-WR-CALDESC:Eventi per Ente Scuola Edile Cremona - C.P.T.
REFRESH-INTERVAL;VALUE=DURATION:PT1H
X-Robots-Tag:noindex
X-PUBLISHED-TTL:PT1H
BEGIN:VTIMEZONE
TZID:UTC
BEGIN:STANDARD
TZOFFSETFROM:+0000
TZOFFSETTO:+0000
TZNAME:UTC
DTSTART:20240101T000000
END:STANDARD
END:VTIMEZONE
BEGIN:VEVENT
DTSTART;TZID=UTC:20250108T081500
DTEND;TZID=UTC:20250108T101500
DTSTAMP:20260420T192247
CREATED:20250307T044935Z
LAST-MODIFIED:20250307T044935Z
UID:168053-1736324100-1736331300@scuolaedilecremona.it
SUMMARY:AREA DEI LINGUAGGI - LINGUA ITALIANA
DESCRIPTION:Docente: SPERNAZZATI EMANUELA
URL:https://scuolaedilecremona.it/event/area-dei-linguaggi-lingua-italiana-2/
CATEGORIES:ANNO 3 OPERATORE EDILE - TERZO ANNO 2024/2025
END:VEVENT
BEGIN:VEVENT
DTSTART;TZID=UTC:20250108T101500
DTEND;TZID=UTC:20250108T111500
DTSTAMP:20260420T192247
CREATED:20250307T044937Z
LAST-MODIFIED:20250307T044937Z
UID:168054-1736331300-1736334900@scuolaedilecremona.it
SUMMARY:Area storico-socio-economica - Geografia
DESCRIPTION:Docente: SPERNAZZATI EMANUELA
URL:https://scuolaedilecremona.it/event/area-storico-socio-economica-geografia/
CATEGORIES:ANNO 3 OPERATORE EDILE - TERZO ANNO 2024/2025
END:VEVENT
BEGIN:VEVENT
DTSTART;TZID=UTC:20250108T113000
DTEND;TZID=UTC:20250108T123000
DTSTAMP:20260420T192247
CREATED:20250307T044938Z
LAST-MODIFIED:20250307T044938Z
UID:168055-1736335800-1736339400@scuolaedilecremona.it
SUMMARY:Area scientifica - matematica e geometria
DESCRIPTION:Docente: BETTONI FABIO
URL:https://scuolaedilecremona.it/event/area-scientifica-matematica-e-geometria-3/
CATEGORIES:ANNO 3 OPERATORE EDILE - TERZO ANNO 2024/2025
END:VEVENT
BEGIN:VEVENT
DTSTART;TZID=UTC:20250108T123000
DTEND;TZID=UTC:20250108T133000
DTSTAMP:20260420T192247
CREATED:20250307T044939Z
LAST-MODIFIED:20250307T044939Z
UID:168056-1736339400-1736343000@scuolaedilecremona.it
SUMMARY:Area scientifica - scienze
DESCRIPTION:Docente: TAINO CATERINA
URL:https://scuolaedilecremona.it/event/area-scientifica-scienze-2/
CATEGORIES:ANNO 3 OPERATORE EDILE - TERZO ANNO 2024/2025
END:VEVENT
END:VCALENDAR