BEGIN:VCALENDAR
VERSION:2.0
PRODID:-//Ente Scuola Edile Cremona - C.P.T. - ECPv6.15.18//NONSGML v1.0//EN
CALSCALE:GREGORIAN
METHOD:PUBLISH
X-WR-CALNAME:Ente Scuola Edile Cremona - C.P.T.
X-ORIGINAL-URL:https://scuolaedilecremona.it
X-WR-CALDESC:Eventi per Ente Scuola Edile Cremona - C.P.T.
REFRESH-INTERVAL;VALUE=DURATION:PT1H
X-Robots-Tag:noindex
X-PUBLISHED-TTL:PT1H
BEGIN:VTIMEZONE
TZID:UTC
BEGIN:STANDARD
TZOFFSETFROM:+0000
TZOFFSETTO:+0000
TZNAME:UTC
DTSTART:20250101T000000
END:STANDARD
END:VTIMEZONE
BEGIN:VEVENT
DTSTART;TZID=UTC:20260209T080000
DTEND;TZID=UTC:20260209T160000
DTSTAMP:20260420T054050
CREATED:20250923T043429Z
LAST-MODIFIED:20250923T043429Z
UID:169326-1770624000-1770652800@scuolaedilecremona.it
SUMMARY:STAGE
DESCRIPTION:
URL:https://scuolaedilecremona.it/event/stage-187/
CATEGORIES:ANNO 2 OPERATORE EDILE - SECONDO ANNO 2025/2026
END:VEVENT
BEGIN:VEVENT
DTSTART;TZID=UTC:20260210T080000
DTEND;TZID=UTC:20260210T160000
DTSTAMP:20260420T054050
CREATED:20250923T043429Z
LAST-MODIFIED:20250923T043429Z
UID:169327-1770710400-1770739200@scuolaedilecremona.it
SUMMARY:STAGE
DESCRIPTION:
URL:https://scuolaedilecremona.it/event/stage-188/
CATEGORIES:ANNO 2 OPERATORE EDILE - SECONDO ANNO 2025/2026
END:VEVENT
BEGIN:VEVENT
DTSTART;TZID=UTC:20260211T080000
DTEND;TZID=UTC:20260211T160000
DTSTAMP:20260420T054050
CREATED:20250923T043429Z
LAST-MODIFIED:20250923T043429Z
UID:169328-1770796800-1770825600@scuolaedilecremona.it
SUMMARY:STAGE
DESCRIPTION:
URL:https://scuolaedilecremona.it/event/stage-189/
CATEGORIES:ANNO 2 OPERATORE EDILE - SECONDO ANNO 2025/2026
END:VEVENT
BEGIN:VEVENT
DTSTART;TZID=UTC:20260212T080000
DTEND;TZID=UTC:20260212T160000
DTSTAMP:20260420T054050
CREATED:20250923T043430Z
LAST-MODIFIED:20250923T043430Z
UID:169329-1770883200-1770912000@scuolaedilecremona.it
SUMMARY:STAGE
DESCRIPTION:
URL:https://scuolaedilecremona.it/event/stage-190/
CATEGORIES:ANNO 2 OPERATORE EDILE - SECONDO ANNO 2025/2026
END:VEVENT
BEGIN:VEVENT
DTSTART;TZID=UTC:20260213T080000
DTEND;TZID=UTC:20260213T160000
DTSTAMP:20260420T054050
CREATED:20250923T043430Z
LAST-MODIFIED:20250923T043430Z
UID:169330-1770969600-1770998400@scuolaedilecremona.it
SUMMARY:STAGE
DESCRIPTION:
URL:https://scuolaedilecremona.it/event/stage-191/
CATEGORIES:ANNO 2 OPERATORE EDILE - SECONDO ANNO 2025/2026
END:VEVENT
BEGIN:VEVENT
DTSTART;TZID=UTC:20260218T080000
DTEND;TZID=UTC:20260218T160000
DTSTAMP:20260420T054050
CREATED:20250923T043431Z
LAST-MODIFIED:20250923T043431Z
UID:169331-1771401600-1771430400@scuolaedilecremona.it
SUMMARY:STAGE
DESCRIPTION:
URL:https://scuolaedilecremona.it/event/stage-192/
CATEGORIES:ANNO 2 OPERATORE EDILE - SECONDO ANNO 2025/2026
END:VEVENT
BEGIN:VEVENT
DTSTART;TZID=UTC:20260219T080000
DTEND;TZID=UTC:20260219T160000
DTSTAMP:20260420T054050
CREATED:20250923T043431Z
LAST-MODIFIED:20250923T043431Z
UID:169332-1771488000-1771516800@scuolaedilecremona.it
SUMMARY:STAGE
DESCRIPTION:
URL:https://scuolaedilecremona.it/event/stage-193/
CATEGORIES:ANNO 2 OPERATORE EDILE - SECONDO ANNO 2025/2026
END:VEVENT
BEGIN:VEVENT
DTSTART;TZID=UTC:20260220T080000
DTEND;TZID=UTC:20260220T160000
DTSTAMP:20260420T054050
CREATED:20250923T043432Z
LAST-MODIFIED:20250923T043432Z
UID:169333-1771574400-1771603200@scuolaedilecremona.it
SUMMARY:STAGE
DESCRIPTION:
URL:https://scuolaedilecremona.it/event/stage-194/
CATEGORIES:ANNO 2 OPERATORE EDILE - SECONDO ANNO 2025/2026
END:VEVENT
BEGIN:VEVENT
DTSTART;TZID=UTC:20260223T080000
DTEND;TZID=UTC:20260223T160000
DTSTAMP:20260420T054050
CREATED:20250923T043432Z
LAST-MODIFIED:20250923T043432Z
UID:169334-1771833600-1771862400@scuolaedilecremona.it
SUMMARY:STAGE
DESCRIPTION:
URL:https://scuolaedilecremona.it/event/stage-195/
CATEGORIES:ANNO 2 OPERATORE EDILE - SECONDO ANNO 2025/2026
END:VEVENT
BEGIN:VEVENT
DTSTART;TZID=UTC:20260224T080000
DTEND;TZID=UTC:20260224T160000
DTSTAMP:20260420T054050
CREATED:20250923T043432Z
LAST-MODIFIED:20250923T043432Z
UID:169335-1771920000-1771948800@scuolaedilecremona.it
SUMMARY:STAGE
DESCRIPTION:
URL:https://scuolaedilecremona.it/event/stage-196/
CATEGORIES:ANNO 2 OPERATORE EDILE - SECONDO ANNO 2025/2026
END:VEVENT
BEGIN:VEVENT
DTSTART;TZID=UTC:20260225T080000
DTEND;TZID=UTC:20260225T160000
DTSTAMP:20260420T054050
CREATED:20250923T043433Z
LAST-MODIFIED:20250923T043433Z
UID:169336-1772006400-1772035200@scuolaedilecremona.it
SUMMARY:STAGE
DESCRIPTION:
URL:https://scuolaedilecremona.it/event/stage-197/
CATEGORIES:ANNO 2 OPERATORE EDILE - SECONDO ANNO 2025/2026
END:VEVENT
BEGIN:VEVENT
DTSTART;TZID=UTC:20260226T080000
DTEND;TZID=UTC:20260226T160000
DTSTAMP:20260420T054050
CREATED:20250923T043433Z
LAST-MODIFIED:20250923T043433Z
UID:169337-1772092800-1772121600@scuolaedilecremona.it
SUMMARY:STAGE
DESCRIPTION:
URL:https://scuolaedilecremona.it/event/stage-198/
CATEGORIES:ANNO 2 OPERATORE EDILE - SECONDO ANNO 2025/2026
END:VEVENT
BEGIN:VEVENT
DTSTART;TZID=UTC:20260227T080000
DTEND;TZID=UTC:20260227T160000
DTSTAMP:20260420T054050
CREATED:20250923T043434Z
LAST-MODIFIED:20250923T043434Z
UID:169338-1772179200-1772208000@scuolaedilecremona.it
SUMMARY:STAGE
DESCRIPTION:
URL:https://scuolaedilecremona.it/event/stage-199/
CATEGORIES:ANNO 2 OPERATORE EDILE - SECONDO ANNO 2025/2026
END:VEVENT
BEGIN:VEVENT
DTSTART;TZID=UTC:20260302T080000
DTEND;TZID=UTC:20260302T160000
DTSTAMP:20260420T054050
CREATED:20250923T043434Z
LAST-MODIFIED:20250923T043434Z
UID:169339-1772438400-1772467200@scuolaedilecremona.it
SUMMARY:STAGE
DESCRIPTION:
URL:https://scuolaedilecremona.it/event/stage-200/
CATEGORIES:ANNO 2 OPERATORE EDILE - SECONDO ANNO 2025/2026
END:VEVENT
BEGIN:VEVENT
DTSTART;TZID=UTC:20260303T080000
DTEND;TZID=UTC:20260303T160000
DTSTAMP:20260420T054050
CREATED:20250923T043434Z
LAST-MODIFIED:20250923T043434Z
UID:169340-1772524800-1772553600@scuolaedilecremona.it
SUMMARY:STAGE
DESCRIPTION:
URL:https://scuolaedilecremona.it/event/stage-201/
CATEGORIES:ANNO 2 OPERATORE EDILE - SECONDO ANNO 2025/2026
END:VEVENT
BEGIN:VEVENT
DTSTART;TZID=UTC:20260304T080000
DTEND;TZID=UTC:20260304T160000
DTSTAMP:20260420T054050
CREATED:20250923T043435Z
LAST-MODIFIED:20250923T043435Z
UID:169341-1772611200-1772640000@scuolaedilecremona.it
SUMMARY:STAGE
DESCRIPTION:
URL:https://scuolaedilecremona.it/event/stage-202/
CATEGORIES:ANNO 2 OPERATORE EDILE - SECONDO ANNO 2025/2026
END:VEVENT
BEGIN:VEVENT
DTSTART;TZID=UTC:20260305T080000
DTEND;TZID=UTC:20260305T160000
DTSTAMP:20260420T054050
CREATED:20250923T043435Z
LAST-MODIFIED:20250923T043435Z
UID:169342-1772697600-1772726400@scuolaedilecremona.it
SUMMARY:STAGE
DESCRIPTION:
URL:https://scuolaedilecremona.it/event/stage-203/
CATEGORIES:ANNO 2 OPERATORE EDILE - SECONDO ANNO 2025/2026
END:VEVENT
BEGIN:VEVENT
DTSTART;TZID=UTC:20260306T080000
DTEND;TZID=UTC:20260306T160000
DTSTAMP:20260420T054050
CREATED:20250923T043436Z
LAST-MODIFIED:20250923T043436Z
UID:169343-1772784000-1772812800@scuolaedilecremona.it
SUMMARY:STAGE
DESCRIPTION:
URL:https://scuolaedilecremona.it/event/stage-204/
CATEGORIES:ANNO 2 OPERATORE EDILE - SECONDO ANNO 2025/2026
END:VEVENT
BEGIN:VEVENT
DTSTART;TZID=UTC:20260309T080000
DTEND;TZID=UTC:20260309T160000
DTSTAMP:20260420T054050
CREATED:20250923T043436Z
LAST-MODIFIED:20250923T043436Z
UID:169344-1773043200-1773072000@scuolaedilecremona.it
SUMMARY:STAGE
DESCRIPTION:
URL:https://scuolaedilecremona.it/event/stage-205/
CATEGORIES:ANNO 2 OPERATORE EDILE - SECONDO ANNO 2025/2026
END:VEVENT
BEGIN:VEVENT
DTSTART;TZID=UTC:20260310T080000
DTEND;TZID=UTC:20260310T160000
DTSTAMP:20260420T054050
CREATED:20250923T043436Z
LAST-MODIFIED:20250923T043436Z
UID:169345-1773129600-1773158400@scuolaedilecremona.it
SUMMARY:STAGE
DESCRIPTION:
URL:https://scuolaedilecremona.it/event/stage-206/
CATEGORIES:ANNO 2 OPERATORE EDILE - SECONDO ANNO 2025/2026
END:VEVENT
BEGIN:VEVENT
DTSTART;TZID=UTC:20260311T080000
DTEND;TZID=UTC:20260311T160000
DTSTAMP:20260420T054050
CREATED:20250923T043437Z
LAST-MODIFIED:20250923T043437Z
UID:169346-1773216000-1773244800@scuolaedilecremona.it
SUMMARY:STAGE
DESCRIPTION:
URL:https://scuolaedilecremona.it/event/stage-207/
CATEGORIES:ANNO 2 OPERATORE EDILE - SECONDO ANNO 2025/2026
END:VEVENT
BEGIN:VEVENT
DTSTART;TZID=UTC:20260312T080000
DTEND;TZID=UTC:20260312T160000
DTSTAMP:20260420T054050
CREATED:20250923T043437Z
LAST-MODIFIED:20250923T043437Z
UID:169347-1773302400-1773331200@scuolaedilecremona.it
SUMMARY:STAGE
DESCRIPTION:
URL:https://scuolaedilecremona.it/event/stage-208/
CATEGORIES:ANNO 2 OPERATORE EDILE - SECONDO ANNO 2025/2026
END:VEVENT
BEGIN:VEVENT
DTSTART;TZID=UTC:20260313T080000
DTEND;TZID=UTC:20260313T160000
DTSTAMP:20260420T054050
CREATED:20250923T043438Z
LAST-MODIFIED:20250923T043438Z
UID:169348-1773388800-1773417600@scuolaedilecremona.it
SUMMARY:STAGE
DESCRIPTION:
URL:https://scuolaedilecremona.it/event/stage-209/
CATEGORIES:ANNO 2 OPERATORE EDILE - SECONDO ANNO 2025/2026
END:VEVENT
BEGIN:VEVENT
DTSTART;TZID=UTC:20260316T080000
DTEND;TZID=UTC:20260316T160000
DTSTAMP:20260420T054050
CREATED:20250923T043438Z
LAST-MODIFIED:20250923T043438Z
UID:169349-1773648000-1773676800@scuolaedilecremona.it
SUMMARY:STAGE
DESCRIPTION:
URL:https://scuolaedilecremona.it/event/stage-210/
CATEGORIES:ANNO 2 OPERATORE EDILE - SECONDO ANNO 2025/2026
END:VEVENT
BEGIN:VEVENT
DTSTART;TZID=UTC:20260317T080000
DTEND;TZID=UTC:20260317T160000
DTSTAMP:20260420T054050
CREATED:20250923T043438Z
LAST-MODIFIED:20250923T043438Z
UID:169350-1773734400-1773763200@scuolaedilecremona.it
SUMMARY:STAGE
DESCRIPTION:
URL:https://scuolaedilecremona.it/event/stage-211/
CATEGORIES:ANNO 2 OPERATORE EDILE - SECONDO ANNO 2025/2026
END:VEVENT
BEGIN:VEVENT
DTSTART;TZID=UTC:20260318T080000
DTEND;TZID=UTC:20260318T160000
DTSTAMP:20260420T054050
CREATED:20250923T043439Z
LAST-MODIFIED:20250923T043439Z
UID:169351-1773820800-1773849600@scuolaedilecremona.it
SUMMARY:STAGE
DESCRIPTION:
URL:https://scuolaedilecremona.it/event/stage-212/
CATEGORIES:ANNO 2 OPERATORE EDILE - SECONDO ANNO 2025/2026
END:VEVENT
BEGIN:VEVENT
DTSTART;TZID=UTC:20260319T080000
DTEND;TZID=UTC:20260319T160000
DTSTAMP:20260420T054050
CREATED:20250923T043439Z
LAST-MODIFIED:20250923T043439Z
UID:169352-1773907200-1773936000@scuolaedilecremona.it
SUMMARY:STAGE
DESCRIPTION:
URL:https://scuolaedilecremona.it/event/stage-213/
CATEGORIES:ANNO 2 OPERATORE EDILE - SECONDO ANNO 2025/2026
END:VEVENT
BEGIN:VEVENT
DTSTART;TZID=UTC:20260320T080000
DTEND;TZID=UTC:20260320T160000
DTSTAMP:20260420T054050
CREATED:20250923T043439Z
LAST-MODIFIED:20250923T043439Z
UID:169353-1773993600-1774022400@scuolaedilecremona.it
SUMMARY:STAGE
DESCRIPTION:
URL:https://scuolaedilecremona.it/event/stage-214/
CATEGORIES:ANNO 2 OPERATORE EDILE - SECONDO ANNO 2025/2026
END:VEVENT
BEGIN:VEVENT
DTSTART;TZID=UTC:20260323T080000
DTEND;TZID=UTC:20260323T160000
DTSTAMP:20260420T054050
CREATED:20250923T043440Z
LAST-MODIFIED:20250923T043440Z
UID:169354-1774252800-1774281600@scuolaedilecremona.it
SUMMARY:STAGE
DESCRIPTION:
URL:https://scuolaedilecremona.it/event/stage-215/
CATEGORIES:ANNO 2 OPERATORE EDILE - SECONDO ANNO 2025/2026
END:VEVENT
BEGIN:VEVENT
DTSTART;TZID=UTC:20260324T080000
DTEND;TZID=UTC:20260324T160000
DTSTAMP:20260420T054050
CREATED:20250923T043440Z
LAST-MODIFIED:20250923T043440Z
UID:169355-1774339200-1774368000@scuolaedilecremona.it
SUMMARY:STAGE
DESCRIPTION:
URL:https://scuolaedilecremona.it/event/stage-216/
CATEGORIES:ANNO 2 OPERATORE EDILE - SECONDO ANNO 2025/2026
END:VEVENT
END:VCALENDAR