BEGIN:VCALENDAR
VERSION:2.0
PRODID:-//Ente Scuola Edile Cremona - C.P.T. - ECPv6.15.18//NONSGML v1.0//EN
CALSCALE:GREGORIAN
METHOD:PUBLISH
X-ORIGINAL-URL:https://scuolaedilecremona.it
X-WR-CALDESC:Eventi per Ente Scuola Edile Cremona - C.P.T.
REFRESH-INTERVAL;VALUE=DURATION:PT1H
X-Robots-Tag:noindex
X-PUBLISHED-TTL:PT1H
BEGIN:VTIMEZONE
TZID:UTC
BEGIN:STANDARD
TZOFFSETFROM:+0000
TZOFFSETTO:+0000
TZNAME:UTC
DTSTART:20250101T000000
END:STANDARD
END:VTIMEZONE
BEGIN:VEVENT
DTSTART;TZID=UTC:20260109T123000
DTEND;TZID=UTC:20260109T143000
DTSTAMP:20260419T224731
CREATED:20250923T043410Z
LAST-MODIFIED:20250923T043410Z
UID:169281-1767961800-1767969000@scuolaedilecremona.it
SUMMARY:AREA DEI LINGUAGGI - LINGUA ITALIANA
DESCRIPTION:Docente: UCCIARDO  CARMELO
URL:https://scuolaedilecremona.it/event/area-dei-linguaggi-lingua-italiana-222/
CATEGORIES:ANNO 2 OPERATORE EDILE - SECONDO ANNO 2025/2026
END:VEVENT
BEGIN:VEVENT
DTSTART;TZID=UTC:20260112T081500
DTEND;TZID=UTC:20260112T101500
DTSTAMP:20260419T224731
CREATED:20250923T043411Z
LAST-MODIFIED:20250923T043411Z
UID:169282-1768205700-1768212900@scuolaedilecremona.it
SUMMARY:AREA DEI LINGUAGGI - LINGUA INGLESE
DESCRIPTION:Docente: VIRGILIO LAURA LETIZIA
URL:https://scuolaedilecremona.it/event/area-dei-linguaggi-lingua-inglese-92/
CATEGORIES:ANNO 2 OPERATORE EDILE - SECONDO ANNO 2025/2026
END:VEVENT
BEGIN:VEVENT
DTSTART;TZID=UTC:20260112T101500
DTEND;TZID=UTC:20260112T123000
DTSTAMP:20260419T224731
CREATED:20250923T043411Z
LAST-MODIFIED:20250923T043411Z
UID:169283-1768212900-1768221000@scuolaedilecremona.it
SUMMARY:Area tecnologica - informatica
DESCRIPTION:Docente: BILLA CHIARA
URL:https://scuolaedilecremona.it/event/area-tecnologica-informatica-62/
CATEGORIES:ANNO 2 OPERATORE EDILE - SECONDO ANNO 2025/2026
END:VEVENT
BEGIN:VEVENT
DTSTART;TZID=UTC:20260112T123000
DTEND;TZID=UTC:20260112T133000
DTSTAMP:20260419T224731
CREATED:20250923T043411Z
LAST-MODIFIED:20250923T043411Z
UID:169284-1768221000-1768224600@scuolaedilecremona.it
SUMMARY:Area tecnico professionale - Elementi di tecnologia edile
DESCRIPTION:Docente: BELLADELLI LEONARDO
URL:https://scuolaedilecremona.it/event/area-tecnico-professionale-elementi-di-tecnologia-edile-93/
CATEGORIES:ANNO 2 OPERATORE EDILE - SECONDO ANNO 2025/2026
END:VEVENT
BEGIN:VEVENT
DTSTART;TZID=UTC:20260112T133000
DTEND;TZID=UTC:20260112T143000
DTSTAMP:20260419T224731
CREATED:20250923T043412Z
LAST-MODIFIED:20250923T043412Z
UID:169285-1768224600-1768228200@scuolaedilecremona.it
SUMMARY:AREA DEI LINGUAGGI - LINGUA ITALIANA
DESCRIPTION:Docente: UCCIARDO  CARMELO
URL:https://scuolaedilecremona.it/event/area-dei-linguaggi-lingua-italiana-223/
CATEGORIES:ANNO 2 OPERATORE EDILE - SECONDO ANNO 2025/2026
END:VEVENT
BEGIN:VEVENT
DTSTART;TZID=UTC:20260113T081500
DTEND;TZID=UTC:20260113T101500
DTSTAMP:20260419T224731
CREATED:20250923T043412Z
LAST-MODIFIED:20250923T043412Z
UID:169286-1768292100-1768299300@scuolaedilecremona.it
SUMMARY:Area scientifica - scienze
DESCRIPTION:Docente: TAINO CATERINA
URL:https://scuolaedilecremona.it/event/area-scientifica-scienze-61/
CATEGORIES:ANNO 2 OPERATORE EDILE - SECONDO ANNO 2025/2026
END:VEVENT
BEGIN:VEVENT
DTSTART;TZID=UTC:20260113T101500
DTEND;TZID=UTC:20260113T123000
DTSTAMP:20260419T224731
CREATED:20250923T043413Z
LAST-MODIFIED:20250923T043413Z
UID:169287-1768299300-1768307400@scuolaedilecremona.it
SUMMARY:Area tecnico professionale - Elementi di tecnologia edile
DESCRIPTION:Docente: BELLADELLI LEONARDO
URL:https://scuolaedilecremona.it/event/area-tecnico-professionale-elementi-di-tecnologia-edile-94/
CATEGORIES:ANNO 2 OPERATORE EDILE - SECONDO ANNO 2025/2026
END:VEVENT
BEGIN:VEVENT
DTSTART;TZID=UTC:20260113T123000
DTEND;TZID=UTC:20260113T143000
DTSTAMP:20260419T224731
CREATED:20250923T043413Z
LAST-MODIFIED:20250923T043413Z
UID:169288-1768307400-1768314600@scuolaedilecremona.it
SUMMARY:Area scientifica - matematica e geometria
DESCRIPTION:Docente: BETTONI FABIO
URL:https://scuolaedilecremona.it/event/area-scientifica-matematica-e-geometria-163/
CATEGORIES:ANNO 2 OPERATORE EDILE - SECONDO ANNO 2025/2026
END:VEVENT
BEGIN:VEVENT
DTSTART;TZID=UTC:20260114T081500
DTEND;TZID=UTC:20260114T091500
DTSTAMP:20260419T224731
CREATED:20250923T043414Z
LAST-MODIFIED:20250923T043414Z
UID:169289-1768378500-1768382100@scuolaedilecremona.it
SUMMARY:Area storico-socio-economica - Elementi di economia
DESCRIPTION:Docente: ROSSI GIAMPIETRO
URL:https://scuolaedilecremona.it/event/area-storico-socio-economica-elementi-di-economia-58/
CATEGORIES:ANNO 2 OPERATORE EDILE - SECONDO ANNO 2025/2026
END:VEVENT
BEGIN:VEVENT
DTSTART;TZID=UTC:20260114T091500
DTEND;TZID=UTC:20260114T101500
DTSTAMP:20260419T224731
CREATED:20250923T043414Z
LAST-MODIFIED:20250923T043414Z
UID:169290-1768382100-1768385700@scuolaedilecremona.it
SUMMARY:Religione Cattolica (IRC) / Attivita alternativa
DESCRIPTION:Docente: ROSSI GIAMPIETRO
URL:https://scuolaedilecremona.it/event/religione-cattolica-irc-attivita-alternativa-66/
CATEGORIES:ANNO 2 OPERATORE EDILE - SECONDO ANNO 2025/2026
END:VEVENT
BEGIN:VEVENT
DTSTART;TZID=UTC:20260114T101500
DTEND;TZID=UTC:20260114T123000
DTSTAMP:20260419T224731
CREATED:20250923T043414Z
LAST-MODIFIED:20250923T043414Z
UID:169291-1768385700-1768393800@scuolaedilecremona.it
SUMMARY:Area personalizzazione - Orientamento e capacita personali
DESCRIPTION:Docente: BRUSCHI GIADA
URL:https://scuolaedilecremona.it/event/area-personalizzazione-orientamento-e-capacita-personali-63/
CATEGORIES:ANNO 2 OPERATORE EDILE - SECONDO ANNO 2025/2026
END:VEVENT
BEGIN:VEVENT
DTSTART;TZID=UTC:20260114T123000
DTEND;TZID=UTC:20260114T133000
DTSTAMP:20260419T224731
CREATED:20250923T043415Z
LAST-MODIFIED:20250923T043415Z
UID:169292-1768393800-1768397400@scuolaedilecremona.it
SUMMARY:Area storico-socio-economica - Elementi di diritto del lavoro
DESCRIPTION:Docente: BRUSCHI GIADA
URL:https://scuolaedilecremona.it/event/area-storico-socio-economica-elementi-di-diritto-del-lavoro-51/
CATEGORIES:ANNO 2 OPERATORE EDILE - SECONDO ANNO 2025/2026
END:VEVENT
BEGIN:VEVENT
DTSTART;TZID=UTC:20260114T133000
DTEND;TZID=UTC:20260114T143000
DTSTAMP:20260419T224731
CREATED:20250923T043415Z
LAST-MODIFIED:20250923T043415Z
UID:169293-1768397400-1768401000@scuolaedilecremona.it
SUMMARY:AREA DEI LINGUAGGI - LINGUA ITALIANA
DESCRIPTION:Docente: UCCIARDO  CARMELO
URL:https://scuolaedilecremona.it/event/area-dei-linguaggi-lingua-italiana-224/
CATEGORIES:ANNO 2 OPERATORE EDILE - SECONDO ANNO 2025/2026
END:VEVENT
BEGIN:VEVENT
DTSTART;TZID=UTC:20260115T081500
DTEND;TZID=UTC:20260115T143000
DTSTAMP:20260419T224731
CREATED:20250923T043416Z
LAST-MODIFIED:20250923T043416Z
UID:169294-1768464900-1768487400@scuolaedilecremona.it
SUMMARY:Area tecnico professionale - Laboratorio esercitazioni pratiche
DESCRIPTION:Docente: DOSSENA GHERARDO TITO
URL:https://scuolaedilecremona.it/event/area-tecnico-professionale-laboratorio-esercitazioni-pratiche-220/
CATEGORIES:ANNO 2 OPERATORE EDILE - SECONDO ANNO 2025/2026
END:VEVENT
BEGIN:VEVENT
DTSTART;TZID=UTC:20260116T081500
DTEND;TZID=UTC:20260116T101500
DTSTAMP:20260419T224731
CREATED:20250923T043416Z
LAST-MODIFIED:20250923T043416Z
UID:169295-1768551300-1768558500@scuolaedilecremona.it
SUMMARY:Area tecnico professionale - Elementi di contabilita
DESCRIPTION:Docente: SOFFIENTINI ROBERTO
URL:https://scuolaedilecremona.it/event/area-tecnico-professionale-elementi-di-contabilita-62/
CATEGORIES:ANNO 2 OPERATORE EDILE - SECONDO ANNO 2025/2026
END:VEVENT
BEGIN:VEVENT
DTSTART;TZID=UTC:20260116T101500
DTEND;TZID=UTC:20260116T111500
DTSTAMP:20260419T224731
CREATED:20250923T043417Z
LAST-MODIFIED:20250923T043417Z
UID:169296-1768558500-1768562100@scuolaedilecremona.it
SUMMARY:Area storico-socio-economica - Elementi di economia
DESCRIPTION:Docente: ROSSI GIAMPIETRO
URL:https://scuolaedilecremona.it/event/area-storico-socio-economica-elementi-di-economia-59/
CATEGORIES:ANNO 2 OPERATORE EDILE - SECONDO ANNO 2025/2026
END:VEVENT
BEGIN:VEVENT
DTSTART;TZID=UTC:20260116T113000
DTEND;TZID=UTC:20260116T123000
DTSTAMP:20260419T224731
CREATED:20250923T043417Z
LAST-MODIFIED:20250923T043417Z
UID:169297-1768563000-1768566600@scuolaedilecremona.it
SUMMARY:Religione Cattolica (IRC) / Attivita alternativa
DESCRIPTION:Docente: ROSSI GIAMPIETRO
URL:https://scuolaedilecremona.it/event/religione-cattolica-irc-attivita-alternativa-67/
CATEGORIES:ANNO 2 OPERATORE EDILE - SECONDO ANNO 2025/2026
END:VEVENT
BEGIN:VEVENT
DTSTART;TZID=UTC:20260116T123000
DTEND;TZID=UTC:20260116T143000
DTSTAMP:20260419T224731
CREATED:20250923T043417Z
LAST-MODIFIED:20250923T043417Z
UID:169298-1768566600-1768573800@scuolaedilecremona.it
SUMMARY:AREA DEI LINGUAGGI - LINGUA ITALIANA
DESCRIPTION:Docente: UCCIARDO  CARMELO
URL:https://scuolaedilecremona.it/event/area-dei-linguaggi-lingua-italiana-225/
CATEGORIES:ANNO 2 OPERATORE EDILE - SECONDO ANNO 2025/2026
END:VEVENT
BEGIN:VEVENT
DTSTART;TZID=UTC:20260119T081500
DTEND;TZID=UTC:20260119T111500
DTSTAMP:20260419T224731
CREATED:20260417T043004Z
LAST-MODIFIED:20260417T043004Z
UID:170524-1768810500-1768821300@scuolaedilecremona.it
SUMMARY:Area tecnico professionale - Laboratorio esercitazioni pratiche
DESCRIPTION:Docente: MULATTIERI ANDREA\, PEGOIANI  MATTEO
URL:https://scuolaedilecremona.it/event/area-tecnico-professionale-laboratorio-esercitazioni-pratiche-196/
CATEGORIES:ANNO 2 OPERATORE EDILE - SECONDO ANNO 2025/2026
END:VEVENT
BEGIN:VEVENT
DTSTART;TZID=UTC:20260119T113000
DTEND;TZID=UTC:20260119T143000
DTSTAMP:20260419T224731
CREATED:20260417T043006Z
LAST-MODIFIED:20260417T043006Z
UID:170525-1768822200-1768833000@scuolaedilecremona.it
SUMMARY:Area tecnico professionale - Laboratorio esercitazioni pratiche
DESCRIPTION:Docente: PEGOIANI  MATTEO\, MULATTIERI ANDREA
URL:https://scuolaedilecremona.it/event/area-tecnico-professionale-laboratorio-esercitazioni-pratiche-200/
CATEGORIES:ANNO 2 OPERATORE EDILE - SECONDO ANNO 2025/2026
END:VEVENT
BEGIN:VEVENT
DTSTART;TZID=UTC:20260120T081500
DTEND;TZID=UTC:20260120T111500
DTSTAMP:20260419T224731
CREATED:20260417T043006Z
LAST-MODIFIED:20260417T043006Z
UID:170526-1768896900-1768907700@scuolaedilecremona.it
SUMMARY:Area tecnico professionale - Laboratorio esercitazioni pratiche
DESCRIPTION:Docente: MULATTIERI ANDREA\, PEGOIANI  MATTEO
URL:https://scuolaedilecremona.it/event/area-tecnico-professionale-laboratorio-esercitazioni-pratiche-221/
CATEGORIES:ANNO 2 OPERATORE EDILE - SECONDO ANNO 2025/2026
END:VEVENT
BEGIN:VEVENT
DTSTART;TZID=UTC:20260120T113000
DTEND;TZID=UTC:20260120T143000
DTSTAMP:20260419T224731
CREATED:20260417T043006Z
LAST-MODIFIED:20260417T043006Z
UID:170527-1768908600-1768919400@scuolaedilecremona.it
SUMMARY:Area tecnico professionale - Laboratorio esercitazioni pratiche
DESCRIPTION:Docente: PEGOIANI  MATTEO\, MULATTIERI ANDREA
URL:https://scuolaedilecremona.it/event/area-tecnico-professionale-laboratorio-esercitazioni-pratiche-222/
CATEGORIES:ANNO 2 OPERATORE EDILE - SECONDO ANNO 2025/2026
END:VEVENT
BEGIN:VEVENT
DTSTART;TZID=UTC:20260121T081500
DTEND;TZID=UTC:20260121T111500
DTSTAMP:20260419T224731
CREATED:20260417T043007Z
LAST-MODIFIED:20260417T043007Z
UID:170528-1768983300-1768994100@scuolaedilecremona.it
SUMMARY:Area tecnico professionale - Laboratorio esercitazioni pratiche
DESCRIPTION:Docente: MULATTIERI ANDREA\, PEGOIANI  MATTEO
URL:https://scuolaedilecremona.it/event/area-tecnico-professionale-laboratorio-esercitazioni-pratiche-223/
CATEGORIES:ANNO 2 OPERATORE EDILE - SECONDO ANNO 2025/2026
END:VEVENT
BEGIN:VEVENT
DTSTART;TZID=UTC:20260121T113000
DTEND;TZID=UTC:20260121T143000
DTSTAMP:20260419T224731
CREATED:20260417T043007Z
LAST-MODIFIED:20260417T043007Z
UID:170529-1768995000-1769005800@scuolaedilecremona.it
SUMMARY:Area tecnico professionale - Laboratorio esercitazioni pratiche
DESCRIPTION:Docente: PEGOIANI  MATTEO\, MULATTIERI ANDREA
URL:https://scuolaedilecremona.it/event/area-tecnico-professionale-laboratorio-esercitazioni-pratiche-249/
CATEGORIES:ANNO 2 OPERATORE EDILE - SECONDO ANNO 2025/2026
END:VEVENT
BEGIN:VEVENT
DTSTART;TZID=UTC:20260122T081500
DTEND;TZID=UTC:20260122T111500
DTSTAMP:20260419T224731
CREATED:20260417T043007Z
LAST-MODIFIED:20260417T043007Z
UID:170530-1769069700-1769080500@scuolaedilecremona.it
SUMMARY:Area tecnico professionale - Laboratorio esercitazioni pratiche
DESCRIPTION:Docente: MULATTIERI ANDREA\, PEGOIANI  MATTEO
URL:https://scuolaedilecremona.it/event/area-tecnico-professionale-laboratorio-esercitazioni-pratiche-224/
CATEGORIES:ANNO 2 OPERATORE EDILE - SECONDO ANNO 2025/2026
END:VEVENT
BEGIN:VEVENT
DTSTART;TZID=UTC:20260122T113000
DTEND;TZID=UTC:20260122T143000
DTSTAMP:20260419T224731
CREATED:20260417T043008Z
LAST-MODIFIED:20260417T043008Z
UID:170531-1769081400-1769092200@scuolaedilecremona.it
SUMMARY:Area tecnico professionale - Laboratorio esercitazioni pratiche
DESCRIPTION:Docente: PEGOIANI  MATTEO\, MULATTIERI ANDREA
URL:https://scuolaedilecremona.it/event/area-tecnico-professionale-laboratorio-esercitazioni-pratiche-251/
CATEGORIES:ANNO 2 OPERATORE EDILE - SECONDO ANNO 2025/2026
END:VEVENT
BEGIN:VEVENT
DTSTART;TZID=UTC:20260123T081500
DTEND;TZID=UTC:20260123T111500
DTSTAMP:20260419T224731
CREATED:20260417T043008Z
LAST-MODIFIED:20260417T043008Z
UID:170532-1769156100-1769166900@scuolaedilecremona.it
SUMMARY:Area tecnico professionale - Laboratorio esercitazioni pratiche
DESCRIPTION:Docente: PEGOIANI  MATTEO\, MULATTIERI ANDREA
URL:https://scuolaedilecremona.it/event/area-tecnico-professionale-laboratorio-esercitazioni-pratiche-225/
CATEGORIES:ANNO 2 OPERATORE EDILE - SECONDO ANNO 2025/2026
END:VEVENT
BEGIN:VEVENT
DTSTART;TZID=UTC:20260123T113000
DTEND;TZID=UTC:20260123T143000
DTSTAMP:20260419T224731
CREATED:20260417T043008Z
LAST-MODIFIED:20260417T043008Z
UID:170533-1769167800-1769178600@scuolaedilecremona.it
SUMMARY:Area tecnico professionale - Laboratorio esercitazioni pratiche
DESCRIPTION:Docente: MULATTIERI ANDREA\, PEGOIANI  MATTEO
URL:https://scuolaedilecremona.it/event/area-tecnico-professionale-laboratorio-esercitazioni-pratiche-252/
CATEGORIES:ANNO 2 OPERATORE EDILE - SECONDO ANNO 2025/2026
END:VEVENT
BEGIN:VEVENT
DTSTART;TZID=UTC:20260126T081500
DTEND;TZID=UTC:20260126T101500
DTSTAMP:20260419T224731
CREATED:20250923T043420Z
LAST-MODIFIED:20250923T043420Z
UID:169304-1769415300-1769422500@scuolaedilecremona.it
SUMMARY:AREA DEI LINGUAGGI - LINGUA INGLESE
DESCRIPTION:Docente: VIRGILIO LAURA LETIZIA
URL:https://scuolaedilecremona.it/event/area-dei-linguaggi-lingua-inglese-93/
CATEGORIES:ANNO 2 OPERATORE EDILE - SECONDO ANNO 2025/2026
END:VEVENT
BEGIN:VEVENT
DTSTART;TZID=UTC:20260126T101500
DTEND;TZID=UTC:20260126T133000
DTSTAMP:20260419T224731
CREATED:20260113T043050Z
LAST-MODIFIED:20260113T043050Z
UID:170180-1769422500-1769434200@scuolaedilecremona.it
SUMMARY:Area scientifica - scienze
DESCRIPTION:Docente: TAINO CATERINA
URL:https://scuolaedilecremona.it/event/area-scientifica-scienze-41/
CATEGORIES:ANNO 2 OPERATORE EDILE - SECONDO ANNO 2025/2026
END:VEVENT
END:VCALENDAR