BEGIN:VCALENDAR
VERSION:2.0
PRODID:-//Ente Scuola Edile Cremona - C.P.T. - ECPv6.15.18//NONSGML v1.0//EN
CALSCALE:GREGORIAN
METHOD:PUBLISH
X-ORIGINAL-URL:https://scuolaedilecremona.it
X-WR-CALDESC:Eventi per Ente Scuola Edile Cremona - C.P.T.
REFRESH-INTERVAL;VALUE=DURATION:PT1H
X-Robots-Tag:noindex
X-PUBLISHED-TTL:PT1H
BEGIN:VTIMEZONE
TZID:UTC
BEGIN:STANDARD
TZOFFSETFROM:+0000
TZOFFSETTO:+0000
TZNAME:UTC
DTSTART:20240101T000000
END:STANDARD
END:VTIMEZONE
BEGIN:VEVENT
DTSTART;TZID=UTC:20251128T081500
DTEND;TZID=UTC:20251128T101500
DTSTAMP:20260419T174954
CREATED:20250923T043350Z
LAST-MODIFIED:20250923T043350Z
UID:169231-1764317700-1764324900@scuolaedilecremona.it
SUMMARY:Area tecnico professionale - Elementi di contabilita
DESCRIPTION:Docente: SOFFIENTINI ROBERTO
URL:https://scuolaedilecremona.it/event/area-tecnico-professionale-elementi-di-contabilita-58/
CATEGORIES:ANNO 2 OPERATORE EDILE - SECONDO ANNO 2025/2026
END:VEVENT
BEGIN:VEVENT
DTSTART;TZID=UTC:20251128T101500
DTEND;TZID=UTC:20251128T111500
DTSTAMP:20260419T174954
CREATED:20250923T043351Z
LAST-MODIFIED:20250923T043351Z
UID:169232-1764324900-1764328500@scuolaedilecremona.it
SUMMARY:Area storico-socio-economica - Elementi di economia
DESCRIPTION:Docente: ROSSI GIAMPIETRO
URL:https://scuolaedilecremona.it/event/area-storico-socio-economica-elementi-di-economia-54/
CATEGORIES:ANNO 2 OPERATORE EDILE - SECONDO ANNO 2025/2026
END:VEVENT
BEGIN:VEVENT
DTSTART;TZID=UTC:20251128T113000
DTEND;TZID=UTC:20251128T123000
DTSTAMP:20260419T174954
CREATED:20250923T043351Z
LAST-MODIFIED:20250923T043351Z
UID:169233-1764329400-1764333000@scuolaedilecremona.it
SUMMARY:Religione Cattolica (IRC) / Attivita alternativa
DESCRIPTION:Docente: ROSSI GIAMPIETRO
URL:https://scuolaedilecremona.it/event/religione-cattolica-irc-attivita-alternativa-60/
CATEGORIES:ANNO 2 OPERATORE EDILE - SECONDO ANNO 2025/2026
END:VEVENT
BEGIN:VEVENT
DTSTART;TZID=UTC:20251128T123000
DTEND;TZID=UTC:20251128T133000
DTSTAMP:20260419T174954
CREATED:20251112T043218Z
LAST-MODIFIED:20251112T043218Z
UID:170106-1764333000-1764336600@scuolaedilecremona.it
SUMMARY:Area storico-socio-economica - Geografia
DESCRIPTION:Docente: ROSSI GIAMPIETRO
URL:https://scuolaedilecremona.it/event/area-storico-socio-economica-geografia-62/
CATEGORIES:ANNO 2 OPERATORE EDILE - SECONDO ANNO 2025/2026
END:VEVENT
BEGIN:VEVENT
DTSTART;TZID=UTC:20251128T133000
DTEND;TZID=UTC:20251128T143000
DTSTAMP:20260419T174954
CREATED:20251112T043219Z
LAST-MODIFIED:20251112T043219Z
UID:170107-1764336600-1764340200@scuolaedilecremona.it
SUMMARY:AREA DEI LINGUAGGI - LINGUA ITALIANA
DESCRIPTION:Docente: UCCIARDO  CARMELO
URL:https://scuolaedilecremona.it/event/area-dei-linguaggi-lingua-italiana-148/
CATEGORIES:ANNO 2 OPERATORE EDILE - SECONDO ANNO 2025/2026
END:VEVENT
BEGIN:VEVENT
DTSTART;TZID=UTC:20251201T081500
DTEND;TZID=UTC:20251201T111500
DTSTAMP:20260419T174954
CREATED:20251202T044236Z
LAST-MODIFIED:20251202T044236Z
UID:170150-1764576900-1764587700@scuolaedilecremona.it
SUMMARY:Area tecnico professionale - Disegno tecnico
DESCRIPTION:Docente: SOFFIENTINI ROBERTO
URL:https://scuolaedilecremona.it/event/area-tecnico-professionale-disegno-tecnico-59/
CATEGORIES:ANNO 2 OPERATORE EDILE - SECONDO ANNO 2025/2026
END:VEVENT
BEGIN:VEVENT
DTSTART;TZID=UTC:20251201T113000
DTEND;TZID=UTC:20251201T143000
DTSTAMP:20260419T174954
CREATED:20251202T044237Z
LAST-MODIFIED:20251202T044237Z
UID:170151-1764588600-1764599400@scuolaedilecremona.it
SUMMARY:Area tecnico professionale - Elementi di tecnologia edile
DESCRIPTION:Docente: PIAZZI STEFANIA
URL:https://scuolaedilecremona.it/event/area-tecnico-professionale-elementi-di-tecnologia-edile-109/
CATEGORIES:ANNO 2 OPERATORE EDILE - SECONDO ANNO 2025/2026
END:VEVENT
BEGIN:VEVENT
DTSTART;TZID=UTC:20251202T081500
DTEND;TZID=UTC:20251202T101500
DTSTAMP:20260419T174954
CREATED:20250923T043353Z
LAST-MODIFIED:20250923T043353Z
UID:169238-1764663300-1764670500@scuolaedilecremona.it
SUMMARY:Area scientifica - scienze
DESCRIPTION:Docente: TAINO CATERINA
URL:https://scuolaedilecremona.it/event/area-scientifica-scienze-58/
CATEGORIES:ANNO 2 OPERATORE EDILE - SECONDO ANNO 2025/2026
END:VEVENT
BEGIN:VEVENT
DTSTART;TZID=UTC:20251202T101500
DTEND;TZID=UTC:20251202T123000
DTSTAMP:20260419T174954
CREATED:20250923T043354Z
LAST-MODIFIED:20250923T043354Z
UID:169239-1764670500-1764678600@scuolaedilecremona.it
SUMMARY:Area tecnico professionale - Elementi di tecnologia edile
DESCRIPTION:Docente: BELLADELLI LEONARDO
URL:https://scuolaedilecremona.it/event/area-tecnico-professionale-elementi-di-tecnologia-edile-90/
CATEGORIES:ANNO 2 OPERATORE EDILE - SECONDO ANNO 2025/2026
END:VEVENT
BEGIN:VEVENT
DTSTART;TZID=UTC:20251202T123000
DTEND;TZID=UTC:20251202T143000
DTSTAMP:20260419T174954
CREATED:20250923T043354Z
LAST-MODIFIED:20250923T043354Z
UID:169240-1764678600-1764685800@scuolaedilecremona.it
SUMMARY:Area scientifica - matematica e geometria
DESCRIPTION:Docente: BETTONI FABIO
URL:https://scuolaedilecremona.it/event/area-scientifica-matematica-e-geometria-157/
CATEGORIES:ANNO 2 OPERATORE EDILE - SECONDO ANNO 2025/2026
END:VEVENT
BEGIN:VEVENT
DTSTART;TZID=UTC:20251203T081500
DTEND;TZID=UTC:20251203T101500
DTSTAMP:20260419T174954
CREATED:20251122T043009Z
LAST-MODIFIED:20251122T043009Z
UID:170126-1764749700-1764756900@scuolaedilecremona.it
SUMMARY:Area personalizzazione - Orientamento e capacita personali
DESCRIPTION:Docente: BRUSCHI GIADA
URL:https://scuolaedilecremona.it/event/area-personalizzazione-orientamento-e-capacita-personali-59/
CATEGORIES:ANNO 2 OPERATORE EDILE - SECONDO ANNO 2025/2026
END:VEVENT
BEGIN:VEVENT
DTSTART;TZID=UTC:20251203T101500
DTEND;TZID=UTC:20251203T123000
DTSTAMP:20260419T174954
CREATED:20251122T043009Z
LAST-MODIFIED:20251122T043009Z
UID:170127-1764756900-1764765000@scuolaedilecremona.it
SUMMARY:Area storico-socio-economica - Elementi di economia
DESCRIPTION:Docente: ROSSI GIAMPIETRO
URL:https://scuolaedilecremona.it/event/area-storico-socio-economica-elementi-di-economia-55/
CATEGORIES:ANNO 2 OPERATORE EDILE - SECONDO ANNO 2025/2026
END:VEVENT
BEGIN:VEVENT
DTSTART;TZID=UTC:20251203T123000
DTEND;TZID=UTC:20251203T143000
DTSTAMP:20260419T174954
CREATED:20251122T043010Z
LAST-MODIFIED:20251122T043010Z
UID:170128-1764765000-1764772200@scuolaedilecremona.it
SUMMARY:Religione Cattolica (IRC) / Attivita alternativa
DESCRIPTION:Docente: ROSSI GIAMPIETRO
URL:https://scuolaedilecremona.it/event/religione-cattolica-irc-attivita-alternativa-61/
CATEGORIES:ANNO 2 OPERATORE EDILE - SECONDO ANNO 2025/2026
END:VEVENT
BEGIN:VEVENT
DTSTART;TZID=UTC:20251204T081500
DTEND;TZID=UTC:20251204T143000
DTSTAMP:20260419T174954
CREATED:20250923T043356Z
LAST-MODIFIED:20250923T043356Z
UID:169245-1764836100-1764858600@scuolaedilecremona.it
SUMMARY:Area tecnico professionale - Laboratorio esercitazioni pratiche
DESCRIPTION:Docente: DOSSENA GHERARDO TITO
URL:https://scuolaedilecremona.it/event/area-tecnico-professionale-laboratorio-esercitazioni-pratiche-216/
CATEGORIES:ANNO 2 OPERATORE EDILE - SECONDO ANNO 2025/2026
END:VEVENT
BEGIN:VEVENT
DTSTART;TZID=UTC:20251205T081500
DTEND;TZID=UTC:20251205T101500
DTSTAMP:20260419T174954
CREATED:20250923T043356Z
LAST-MODIFIED:20250923T043356Z
UID:169246-1764922500-1764929700@scuolaedilecremona.it
SUMMARY:Area tecnico professionale - Elementi di sicurezza sul lavoro
DESCRIPTION:Docente: SOFFIENTINI ROBERTO
URL:https://scuolaedilecremona.it/event/area-tecnico-professionale-elementi-di-sicurezza-sul-lavoro-85/
CATEGORIES:ANNO 2 OPERATORE EDILE - SECONDO ANNO 2025/2026
END:VEVENT
BEGIN:VEVENT
DTSTART;TZID=UTC:20251205T101500
DTEND;TZID=UTC:20251205T111500
DTSTAMP:20260419T174954
CREATED:20250923T043357Z
LAST-MODIFIED:20250923T043357Z
UID:169247-1764929700-1764933300@scuolaedilecremona.it
SUMMARY:Area storico-socio-economica - Elementi di economia
DESCRIPTION:Docente: ROSSI GIAMPIETRO
URL:https://scuolaedilecremona.it/event/area-storico-socio-economica-elementi-di-economia-56/
CATEGORIES:ANNO 2 OPERATORE EDILE - SECONDO ANNO 2025/2026
END:VEVENT
BEGIN:VEVENT
DTSTART;TZID=UTC:20251205T113000
DTEND;TZID=UTC:20251205T123000
DTSTAMP:20260419T174954
CREATED:20250923T043357Z
LAST-MODIFIED:20250923T043357Z
UID:169248-1764934200-1764937800@scuolaedilecremona.it
SUMMARY:Religione Cattolica (IRC) / Attivita alternativa
DESCRIPTION:Docente: ROSSI GIAMPIETRO
URL:https://scuolaedilecremona.it/event/religione-cattolica-irc-attivita-alternativa-62/
CATEGORIES:ANNO 2 OPERATORE EDILE - SECONDO ANNO 2025/2026
END:VEVENT
BEGIN:VEVENT
DTSTART;TZID=UTC:20251205T123000
DTEND;TZID=UTC:20251205T143000
DTSTAMP:20260419T174954
CREATED:20250923T043357Z
LAST-MODIFIED:20250923T043357Z
UID:169249-1764937800-1764945000@scuolaedilecremona.it
SUMMARY:AREA DEI LINGUAGGI - LINGUA ITALIANA
DESCRIPTION:Docente: UCCIARDO  CARMELO
URL:https://scuolaedilecremona.it/event/area-dei-linguaggi-lingua-italiana-219/
CATEGORIES:ANNO 2 OPERATORE EDILE - SECONDO ANNO 2025/2026
END:VEVENT
BEGIN:VEVENT
DTSTART;TZID=UTC:20251209T081500
DTEND;TZID=UTC:20251209T101500
DTSTAMP:20260419T174954
CREATED:20251202T044238Z
LAST-MODIFIED:20251202T044238Z
UID:170152-1765268100-1765275300@scuolaedilecremona.it
SUMMARY:AREA DEI LINGUAGGI - LINGUA INGLESE
DESCRIPTION:Docente: VIRGILIO LAURA LETIZIA
URL:https://scuolaedilecremona.it/event/area-dei-linguaggi-lingua-inglese-67/
CATEGORIES:ANNO 2 OPERATORE EDILE - SECONDO ANNO 2025/2026
END:VEVENT
BEGIN:VEVENT
DTSTART;TZID=UTC:20251209T101500
DTEND;TZID=UTC:20251209T123000
DTSTAMP:20260419T174954
CREATED:20250923T043358Z
LAST-MODIFIED:20250923T043358Z
UID:169251-1765275300-1765283400@scuolaedilecremona.it
SUMMARY:Area tecnico professionale - Elementi di tecnologia edile
DESCRIPTION:Docente: BELLADELLI LEONARDO
URL:https://scuolaedilecremona.it/event/area-tecnico-professionale-elementi-di-tecnologia-edile-91/
CATEGORIES:ANNO 2 OPERATORE EDILE - SECONDO ANNO 2025/2026
END:VEVENT
BEGIN:VEVENT
DTSTART;TZID=UTC:20251209T123000
DTEND;TZID=UTC:20251209T143000
DTSTAMP:20260419T174954
CREATED:20250923T043358Z
LAST-MODIFIED:20250923T043358Z
UID:169252-1765283400-1765290600@scuolaedilecremona.it
SUMMARY:Area scientifica - matematica e geometria
DESCRIPTION:Docente: BETTONI FABIO
URL:https://scuolaedilecremona.it/event/area-scientifica-matematica-e-geometria-158/
CATEGORIES:ANNO 2 OPERATORE EDILE - SECONDO ANNO 2025/2026
END:VEVENT
BEGIN:VEVENT
DTSTART;TZID=UTC:20251210T081500
DTEND;TZID=UTC:20251210T091500
DTSTAMP:20260419T174954
CREATED:20250923T043359Z
LAST-MODIFIED:20250923T043359Z
UID:169253-1765354500-1765358100@scuolaedilecremona.it
SUMMARY:Area tecnico professionale - Disegno tecnico
DESCRIPTION:Docente: SOFFIENTINI ROBERTO
URL:https://scuolaedilecremona.it/event/area-tecnico-professionale-disegno-tecnico-79/
CATEGORIES:ANNO 2 OPERATORE EDILE - SECONDO ANNO 2025/2026
END:VEVENT
BEGIN:VEVENT
DTSTART;TZID=UTC:20251210T091500
DTEND;TZID=UTC:20251210T101500
DTSTAMP:20260419T174954
CREATED:20250923T043359Z
LAST-MODIFIED:20250923T043359Z
UID:169254-1765358100-1765361700@scuolaedilecremona.it
SUMMARY:Area tecnico professionale - Elementi di contabilita
DESCRIPTION:Docente: SOFFIENTINI ROBERTO
URL:https://scuolaedilecremona.it/event/area-tecnico-professionale-elementi-di-contabilita-59/
CATEGORIES:ANNO 2 OPERATORE EDILE - SECONDO ANNO 2025/2026
END:VEVENT
BEGIN:VEVENT
DTSTART;TZID=UTC:20251210T101500
DTEND;TZID=UTC:20251210T123000
DTSTAMP:20260419T174954
CREATED:20250923T043400Z
LAST-MODIFIED:20250923T043400Z
UID:169255-1765361700-1765369800@scuolaedilecremona.it
SUMMARY:Area personalizzazione - Orientamento e capacita personali
DESCRIPTION:Docente: BRUSCHI GIADA
URL:https://scuolaedilecremona.it/event/area-personalizzazione-orientamento-e-capacita-personali-60/
CATEGORIES:ANNO 2 OPERATORE EDILE - SECONDO ANNO 2025/2026
END:VEVENT
BEGIN:VEVENT
DTSTART;TZID=UTC:20251210T123000
DTEND;TZID=UTC:20251210T143000
DTSTAMP:20260419T174954
CREATED:20250923T043400Z
LAST-MODIFIED:20250923T043400Z
UID:169256-1765369800-1765377000@scuolaedilecremona.it
SUMMARY:AREA DEI LINGUAGGI - LINGUA ITALIANA
DESCRIPTION:Docente: UCCIARDO  CARMELO
URL:https://scuolaedilecremona.it/event/area-dei-linguaggi-lingua-italiana-220/
CATEGORIES:ANNO 2 OPERATORE EDILE - SECONDO ANNO 2025/2026
END:VEVENT
BEGIN:VEVENT
DTSTART;TZID=UTC:20251211T081500
DTEND;TZID=UTC:20251211T143000
DTSTAMP:20260419T174954
CREATED:20250923T043400Z
LAST-MODIFIED:20250923T043400Z
UID:169257-1765440900-1765463400@scuolaedilecremona.it
SUMMARY:Area tecnico professionale - Laboratorio esercitazioni pratiche
DESCRIPTION:Docente: DOSSENA GHERARDO TITO
URL:https://scuolaedilecremona.it/event/area-tecnico-professionale-laboratorio-esercitazioni-pratiche-217/
CATEGORIES:ANNO 2 OPERATORE EDILE - SECONDO ANNO 2025/2026
END:VEVENT
BEGIN:VEVENT
DTSTART;TZID=UTC:20251212T081500
DTEND;TZID=UTC:20251212T101500
DTSTAMP:20260419T174954
CREATED:20250923T043401Z
LAST-MODIFIED:20250923T043401Z
UID:169258-1765527300-1765534500@scuolaedilecremona.it
SUMMARY:Area tecnico professionale - Elementi di contabilita
DESCRIPTION:Docente: SOFFIENTINI ROBERTO
URL:https://scuolaedilecremona.it/event/area-tecnico-professionale-elementi-di-contabilita-60/
CATEGORIES:ANNO 2 OPERATORE EDILE - SECONDO ANNO 2025/2026
END:VEVENT
BEGIN:VEVENT
DTSTART;TZID=UTC:20251212T101500
DTEND;TZID=UTC:20251212T123000
DTSTAMP:20260419T174954
CREATED:20250923T043401Z
LAST-MODIFIED:20250923T043401Z
UID:169259-1765534500-1765542600@scuolaedilecremona.it
SUMMARY:Religione Cattolica (IRC) / Attivita alternativa
DESCRIPTION:Docente: ROSSI GIAMPIETRO
URL:https://scuolaedilecremona.it/event/religione-cattolica-irc-attivita-alternativa-63/
CATEGORIES:ANNO 2 OPERATORE EDILE - SECONDO ANNO 2025/2026
END:VEVENT
BEGIN:VEVENT
DTSTART;TZID=UTC:20251212T123000
DTEND;TZID=UTC:20251212T143000
DTSTAMP:20260419T174954
CREATED:20250923T043401Z
LAST-MODIFIED:20250923T043401Z
UID:169260-1765542600-1765549800@scuolaedilecremona.it
SUMMARY:Area scientifica - matematica e geometria
DESCRIPTION:Docente: BETTONI FABIO
URL:https://scuolaedilecremona.it/event/area-scientifica-matematica-e-geometria-159/
CATEGORIES:ANNO 2 OPERATORE EDILE - SECONDO ANNO 2025/2026
END:VEVENT
BEGIN:VEVENT
DTSTART;TZID=UTC:20251215T081500
DTEND;TZID=UTC:20251215T123000
DTSTAMP:20260419T174954
CREATED:20251202T044238Z
LAST-MODIFIED:20251202T044238Z
UID:170153-1765786500-1765801800@scuolaedilecremona.it
SUMMARY:AREA DEI LINGUAGGI - LINGUA INGLESE
DESCRIPTION:Docente: VIRGILIO LAURA LETIZIA
URL:https://scuolaedilecremona.it/event/area-dei-linguaggi-lingua-inglese-68/
CATEGORIES:ANNO 2 OPERATORE EDILE - SECONDO ANNO 2025/2026
END:VEVENT
END:VCALENDAR