BEGIN:VCALENDAR
VERSION:2.0
PRODID:-//Ente Scuola Edile Cremona - C.P.T. - ECPv6.15.18//NONSGML v1.0//EN
CALSCALE:GREGORIAN
METHOD:PUBLISH
X-ORIGINAL-URL:https://scuolaedilecremona.it
X-WR-CALDESC:Eventi per Ente Scuola Edile Cremona - C.P.T.
REFRESH-INTERVAL;VALUE=DURATION:PT1H
X-Robots-Tag:noindex
X-PUBLISHED-TTL:PT1H
BEGIN:VTIMEZONE
TZID:UTC
BEGIN:STANDARD
TZOFFSETFROM:+0000
TZOFFSETTO:+0000
TZNAME:UTC
DTSTART:20240101T000000
END:STANDARD
END:VTIMEZONE
BEGIN:VEVENT
DTSTART;TZID=UTC:20251006T113000
DTEND;TZID=UTC:20251006T123000
DTSTAMP:20260420T071451
CREATED:20251007T043420Z
LAST-MODIFIED:20251007T043420Z
UID:170015-1759750200-1759753800@scuolaedilecremona.it
SUMMARY:Area storico-socio-economica - Storia
DESCRIPTION:Docente: ROSSI GIAMPIETRO
URL:https://scuolaedilecremona.it/event/area-storico-socio-economica-storia-82/
CATEGORIES:ANNO 1 OPERATORE EDILE - PRIMO ANNO CREMONA 2025/2026
END:VEVENT
BEGIN:VEVENT
DTSTART;TZID=UTC:20251006T123000
DTEND;TZID=UTC:20251006T143000
DTSTAMP:20260420T071451
CREATED:20250923T043048Z
LAST-MODIFIED:20250923T043048Z
UID:168746-1759753800-1759761000@scuolaedilecremona.it
SUMMARY:Area scientifica - matematica e geometria
DESCRIPTION:Docente: BETTONI FABIO
URL:https://scuolaedilecremona.it/event/area-scientifica-matematica-e-geometria-63/
CATEGORIES:ANNO 1 OPERATORE EDILE - PRIMO ANNO CREMONA 2025/2026
END:VEVENT
BEGIN:VEVENT
DTSTART;TZID=UTC:20251008T081500
DTEND;TZID=UTC:20251008T091500
DTSTAMP:20260420T071451
CREATED:20250923T043048Z
LAST-MODIFIED:20250923T043048Z
UID:168747-1759911300-1759914900@scuolaedilecremona.it
SUMMARY:Area storico-socio-economica - Elementi di diritto del lavoro
DESCRIPTION:Docente: BRUSCHI GIADA
URL:https://scuolaedilecremona.it/event/area-storico-socio-economica-elementi-di-diritto-del-lavoro-36/
CATEGORIES:ANNO 1 OPERATORE EDILE - PRIMO ANNO CREMONA 2025/2026
END:VEVENT
BEGIN:VEVENT
DTSTART;TZID=UTC:20251008T091500
DTEND;TZID=UTC:20251008T101500
DTSTAMP:20260420T071451
CREATED:20250923T043048Z
LAST-MODIFIED:20250923T043048Z
UID:168748-1759914900-1759918500@scuolaedilecremona.it
SUMMARY:Area personalizzazione - Orientamento e capacita personali
DESCRIPTION:Docente: BRUSCHI GIADA
URL:https://scuolaedilecremona.it/event/area-personalizzazione-orientamento-e-capacita-personali-39/
CATEGORIES:ANNO 1 OPERATORE EDILE - PRIMO ANNO CREMONA 2025/2026
END:VEVENT
BEGIN:VEVENT
DTSTART;TZID=UTC:20251008T101500
DTEND;TZID=UTC:20251008T111500
DTSTAMP:20260420T071451
CREATED:20250923T043049Z
LAST-MODIFIED:20250923T043049Z
UID:168749-1759918500-1759922100@scuolaedilecremona.it
SUMMARY:Area storico-socio-economica - Geografia
DESCRIPTION:Docente: ROSSI GIAMPIETRO
URL:https://scuolaedilecremona.it/event/area-storico-socio-economica-geografia-42/
CATEGORIES:ANNO 1 OPERATORE EDILE - PRIMO ANNO CREMONA 2025/2026
END:VEVENT
BEGIN:VEVENT
DTSTART;TZID=UTC:20251008T113000
DTEND;TZID=UTC:20251008T123000
DTSTAMP:20260420T071451
CREATED:20250923T043049Z
LAST-MODIFIED:20250923T043049Z
UID:168750-1759923000-1759926600@scuolaedilecremona.it
SUMMARY:Area storico-socio-economica - Storia
DESCRIPTION:Docente: ROSSI GIAMPIETRO
URL:https://scuolaedilecremona.it/event/area-storico-socio-economica-storia-43/
CATEGORIES:ANNO 1 OPERATORE EDILE - PRIMO ANNO CREMONA 2025/2026
END:VEVENT
BEGIN:VEVENT
DTSTART;TZID=UTC:20251008T123000
DTEND;TZID=UTC:20251008T143000
DTSTAMP:20260420T071451
CREATED:20250923T043050Z
LAST-MODIFIED:20250923T043050Z
UID:168751-1759926600-1759933800@scuolaedilecremona.it
SUMMARY:Area scientifica - matematica e geometria
DESCRIPTION:Docente: BETTONI FABIO
URL:https://scuolaedilecremona.it/event/area-scientifica-matematica-e-geometria-101/
CATEGORIES:ANNO 1 OPERATORE EDILE - PRIMO ANNO CREMONA 2025/2026
END:VEVENT
BEGIN:VEVENT
DTSTART;TZID=UTC:20251010T081500
DTEND;TZID=UTC:20251010T111500
DTSTAMP:20260420T071451
CREATED:20250923T043050Z
LAST-MODIFIED:20250923T043050Z
UID:168752-1760084100-1760094900@scuolaedilecremona.it
SUMMARY:Area personalizzazione - Laboratorio attivita espressivo motorie
DESCRIPTION:Docente: BODINI DAVIDE
URL:https://scuolaedilecremona.it/event/area-personalizzazione-laboratorio-attivita-espressivo-motorie-25/
CATEGORIES:ANNO 1 OPERATORE EDILE - PRIMO ANNO CREMONA 2025/2026
END:VEVENT
BEGIN:VEVENT
DTSTART;TZID=UTC:20251010T113000
DTEND;TZID=UTC:20251010T143000
DTSTAMP:20260420T071451
CREATED:20250923T043050Z
LAST-MODIFIED:20250923T043050Z
UID:168753-1760095800-1760106600@scuolaedilecremona.it
SUMMARY:AREA DEI LINGUAGGI - LINGUA ITALIANA
DESCRIPTION:Docente: UCCIARDO  CARMELO
URL:https://scuolaedilecremona.it/event/area-dei-linguaggi-lingua-italiana-137/
CATEGORIES:ANNO 1 OPERATORE EDILE - PRIMO ANNO CREMONA 2025/2026
END:VEVENT
BEGIN:VEVENT
DTSTART;TZID=UTC:20251013T081500
DTEND;TZID=UTC:20251013T101500
DTSTAMP:20260420T071451
CREATED:20250923T043051Z
LAST-MODIFIED:20250923T043051Z
UID:168754-1760343300-1760350500@scuolaedilecremona.it
SUMMARY:AREA DEI LINGUAGGI - LINGUA INGLESE
DESCRIPTION:Docente: VIRGILIO LAURA LETIZIA
URL:https://scuolaedilecremona.it/event/area-dei-linguaggi-lingua-inglese-61/
CATEGORIES:ANNO 1 OPERATORE EDILE - PRIMO ANNO CREMONA 2025/2026
END:VEVENT
BEGIN:VEVENT
DTSTART;TZID=UTC:20251013T101500
DTEND;TZID=UTC:20251013T123000
DTSTAMP:20260420T071451
CREATED:20250923T043051Z
LAST-MODIFIED:20250923T043051Z
UID:168755-1760350500-1760358600@scuolaedilecremona.it
SUMMARY:AREA DEI LINGUAGGI - LINGUA ITALIANA
DESCRIPTION:Docente: UCCIARDO  CARMELO
URL:https://scuolaedilecremona.it/event/area-dei-linguaggi-lingua-italiana-138/
CATEGORIES:ANNO 1 OPERATORE EDILE - PRIMO ANNO CREMONA 2025/2026
END:VEVENT
BEGIN:VEVENT
DTSTART;TZID=UTC:20251013T123000
DTEND;TZID=UTC:20251013T143000
DTSTAMP:20260420T071451
CREATED:20250923T043052Z
LAST-MODIFIED:20250923T043052Z
UID:168756-1760358600-1760365800@scuolaedilecremona.it
SUMMARY:Area scientifica - matematica e geometria
DESCRIPTION:Docente: BETTONI FABIO
URL:https://scuolaedilecremona.it/event/area-scientifica-matematica-e-geometria-102/
CATEGORIES:ANNO 1 OPERATORE EDILE - PRIMO ANNO CREMONA 2025/2026
END:VEVENT
BEGIN:VEVENT
DTSTART;TZID=UTC:20251014T081500
DTEND;TZID=UTC:20251014T143000
DTSTAMP:20260420T071451
CREATED:20250930T043407Z
LAST-MODIFIED:20250930T043407Z
UID:170002-1760429700-1760452200@scuolaedilecremona.it
SUMMARY:Area tecnico professionale - Elementi di tecnologia edile
DESCRIPTION:Docente: BELLADELLI LEONARDO
URL:https://scuolaedilecremona.it/event/area-tecnico-professionale-elementi-di-tecnologia-edile-59/
CATEGORIES:ANNO 1 OPERATORE EDILE - PRIMO ANNO CREMONA 2025/2026
END:VEVENT
BEGIN:VEVENT
DTSTART;TZID=UTC:20251015T081500
DTEND;TZID=UTC:20251015T101500
DTSTAMP:20260420T071451
CREATED:20250923T043053Z
LAST-MODIFIED:20250923T043053Z
UID:168759-1760516100-1760523300@scuolaedilecremona.it
SUMMARY:AREA DEI LINGUAGGI - LINGUA ITALIANA
DESCRIPTION:Docente: UCCIARDO  CARMELO
URL:https://scuolaedilecremona.it/event/area-dei-linguaggi-lingua-italiana-140/
CATEGORIES:ANNO 1 OPERATORE EDILE - PRIMO ANNO CREMONA 2025/2026
END:VEVENT
BEGIN:VEVENT
DTSTART;TZID=UTC:20251015T101500
DTEND;TZID=UTC:20251015T111500
DTSTAMP:20260420T071451
CREATED:20250923T043053Z
LAST-MODIFIED:20250923T043053Z
UID:168760-1760523300-1760526900@scuolaedilecremona.it
SUMMARY:Area storico-socio-economica - Geografia
DESCRIPTION:Docente: ROSSI GIAMPIETRO
URL:https://scuolaedilecremona.it/event/area-storico-socio-economica-geografia-43/
CATEGORIES:ANNO 1 OPERATORE EDILE - PRIMO ANNO CREMONA 2025/2026
END:VEVENT
BEGIN:VEVENT
DTSTART;TZID=UTC:20251015T113000
DTEND;TZID=UTC:20251015T123000
DTSTAMP:20260420T071451
CREATED:20250923T043053Z
LAST-MODIFIED:20250923T043053Z
UID:168761-1760527800-1760531400@scuolaedilecremona.it
SUMMARY:Area storico-socio-economica - Storia
DESCRIPTION:Docente: ROSSI GIAMPIETRO
URL:https://scuolaedilecremona.it/event/area-storico-socio-economica-storia-44/
CATEGORIES:ANNO 1 OPERATORE EDILE - PRIMO ANNO CREMONA 2025/2026
END:VEVENT
BEGIN:VEVENT
DTSTART;TZID=UTC:20251015T123000
DTEND;TZID=UTC:20251015T143000
DTSTAMP:20260420T071451
CREATED:20250923T043054Z
LAST-MODIFIED:20250923T043054Z
UID:168762-1760531400-1760538600@scuolaedilecremona.it
SUMMARY:Area scientifica - matematica e geometria
DESCRIPTION:Docente: BETTONI FABIO
URL:https://scuolaedilecremona.it/event/area-scientifica-matematica-e-geometria-103/
CATEGORIES:ANNO 1 OPERATORE EDILE - PRIMO ANNO CREMONA 2025/2026
END:VEVENT
BEGIN:VEVENT
DTSTART;TZID=UTC:20251016T081500
DTEND;TZID=UTC:20251016T091500
DTSTAMP:20260420T071451
CREATED:20250923T043054Z
LAST-MODIFIED:20250923T043054Z
UID:168763-1760602500-1760606100@scuolaedilecremona.it
SUMMARY:Area storico-socio-economica - Elementi di diritto del lavoro
DESCRIPTION:Docente: BRUSCHI GIADA
URL:https://scuolaedilecremona.it/event/area-storico-socio-economica-elementi-di-diritto-del-lavoro-37/
CATEGORIES:ANNO 1 OPERATORE EDILE - PRIMO ANNO CREMONA 2025/2026
END:VEVENT
BEGIN:VEVENT
DTSTART;TZID=UTC:20251016T091500
DTEND;TZID=UTC:20251016T101500
DTSTAMP:20260420T071451
CREATED:20250923T043054Z
LAST-MODIFIED:20250923T043054Z
UID:168764-1760606100-1760609700@scuolaedilecremona.it
SUMMARY:Area personalizzazione - Orientamento e capacita personali
DESCRIPTION:Docente: BRUSCHI GIADA
URL:https://scuolaedilecremona.it/event/area-personalizzazione-orientamento-e-capacita-personali-40/
CATEGORIES:ANNO 1 OPERATORE EDILE - PRIMO ANNO CREMONA 2025/2026
END:VEVENT
BEGIN:VEVENT
DTSTART;TZID=UTC:20251016T101500
DTEND;TZID=UTC:20251016T123000
DTSTAMP:20260420T071451
CREATED:20250923T043055Z
LAST-MODIFIED:20250923T043055Z
UID:168765-1760609700-1760617800@scuolaedilecremona.it
SUMMARY:Area tecnico professionale - Disegno tecnico
DESCRIPTION:Docente: SOFFIENTINI ROBERTO
URL:https://scuolaedilecremona.it/event/area-tecnico-professionale-disegno-tecnico-54/
CATEGORIES:ANNO 1 OPERATORE EDILE - PRIMO ANNO CREMONA 2025/2026
END:VEVENT
BEGIN:VEVENT
DTSTART;TZID=UTC:20251016T123000
DTEND;TZID=UTC:20251016T143000
DTSTAMP:20260420T071451
CREATED:20250923T043055Z
LAST-MODIFIED:20250923T043055Z
UID:168766-1760617800-1760625000@scuolaedilecremona.it
SUMMARY:Area scientifica - matematica e geometria
DESCRIPTION:Docente: BETTONI FABIO
URL:https://scuolaedilecremona.it/event/area-scientifica-matematica-e-geometria-104/
CATEGORIES:ANNO 1 OPERATORE EDILE - PRIMO ANNO CREMONA 2025/2026
END:VEVENT
BEGIN:VEVENT
DTSTART;TZID=UTC:20251017T081500
DTEND;TZID=UTC:20251017T123000
DTSTAMP:20260420T071451
CREATED:20250923T043055Z
LAST-MODIFIED:20250923T043055Z
UID:168767-1760688900-1760704200@scuolaedilecremona.it
SUMMARY:Area personalizzazione - Laboratorio attivita espressivo motorie
DESCRIPTION:Docente: BODINI DAVIDE
URL:https://scuolaedilecremona.it/event/area-personalizzazione-laboratorio-attivita-espressivo-motorie-26/
CATEGORIES:ANNO 1 OPERATORE EDILE - PRIMO ANNO CREMONA 2025/2026
END:VEVENT
BEGIN:VEVENT
DTSTART;TZID=UTC:20251017T123000
DTEND;TZID=UTC:20251017T143000
DTSTAMP:20260420T071451
CREATED:20250923T043056Z
LAST-MODIFIED:20250923T043056Z
UID:168768-1760704200-1760711400@scuolaedilecremona.it
SUMMARY:AREA DEI LINGUAGGI - LINGUA ITALIANA
DESCRIPTION:Docente: UCCIARDO  CARMELO
URL:https://scuolaedilecremona.it/event/area-dei-linguaggi-lingua-italiana-141/
CATEGORIES:ANNO 1 OPERATORE EDILE - PRIMO ANNO CREMONA 2025/2026
END:VEVENT
BEGIN:VEVENT
DTSTART;TZID=UTC:20251018T081500
DTEND;TZID=UTC:20251018T143000
DTSTAMP:20260420T071451
CREATED:20250923T043056Z
LAST-MODIFIED:20250923T043056Z
UID:168769-1760775300-1760797800@scuolaedilecremona.it
SUMMARY:Area tecnico professionale - Laboratorio esercitazioni pratiche
DESCRIPTION:Docente: DOSSENA GHERARDO TITO
URL:https://scuolaedilecremona.it/event/area-tecnico-professionale-laboratorio-esercitazioni-pratiche-68/
CATEGORIES:ANNO 1 OPERATORE EDILE - PRIMO ANNO CREMONA 2025/2026
END:VEVENT
BEGIN:VEVENT
DTSTART;TZID=UTC:20251020T081500
DTEND;TZID=UTC:20251020T101500
DTSTAMP:20260420T071451
CREATED:20250923T043057Z
LAST-MODIFIED:20250923T043057Z
UID:168770-1760948100-1760955300@scuolaedilecremona.it
SUMMARY:AREA DEI LINGUAGGI - LINGUA INGLESE
DESCRIPTION:Docente: VIRGILIO LAURA LETIZIA
URL:https://scuolaedilecremona.it/event/area-dei-linguaggi-lingua-inglese-62/
CATEGORIES:ANNO 1 OPERATORE EDILE - PRIMO ANNO CREMONA 2025/2026
END:VEVENT
BEGIN:VEVENT
DTSTART;TZID=UTC:20251020T101500
DTEND;TZID=UTC:20251020T123000
DTSTAMP:20260420T071451
CREATED:20250923T043057Z
LAST-MODIFIED:20250923T043057Z
UID:168771-1760955300-1760963400@scuolaedilecremona.it
SUMMARY:AREA DEI LINGUAGGI - LINGUA ITALIANA
DESCRIPTION:Docente: UCCIARDO  CARMELO
URL:https://scuolaedilecremona.it/event/area-dei-linguaggi-lingua-italiana-142/
CATEGORIES:ANNO 1 OPERATORE EDILE - PRIMO ANNO CREMONA 2025/2026
END:VEVENT
BEGIN:VEVENT
DTSTART;TZID=UTC:20251020T123000
DTEND;TZID=UTC:20251020T143000
DTSTAMP:20260420T071451
CREATED:20250923T043057Z
LAST-MODIFIED:20250923T043057Z
UID:168772-1760963400-1760970600@scuolaedilecremona.it
SUMMARY:Area scientifica - matematica e geometria
DESCRIPTION:Docente: BETTONI FABIO
URL:https://scuolaedilecremona.it/event/area-scientifica-matematica-e-geometria-105/
CATEGORIES:ANNO 1 OPERATORE EDILE - PRIMO ANNO CREMONA 2025/2026
END:VEVENT
BEGIN:VEVENT
DTSTART;TZID=UTC:20251021T081500
DTEND;TZID=UTC:20251021T101500
DTSTAMP:20260420T071451
CREATED:20250923T043058Z
LAST-MODIFIED:20250923T043058Z
UID:168773-1761034500-1761041700@scuolaedilecremona.it
SUMMARY:Area tecnico professionale - Elementi di tecnologia edile
DESCRIPTION:Docente: BELLADELLI LEONARDO
URL:https://scuolaedilecremona.it/event/area-tecnico-professionale-elementi-di-tecnologia-edile-60/
CATEGORIES:ANNO 1 OPERATORE EDILE - PRIMO ANNO CREMONA 2025/2026
END:VEVENT
BEGIN:VEVENT
DTSTART;TZID=UTC:20251021T101500
DTEND;TZID=UTC:20251021T143000
DTSTAMP:20260420T071451
CREATED:20251025T043000Z
LAST-MODIFIED:20251025T043000Z
UID:170044-1761041700-1761057000@scuolaedilecremona.it
SUMMARY:AREA DEI LINGUAGGI - LINGUA ITALIANA
DESCRIPTION:Docente: UCCIARDO  CARMELO
URL:https://scuolaedilecremona.it/event/area-dei-linguaggi-lingua-italiana-139/
CATEGORIES:ANNO 1 OPERATORE EDILE - PRIMO ANNO CREMONA 2025/2026
END:VEVENT
BEGIN:VEVENT
DTSTART;TZID=UTC:20251021T113000
DTEND;TZID=UTC:20251021T123000
DTSTAMP:20260420T071451
CREATED:20251025T043002Z
LAST-MODIFIED:20251025T043002Z
UID:170045-1761046200-1761049800@scuolaedilecremona.it
SUMMARY:Area tecnico professionale - Disegno tecnico
DESCRIPTION:Docente: SOFFIENTINI ROBERTO
URL:https://scuolaedilecremona.it/event/area-tecnico-professionale-disegno-tecnico-94/
CATEGORIES:ANNO 1 OPERATORE EDILE - PRIMO ANNO CREMONA 2025/2026
END:VEVENT
END:VCALENDAR