BEGIN:VCALENDAR
VERSION:2.0
PRODID:-//Ente Scuola Edile Cremona - C.P.T. - ECPv6.15.18//NONSGML v1.0//EN
CALSCALE:GREGORIAN
METHOD:PUBLISH
X-WR-CALNAME:Ente Scuola Edile Cremona - C.P.T.
X-ORIGINAL-URL:https://scuolaedilecremona.it
X-WR-CALDESC:Eventi per Ente Scuola Edile Cremona - C.P.T.
REFRESH-INTERVAL;VALUE=DURATION:PT1H
X-Robots-Tag:noindex
X-PUBLISHED-TTL:PT1H
BEGIN:VTIMEZONE
TZID:UTC
BEGIN:STANDARD
TZOFFSETFROM:+0000
TZOFFSETTO:+0000
TZNAME:UTC
DTSTART:20250101T000000
END:STANDARD
END:VTIMEZONE
BEGIN:VEVENT
DTSTART;TZID=UTC:20260317T123000
DTEND;TZID=UTC:20260317T143000
DTSTAMP:20260422T000153
CREATED:20250923T043236Z
LAST-MODIFIED:20250923T043236Z
UID:169037-1773750600-1773757800@scuolaedilecremona.it
SUMMARY:AREA DEI LINGUAGGI - LINGUA ITALIANA
DESCRIPTION:Docente: UCCIARDO  CARMELO
URL:https://scuolaedilecremona.it/event/area-dei-linguaggi-lingua-italiana-185/
CATEGORIES:ANNO 1 OPERATORE EDILE - PRIMO ANNO CREMONA 2025/2026
END:VEVENT
BEGIN:VEVENT
DTSTART;TZID=UTC:20260318T081500
DTEND;TZID=UTC:20260318T101500
DTSTAMP:20260422T000153
CREATED:20250923T043236Z
LAST-MODIFIED:20250923T043236Z
UID:169038-1773821700-1773828900@scuolaedilecremona.it
SUMMARY:Area tecnico professionale - Elementi di sicurezza sul lavoro
DESCRIPTION:Docente: SOFFIENTINI ROBERTO
URL:https://scuolaedilecremona.it/event/area-tecnico-professionale-elementi-di-sicurezza-sul-lavoro-78/
CATEGORIES:ANNO 1 OPERATORE EDILE - PRIMO ANNO CREMONA 2025/2026
END:VEVENT
BEGIN:VEVENT
DTSTART;TZID=UTC:20260318T101500
DTEND;TZID=UTC:20260318T123000
DTSTAMP:20260422T000153
CREATED:20250923T043237Z
LAST-MODIFIED:20250923T043237Z
UID:169039-1773828900-1773837000@scuolaedilecremona.it
SUMMARY:Area tecnico professionale - Disegno tecnico
DESCRIPTION:Docente: SOFFIENTINI ROBERTO
URL:https://scuolaedilecremona.it/event/area-tecnico-professionale-disegno-tecnico-70/
CATEGORIES:ANNO 1 OPERATORE EDILE - PRIMO ANNO CREMONA 2025/2026
END:VEVENT
BEGIN:VEVENT
DTSTART;TZID=UTC:20260318T123000
DTEND;TZID=UTC:20260318T133000
DTSTAMP:20260422T000153
CREATED:20260311T043005Z
LAST-MODIFIED:20260311T043005Z
UID:170345-1773837000-1773840600@scuolaedilecremona.it
SUMMARY:Area scientifica - matematica e geometria
DESCRIPTION:Docente: BETTONI FABIO
URL:https://scuolaedilecremona.it/event/area-scientifica-matematica-e-geometria-138/
CATEGORIES:ANNO 1 OPERATORE EDILE - PRIMO ANNO CREMONA 2025/2026
END:VEVENT
BEGIN:VEVENT
DTSTART;TZID=UTC:20260318T133000
DTEND;TZID=UTC:20260318T143000
DTSTAMP:20260422T000153
CREATED:20260311T043006Z
LAST-MODIFIED:20260311T043006Z
UID:170346-1773840600-1773844200@scuolaedilecremona.it
SUMMARY:AREA DEI LINGUAGGI - LINGUA ITALIANA
DESCRIPTION:Docente: UCCIARDO  CARMELO
URL:https://scuolaedilecremona.it/event/area-dei-linguaggi-lingua-italiana-188/
CATEGORIES:ANNO 1 OPERATORE EDILE - PRIMO ANNO CREMONA 2025/2026
END:VEVENT
BEGIN:VEVENT
DTSTART;TZID=UTC:20260319T081500
DTEND;TZID=UTC:20260319T101500
DTSTAMP:20260422T000153
CREATED:20250923T043238Z
LAST-MODIFIED:20250923T043238Z
UID:169041-1773908100-1773915300@scuolaedilecremona.it
SUMMARY:Area tecnico professionale - Elementi di sicurezza sul lavoro
DESCRIPTION:Docente: SOFFIENTINI ROBERTO
URL:https://scuolaedilecremona.it/event/area-tecnico-professionale-elementi-di-sicurezza-sul-lavoro-79/
CATEGORIES:ANNO 1 OPERATORE EDILE - PRIMO ANNO CREMONA 2025/2026
END:VEVENT
BEGIN:VEVENT
DTSTART;TZID=UTC:20260319T101500
DTEND;TZID=UTC:20260319T123000
DTSTAMP:20260422T000153
CREATED:20250923T043238Z
LAST-MODIFIED:20250923T043238Z
UID:169042-1773915300-1773923400@scuolaedilecremona.it
SUMMARY:Religione Cattolica (IRC) / Attivita alternativa
DESCRIPTION:Docente: ROSSI GIAMPIETRO
URL:https://scuolaedilecremona.it/event/religione-cattolica-irc-attivita-alternativa-57/
CATEGORIES:ANNO 1 OPERATORE EDILE - PRIMO ANNO CREMONA 2025/2026
END:VEVENT
BEGIN:VEVENT
DTSTART;TZID=UTC:20260319T123000
DTEND;TZID=UTC:20260319T143000
DTSTAMP:20260422T000153
CREATED:20250923T043238Z
LAST-MODIFIED:20250923T043238Z
UID:169043-1773923400-1773930600@scuolaedilecremona.it
SUMMARY:Area scientifica - matematica e geometria
DESCRIPTION:Docente: BETTONI FABIO
URL:https://scuolaedilecremona.it/event/area-scientifica-matematica-e-geometria-139/
CATEGORIES:ANNO 1 OPERATORE EDILE - PRIMO ANNO CREMONA 2025/2026
END:VEVENT
BEGIN:VEVENT
DTSTART;TZID=UTC:20260320T081500
DTEND;TZID=UTC:20260320T143000
DTSTAMP:20260422T000153
CREATED:20260227T043012Z
LAST-MODIFIED:20260227T043012Z
UID:170276-1773994500-1774017000@scuolaedilecremona.it
SUMMARY:Area tecnico professionale - Laboratorio esercitazioni pratiche
DESCRIPTION:Docente: BRUNELLI ERNESTO
URL:https://scuolaedilecremona.it/event/area-tecnico-professionale-laboratorio-esercitazioni-pratiche-194/
CATEGORIES:ANNO 1 OPERATORE EDILE - PRIMO ANNO CREMONA 2025/2026
END:VEVENT
BEGIN:VEVENT
DTSTART;TZID=UTC:20260323T081500
DTEND;TZID=UTC:20260323T101500
DTSTAMP:20260422T000153
CREATED:20250923T043239Z
LAST-MODIFIED:20250923T043239Z
UID:169045-1774253700-1774260900@scuolaedilecremona.it
SUMMARY:AREA DEI LINGUAGGI - LINGUA INGLESE
DESCRIPTION:Docente: VIRGILIO LAURA LETIZIA
URL:https://scuolaedilecremona.it/event/area-dei-linguaggi-lingua-inglese-76/
CATEGORIES:ANNO 1 OPERATORE EDILE - PRIMO ANNO CREMONA 2025/2026
END:VEVENT
BEGIN:VEVENT
DTSTART;TZID=UTC:20260323T101500
DTEND;TZID=UTC:20260323T123000
DTSTAMP:20260422T000153
CREATED:20250923T043240Z
LAST-MODIFIED:20250923T043240Z
UID:169046-1774260900-1774269000@scuolaedilecremona.it
SUMMARY:Area tecnologica - informatica
DESCRIPTION:Docente: BILLA CHIARA
URL:https://scuolaedilecremona.it/event/area-tecnologica-informatica-47/
CATEGORIES:ANNO 1 OPERATORE EDILE - PRIMO ANNO CREMONA 2025/2026
END:VEVENT
BEGIN:VEVENT
DTSTART;TZID=UTC:20260323T123000
DTEND;TZID=UTC:20260323T133000
DTSTAMP:20260422T000153
CREATED:20250923T043240Z
LAST-MODIFIED:20250923T043240Z
UID:169047-1774269000-1774272600@scuolaedilecremona.it
SUMMARY:Area scientifica - matematica e geometria
DESCRIPTION:Docente: BETTONI FABIO
URL:https://scuolaedilecremona.it/event/area-scientifica-matematica-e-geometria-140/
CATEGORIES:ANNO 1 OPERATORE EDILE - PRIMO ANNO CREMONA 2025/2026
END:VEVENT
BEGIN:VEVENT
DTSTART;TZID=UTC:20260323T133000
DTEND;TZID=UTC:20260323T143000
DTSTAMP:20260422T000153
CREATED:20250923T043240Z
LAST-MODIFIED:20250923T043240Z
UID:169048-1774272600-1774276200@scuolaedilecremona.it
SUMMARY:AREA DEI LINGUAGGI - LINGUA ITALIANA
DESCRIPTION:Docente: UCCIARDO  CARMELO
URL:https://scuolaedilecremona.it/event/area-dei-linguaggi-lingua-italiana-186/
CATEGORIES:ANNO 1 OPERATORE EDILE - PRIMO ANNO CREMONA 2025/2026
END:VEVENT
BEGIN:VEVENT
DTSTART;TZID=UTC:20260324T081500
DTEND;TZID=UTC:20260324T123000
DTSTAMP:20260422T000153
CREATED:20260205T043004Z
LAST-MODIFIED:20260205T043004Z
UID:170219-1774340100-1774355400@scuolaedilecremona.it
SUMMARY:Area tecnico professionale - Elementi di tecnologia edile
DESCRIPTION:Docente: BELLADELLI LEONARDO
URL:https://scuolaedilecremona.it/event/area-tecnico-professionale-elementi-di-tecnologia-edile-70/
CATEGORIES:ANNO 1 OPERATORE EDILE - PRIMO ANNO CREMONA 2025/2026
END:VEVENT
BEGIN:VEVENT
DTSTART;TZID=UTC:20260324T123000
DTEND;TZID=UTC:20260324T143000
DTSTAMP:20260422T000153
CREATED:20260205T043006Z
LAST-MODIFIED:20260205T043006Z
UID:170220-1774355400-1774362600@scuolaedilecremona.it
SUMMARY:AREA DEI LINGUAGGI - LINGUA ITALIANA
DESCRIPTION:Docente: UCCIARDO  CARMELO
URL:https://scuolaedilecremona.it/event/area-dei-linguaggi-lingua-italiana-231/
CATEGORIES:ANNO 1 OPERATORE EDILE - PRIMO ANNO CREMONA 2025/2026
END:VEVENT
BEGIN:VEVENT
DTSTART;TZID=UTC:20260325T080000
DTEND;TZID=UTC:20260325T160000
DTSTAMP:20260422T000153
CREATED:20260225T043029Z
LAST-MODIFIED:20260225T043029Z
UID:170255-1774425600-1774454400@scuolaedilecremona.it
SUMMARY:STAGE
DESCRIPTION:
URL:https://scuolaedilecremona.it/event/stage-180/
CATEGORIES:ANNO 1 OPERATORE EDILE - PRIMO ANNO CREMONA 2025/2026
END:VEVENT
BEGIN:VEVENT
DTSTART;TZID=UTC:20260326T080000
DTEND;TZID=UTC:20260326T160000
DTSTAMP:20260422T000153
CREATED:20260225T043031Z
LAST-MODIFIED:20260225T043031Z
UID:170256-1774512000-1774540800@scuolaedilecremona.it
SUMMARY:STAGE
DESCRIPTION:
URL:https://scuolaedilecremona.it/event/stage-181/
CATEGORIES:ANNO 1 OPERATORE EDILE - PRIMO ANNO CREMONA 2025/2026
END:VEVENT
BEGIN:VEVENT
DTSTART;TZID=UTC:20260327T080000
DTEND;TZID=UTC:20260327T160000
DTSTAMP:20260422T000153
CREATED:20260225T043032Z
LAST-MODIFIED:20260225T043032Z
UID:170257-1774598400-1774627200@scuolaedilecremona.it
SUMMARY:STAGE
DESCRIPTION:
URL:https://scuolaedilecremona.it/event/stage-282/
CATEGORIES:ANNO 1 OPERATORE EDILE - PRIMO ANNO CREMONA 2025/2026
END:VEVENT
BEGIN:VEVENT
DTSTART;TZID=UTC:20260330T080000
DTEND;TZID=UTC:20260330T160000
DTSTAMP:20260422T000153
CREATED:20260225T043032Z
LAST-MODIFIED:20260225T043032Z
UID:170258-1774857600-1774886400@scuolaedilecremona.it
SUMMARY:STAGE
DESCRIPTION:
URL:https://scuolaedilecremona.it/event/stage-283/
CATEGORIES:ANNO 1 OPERATORE EDILE - PRIMO ANNO CREMONA 2025/2026
END:VEVENT
BEGIN:VEVENT
DTSTART;TZID=UTC:20260331T080000
DTEND;TZID=UTC:20260331T160000
DTSTAMP:20260422T000153
CREATED:20260225T043033Z
LAST-MODIFIED:20260225T043033Z
UID:170259-1774944000-1774972800@scuolaedilecremona.it
SUMMARY:STAGE
DESCRIPTION:
URL:https://scuolaedilecremona.it/event/stage-284/
CATEGORIES:ANNO 1 OPERATORE EDILE - PRIMO ANNO CREMONA 2025/2026
END:VEVENT
BEGIN:VEVENT
DTSTART;TZID=UTC:20260401T080000
DTEND;TZID=UTC:20260401T160000
DTSTAMP:20260422T000153
CREATED:20260225T043033Z
LAST-MODIFIED:20260225T043033Z
UID:170260-1775030400-1775059200@scuolaedilecremona.it
SUMMARY:STAGE
DESCRIPTION:
URL:https://scuolaedilecremona.it/event/stage-285/
CATEGORIES:ANNO 1 OPERATORE EDILE - PRIMO ANNO CREMONA 2025/2026
END:VEVENT
BEGIN:VEVENT
DTSTART;TZID=UTC:20260408T080000
DTEND;TZID=UTC:20260408T160000
DTSTAMP:20260422T000153
CREATED:20260226T043143Z
LAST-MODIFIED:20260226T043143Z
UID:170262-1775635200-1775664000@scuolaedilecremona.it
SUMMARY:STAGE
DESCRIPTION:
URL:https://scuolaedilecremona.it/event/stage-286/
CATEGORIES:ANNO 1 OPERATORE EDILE - PRIMO ANNO CREMONA 2025/2026
END:VEVENT
BEGIN:VEVENT
DTSTART;TZID=UTC:20260409T080000
DTEND;TZID=UTC:20260409T160000
DTSTAMP:20260422T000153
CREATED:20260226T043145Z
LAST-MODIFIED:20260226T043145Z
UID:170263-1775721600-1775750400@scuolaedilecremona.it
SUMMARY:STAGE
DESCRIPTION:
URL:https://scuolaedilecremona.it/event/stage-287/
CATEGORIES:ANNO 1 OPERATORE EDILE - PRIMO ANNO CREMONA 2025/2026
END:VEVENT
BEGIN:VEVENT
DTSTART;TZID=UTC:20260410T080000
DTEND;TZID=UTC:20260410T160000
DTSTAMP:20260422T000153
CREATED:20260226T043145Z
LAST-MODIFIED:20260226T043145Z
UID:170264-1775808000-1775836800@scuolaedilecremona.it
SUMMARY:STAGE
DESCRIPTION:
URL:https://scuolaedilecremona.it/event/stage-288/
CATEGORIES:ANNO 1 OPERATORE EDILE - PRIMO ANNO CREMONA 2025/2026
END:VEVENT
BEGIN:VEVENT
DTSTART;TZID=UTC:20260413T080000
DTEND;TZID=UTC:20260413T160000
DTSTAMP:20260422T000153
CREATED:20260226T043146Z
LAST-MODIFIED:20260226T043146Z
UID:170265-1776067200-1776096000@scuolaedilecremona.it
SUMMARY:STAGE
DESCRIPTION:
URL:https://scuolaedilecremona.it/event/stage-289/
CATEGORIES:ANNO 1 OPERATORE EDILE - PRIMO ANNO CREMONA 2025/2026
END:VEVENT
BEGIN:VEVENT
DTSTART;TZID=UTC:20260414T080000
DTEND;TZID=UTC:20260414T160000
DTSTAMP:20260422T000153
CREATED:20260226T043147Z
LAST-MODIFIED:20260226T043147Z
UID:170266-1776153600-1776182400@scuolaedilecremona.it
SUMMARY:STAGE
DESCRIPTION:
URL:https://scuolaedilecremona.it/event/stage-290/
CATEGORIES:ANNO 1 OPERATORE EDILE - PRIMO ANNO CREMONA 2025/2026
END:VEVENT
BEGIN:VEVENT
DTSTART;TZID=UTC:20260415T080000
DTEND;TZID=UTC:20260415T160000
DTSTAMP:20260422T000153
CREATED:20260226T043147Z
LAST-MODIFIED:20260226T043147Z
UID:170267-1776240000-1776268800@scuolaedilecremona.it
SUMMARY:STAGE
DESCRIPTION:
URL:https://scuolaedilecremona.it/event/stage-291/
CATEGORIES:ANNO 1 OPERATORE EDILE - PRIMO ANNO CREMONA 2025/2026
END:VEVENT
BEGIN:VEVENT
DTSTART;TZID=UTC:20260416T080000
DTEND;TZID=UTC:20260416T160000
DTSTAMP:20260422T000153
CREATED:20260226T043148Z
LAST-MODIFIED:20260226T043148Z
UID:170268-1776326400-1776355200@scuolaedilecremona.it
SUMMARY:STAGE
DESCRIPTION:
URL:https://scuolaedilecremona.it/event/stage-292/
CATEGORIES:ANNO 1 OPERATORE EDILE - PRIMO ANNO CREMONA 2025/2026
END:VEVENT
BEGIN:VEVENT
DTSTART;TZID=UTC:20260417T080000
DTEND;TZID=UTC:20260417T160000
DTSTAMP:20260422T000153
CREATED:20260226T043149Z
LAST-MODIFIED:20260226T043149Z
UID:170269-1776412800-1776441600@scuolaedilecremona.it
SUMMARY:STAGE
DESCRIPTION:
URL:https://scuolaedilecremona.it/event/stage-293/
CATEGORIES:ANNO 1 OPERATORE EDILE - PRIMO ANNO CREMONA 2025/2026
END:VEVENT
BEGIN:VEVENT
DTSTART;TZID=UTC:20260420T080000
DTEND;TZID=UTC:20260420T160000
DTSTAMP:20260422T000153
CREATED:20260226T043149Z
LAST-MODIFIED:20260226T043149Z
UID:170270-1776672000-1776700800@scuolaedilecremona.it
SUMMARY:STAGE
DESCRIPTION:
URL:https://scuolaedilecremona.it/event/stage-294/
CATEGORIES:ANNO 1 OPERATORE EDILE - PRIMO ANNO CREMONA 2025/2026
END:VEVENT
END:VCALENDAR