BEGIN:VCALENDAR
VERSION:2.0
PRODID:-//Ente Scuola Edile Cremona - C.P.T. - ECPv6.15.18//NONSGML v1.0//EN
CALSCALE:GREGORIAN
METHOD:PUBLISH
X-WR-CALNAME:Ente Scuola Edile Cremona - C.P.T.
X-ORIGINAL-URL:https://scuolaedilecremona.it
X-WR-CALDESC:Eventi per Ente Scuola Edile Cremona - C.P.T.
REFRESH-INTERVAL;VALUE=DURATION:PT1H
X-Robots-Tag:noindex
X-PUBLISHED-TTL:PT1H
BEGIN:VTIMEZONE
TZID:UTC
BEGIN:STANDARD
TZOFFSETFROM:+0000
TZOFFSETTO:+0000
TZNAME:UTC
DTSTART:20250101T000000
END:STANDARD
END:VTIMEZONE
BEGIN:VEVENT
DTSTART;TZID=UTC:20260112T101500
DTEND;TZID=UTC:20260112T123000
DTSTAMP:20260421T054957
CREATED:20250923T043148Z
LAST-MODIFIED:20250923T043148Z
UID:168907-1768212900-1768221000@scuolaedilecremona.it
SUMMARY:Area tecnico professionale - Elementi di tecnologia edile
DESCRIPTION:Docente: BELLADELLI LEONARDO
URL:https://scuolaedilecremona.it/event/area-tecnico-professionale-elementi-di-tecnologia-edile-68/
CATEGORIES:ANNO 1 OPERATORE EDILE - PRIMO ANNO CREMONA 2025/2026
END:VEVENT
BEGIN:VEVENT
DTSTART;TZID=UTC:20260112T123000
DTEND;TZID=UTC:20260112T143000
DTSTAMP:20260421T054957
CREATED:20250923T043148Z
LAST-MODIFIED:20250923T043148Z
UID:168908-1768221000-1768228200@scuolaedilecremona.it
SUMMARY:Area scientifica - matematica e geometria
DESCRIPTION:Docente: BETTONI FABIO
URL:https://scuolaedilecremona.it/event/area-scientifica-matematica-e-geometria-121/
CATEGORIES:ANNO 1 OPERATORE EDILE - PRIMO ANNO CREMONA 2025/2026
END:VEVENT
BEGIN:VEVENT
DTSTART;TZID=UTC:20260113T081500
DTEND;TZID=UTC:20260113T101500
DTSTAMP:20260421T054957
CREATED:20250923T043149Z
LAST-MODIFIED:20250923T043149Z
UID:168909-1768292100-1768299300@scuolaedilecremona.it
SUMMARY:Area tecnico professionale - Elementi di tecnologia edile
DESCRIPTION:Docente: BELLADELLI LEONARDO
URL:https://scuolaedilecremona.it/event/area-tecnico-professionale-elementi-di-tecnologia-edile-69/
CATEGORIES:ANNO 1 OPERATORE EDILE - PRIMO ANNO CREMONA 2025/2026
END:VEVENT
BEGIN:VEVENT
DTSTART;TZID=UTC:20260113T101500
DTEND;TZID=UTC:20260113T123000
DTSTAMP:20260421T054957
CREATED:20250923T043149Z
LAST-MODIFIED:20250923T043149Z
UID:168910-1768299300-1768307400@scuolaedilecremona.it
SUMMARY:Area scientifica - scienze
DESCRIPTION:Docente: TAINO CATERINA
URL:https://scuolaedilecremona.it/event/area-scientifica-scienze-43/
CATEGORIES:ANNO 1 OPERATORE EDILE - PRIMO ANNO CREMONA 2025/2026
END:VEVENT
BEGIN:VEVENT
DTSTART;TZID=UTC:20260113T123000
DTEND;TZID=UTC:20260113T143000
DTSTAMP:20260421T054957
CREATED:20250923T043150Z
LAST-MODIFIED:20250923T043150Z
UID:168911-1768307400-1768314600@scuolaedilecremona.it
SUMMARY:AREA DEI LINGUAGGI - LINGUA ITALIANA
DESCRIPTION:Docente: UCCIARDO  CARMELO
URL:https://scuolaedilecremona.it/event/area-dei-linguaggi-lingua-italiana-165/
CATEGORIES:ANNO 1 OPERATORE EDILE - PRIMO ANNO CREMONA 2025/2026
END:VEVENT
BEGIN:VEVENT
DTSTART;TZID=UTC:20260114T081500
DTEND;TZID=UTC:20260114T091500
DTSTAMP:20260421T054957
CREATED:20250923T043150Z
LAST-MODIFIED:20250923T043150Z
UID:168912-1768378500-1768382100@scuolaedilecremona.it
SUMMARY:Area personalizzazione - Orientamento e capacita personali
DESCRIPTION:Docente: BRUSCHI GIADA
URL:https://scuolaedilecremona.it/event/area-personalizzazione-orientamento-e-capacita-personali-45/
CATEGORIES:ANNO 1 OPERATORE EDILE - PRIMO ANNO CREMONA 2025/2026
END:VEVENT
BEGIN:VEVENT
DTSTART;TZID=UTC:20260114T091500
DTEND;TZID=UTC:20260114T101500
DTSTAMP:20260421T054957
CREATED:20250923T043150Z
LAST-MODIFIED:20250923T043150Z
UID:168913-1768382100-1768385700@scuolaedilecremona.it
SUMMARY:Area storico-socio-economica - Elementi di diritto del lavoro
DESCRIPTION:Docente: BRUSCHI GIADA
URL:https://scuolaedilecremona.it/event/area-storico-socio-economica-elementi-di-diritto-del-lavoro-43/
CATEGORIES:ANNO 1 OPERATORE EDILE - PRIMO ANNO CREMONA 2025/2026
END:VEVENT
BEGIN:VEVENT
DTSTART;TZID=UTC:20260114T101500
DTEND;TZID=UTC:20260114T111500
DTSTAMP:20260421T054957
CREATED:20250923T043151Z
LAST-MODIFIED:20250923T043151Z
UID:168914-1768385700-1768389300@scuolaedilecremona.it
SUMMARY:Area storico-socio-economica - Elementi di economia
DESCRIPTION:Docente: ROSSI GIAMPIETRO
URL:https://scuolaedilecremona.it/event/area-storico-socio-economica-elementi-di-economia-41/
CATEGORIES:ANNO 1 OPERATORE EDILE - PRIMO ANNO CREMONA 2025/2026
END:VEVENT
BEGIN:VEVENT
DTSTART;TZID=UTC:20260114T113000
DTEND;TZID=UTC:20260114T123000
DTSTAMP:20260421T054957
CREATED:20250923T043151Z
LAST-MODIFIED:20250923T043151Z
UID:168915-1768390200-1768393800@scuolaedilecremona.it
SUMMARY:Religione Cattolica (IRC) / Attivita alternativa
DESCRIPTION:Docente: ROSSI GIAMPIETRO
URL:https://scuolaedilecremona.it/event/religione-cattolica-irc-attivita-alternativa-47/
CATEGORIES:ANNO 1 OPERATORE EDILE - PRIMO ANNO CREMONA 2025/2026
END:VEVENT
BEGIN:VEVENT
DTSTART;TZID=UTC:20260114T123000
DTEND;TZID=UTC:20260114T143000
DTSTAMP:20260421T054957
CREATED:20250923T043151Z
LAST-MODIFIED:20250923T043151Z
UID:168916-1768393800-1768401000@scuolaedilecremona.it
SUMMARY:Area scientifica - matematica e geometria
DESCRIPTION:Docente: BETTONI FABIO
URL:https://scuolaedilecremona.it/event/area-scientifica-matematica-e-geometria-122/
CATEGORIES:ANNO 1 OPERATORE EDILE - PRIMO ANNO CREMONA 2025/2026
END:VEVENT
BEGIN:VEVENT
DTSTART;TZID=UTC:20260115T081500
DTEND;TZID=UTC:20260115T101500
DTSTAMP:20260421T054957
CREATED:20250923T043152Z
LAST-MODIFIED:20250923T043152Z
UID:168917-1768464900-1768472100@scuolaedilecremona.it
SUMMARY:Area tecnico professionale - Elementi di sicurezza sul lavoro
DESCRIPTION:Docente: SOFFIENTINI ROBERTO
URL:https://scuolaedilecremona.it/event/area-tecnico-professionale-elementi-di-sicurezza-sul-lavoro-73/
CATEGORIES:ANNO 1 OPERATORE EDILE - PRIMO ANNO CREMONA 2025/2026
END:VEVENT
BEGIN:VEVENT
DTSTART;TZID=UTC:20260115T101500
DTEND;TZID=UTC:20260115T111500
DTSTAMP:20260421T054957
CREATED:20250923T043152Z
LAST-MODIFIED:20250923T043152Z
UID:168918-1768472100-1768475700@scuolaedilecremona.it
SUMMARY:Area storico-socio-economica - Elementi di economia
DESCRIPTION:Docente: ROSSI GIAMPIETRO
URL:https://scuolaedilecremona.it/event/area-storico-socio-economica-elementi-di-economia-42/
CATEGORIES:ANNO 1 OPERATORE EDILE - PRIMO ANNO CREMONA 2025/2026
END:VEVENT
BEGIN:VEVENT
DTSTART;TZID=UTC:20260115T113000
DTEND;TZID=UTC:20260115T123000
DTSTAMP:20260421T054957
CREATED:20250923T043152Z
LAST-MODIFIED:20250923T043152Z
UID:168919-1768476600-1768480200@scuolaedilecremona.it
SUMMARY:Religione Cattolica (IRC) / Attivita alternativa
DESCRIPTION:Docente: ROSSI GIAMPIETRO
URL:https://scuolaedilecremona.it/event/religione-cattolica-irc-attivita-alternativa-48/
CATEGORIES:ANNO 1 OPERATORE EDILE - PRIMO ANNO CREMONA 2025/2026
END:VEVENT
BEGIN:VEVENT
DTSTART;TZID=UTC:20260115T123000
DTEND;TZID=UTC:20260115T143000
DTSTAMP:20260421T054957
CREATED:20250923T043153Z
LAST-MODIFIED:20250923T043153Z
UID:168920-1768480200-1768487400@scuolaedilecremona.it
SUMMARY:AREA DEI LINGUAGGI - LINGUA ITALIANA
DESCRIPTION:Docente: UCCIARDO  CARMELO
URL:https://scuolaedilecremona.it/event/area-dei-linguaggi-lingua-italiana-166/
CATEGORIES:ANNO 1 OPERATORE EDILE - PRIMO ANNO CREMONA 2025/2026
END:VEVENT
BEGIN:VEVENT
DTSTART;TZID=UTC:20260116T081500
DTEND;TZID=UTC:20260116T143000
DTSTAMP:20260421T054957
CREATED:20250923T043153Z
LAST-MODIFIED:20250923T043153Z
UID:168921-1768551300-1768573800@scuolaedilecremona.it
SUMMARY:Area tecnico professionale - Laboratorio esercitazioni pratiche
DESCRIPTION:Docente: DOSSENA GHERARDO TITO
URL:https://scuolaedilecremona.it/event/area-tecnico-professionale-laboratorio-esercitazioni-pratiche-185/
CATEGORIES:ANNO 1 OPERATORE EDILE - PRIMO ANNO CREMONA 2025/2026
END:VEVENT
BEGIN:VEVENT
DTSTART;TZID=UTC:20260119T081500
DTEND;TZID=UTC:20260119T123000
DTSTAMP:20260421T054957
CREATED:20251202T044233Z
LAST-MODIFIED:20251202T044233Z
UID:170145-1768810500-1768825800@scuolaedilecremona.it
SUMMARY:AREA DEI LINGUAGGI - LINGUA INGLESE
DESCRIPTION:Docente: VIRGILIO LAURA LETIZIA
URL:https://scuolaedilecremona.it/event/area-dei-linguaggi-lingua-inglese-64/
CATEGORIES:ANNO 1 OPERATORE EDILE - PRIMO ANNO CREMONA 2025/2026
END:VEVENT
BEGIN:VEVENT
DTSTART;TZID=UTC:20260119T123000
DTEND;TZID=UTC:20260119T143000
DTSTAMP:20260421T054957
CREATED:20251202T044234Z
LAST-MODIFIED:20251202T044234Z
UID:170146-1768825800-1768833000@scuolaedilecremona.it
SUMMARY:AREA DEI LINGUAGGI - LINGUA ITALIANA
DESCRIPTION:Docente: UCCIARDO  CARMELO
URL:https://scuolaedilecremona.it/event/area-dei-linguaggi-lingua-italiana-167/
CATEGORIES:ANNO 1 OPERATORE EDILE - PRIMO ANNO CREMONA 2025/2026
END:VEVENT
BEGIN:VEVENT
DTSTART;TZID=UTC:20260120T081500
DTEND;TZID=UTC:20260120T111500
DTSTAMP:20260421T054957
CREATED:20260113T043045Z
LAST-MODIFIED:20260113T043045Z
UID:170176-1768896900-1768907700@scuolaedilecremona.it
SUMMARY:Area personalizzazione - Orientamento e capacita personali
DESCRIPTION:Docente: BRUSCHI GIADA
URL:https://scuolaedilecremona.it/event/area-personalizzazione-orientamento-e-capacita-personali-83/
CATEGORIES:ANNO 1 OPERATORE EDILE - PRIMO ANNO CREMONA 2025/2026
END:VEVENT
BEGIN:VEVENT
DTSTART;TZID=UTC:20260120T113000
DTEND;TZID=UTC:20260120T143000
DTSTAMP:20260421T054957
CREATED:20260113T043048Z
LAST-MODIFIED:20260113T043048Z
UID:170177-1768908600-1768919400@scuolaedilecremona.it
SUMMARY:AREA DEI LINGUAGGI - LINGUA ITALIANA
DESCRIPTION:Docente: UCCIARDO  CARMELO
URL:https://scuolaedilecremona.it/event/area-dei-linguaggi-lingua-italiana-168/
CATEGORIES:ANNO 1 OPERATORE EDILE - PRIMO ANNO CREMONA 2025/2026
END:VEVENT
BEGIN:VEVENT
DTSTART;TZID=UTC:20260121T081500
DTEND;TZID=UTC:20260121T091500
DTSTAMP:20260421T054957
CREATED:20250923T043155Z
LAST-MODIFIED:20250923T043155Z
UID:168927-1768983300-1768986900@scuolaedilecremona.it
SUMMARY:Area personalizzazione - Orientamento e capacita personali
DESCRIPTION:Docente: BRUSCHI GIADA
URL:https://scuolaedilecremona.it/event/area-personalizzazione-orientamento-e-capacita-personali-46/
CATEGORIES:ANNO 1 OPERATORE EDILE - PRIMO ANNO CREMONA 2025/2026
END:VEVENT
BEGIN:VEVENT
DTSTART;TZID=UTC:20260121T091500
DTEND;TZID=UTC:20260121T123000
DTSTAMP:20260421T054957
CREATED:20250923T043156Z
LAST-MODIFIED:20250923T043156Z
UID:168928-1768986900-1768998600@scuolaedilecremona.it
SUMMARY:Area storico-socio-economica - Elementi di diritto del lavoro
DESCRIPTION:Docente: BRUSCHI GIADA
URL:https://scuolaedilecremona.it/event/area-storico-socio-economica-elementi-di-diritto-del-lavoro-44/
CATEGORIES:ANNO 1 OPERATORE EDILE - PRIMO ANNO CREMONA 2025/2026
END:VEVENT
BEGIN:VEVENT
DTSTART;TZID=UTC:20260121T123000
DTEND;TZID=UTC:20260121T143000
DTSTAMP:20260421T054957
CREATED:20250923T043156Z
LAST-MODIFIED:20250923T043156Z
UID:168929-1768998600-1769005800@scuolaedilecremona.it
SUMMARY:Area scientifica - matematica e geometria
DESCRIPTION:Docente: BETTONI FABIO
URL:https://scuolaedilecremona.it/event/area-scientifica-matematica-e-geometria-123/
CATEGORIES:ANNO 1 OPERATORE EDILE - PRIMO ANNO CREMONA 2025/2026
END:VEVENT
BEGIN:VEVENT
DTSTART;TZID=UTC:20260122T081500
DTEND;TZID=UTC:20260122T101500
DTSTAMP:20260421T054957
CREATED:20250923T043156Z
LAST-MODIFIED:20250923T043156Z
UID:168930-1769069700-1769076900@scuolaedilecremona.it
SUMMARY:Area tecnico professionale - Disegno tecnico
DESCRIPTION:Docente: SOFFIENTINI ROBERTO
URL:https://scuolaedilecremona.it/event/area-tecnico-professionale-disegno-tecnico-64/
CATEGORIES:ANNO 1 OPERATORE EDILE - PRIMO ANNO CREMONA 2025/2026
END:VEVENT
BEGIN:VEVENT
DTSTART;TZID=UTC:20260122T101500
DTEND;TZID=UTC:20260122T111500
DTSTAMP:20260421T054957
CREATED:20250923T043157Z
LAST-MODIFIED:20250923T043157Z
UID:168931-1769076900-1769080500@scuolaedilecremona.it
SUMMARY:Area storico-socio-economica - Elementi di economia
DESCRIPTION:Docente: ROSSI GIAMPIETRO
URL:https://scuolaedilecremona.it/event/area-storico-socio-economica-elementi-di-economia-43/
CATEGORIES:ANNO 1 OPERATORE EDILE - PRIMO ANNO CREMONA 2025/2026
END:VEVENT
BEGIN:VEVENT
DTSTART;TZID=UTC:20260122T113000
DTEND;TZID=UTC:20260122T123000
DTSTAMP:20260421T054957
CREATED:20250923T043157Z
LAST-MODIFIED:20250923T043157Z
UID:168932-1769081400-1769085000@scuolaedilecremona.it
SUMMARY:Religione Cattolica (IRC) / Attivita alternativa
DESCRIPTION:Docente: ROSSI GIAMPIETRO
URL:https://scuolaedilecremona.it/event/religione-cattolica-irc-attivita-alternativa-49/
CATEGORIES:ANNO 1 OPERATORE EDILE - PRIMO ANNO CREMONA 2025/2026
END:VEVENT
BEGIN:VEVENT
DTSTART;TZID=UTC:20260122T123000
DTEND;TZID=UTC:20260122T143000
DTSTAMP:20260421T054957
CREATED:20250923T043157Z
LAST-MODIFIED:20250923T043157Z
UID:168933-1769085000-1769092200@scuolaedilecremona.it
SUMMARY:Area scientifica - matematica e geometria
DESCRIPTION:Docente: BETTONI FABIO
URL:https://scuolaedilecremona.it/event/area-scientifica-matematica-e-geometria-124/
CATEGORIES:ANNO 1 OPERATORE EDILE - PRIMO ANNO CREMONA 2025/2026
END:VEVENT
BEGIN:VEVENT
DTSTART;TZID=UTC:20260123T081500
DTEND;TZID=UTC:20260123T143000
DTSTAMP:20260421T054957
CREATED:20250923T043158Z
LAST-MODIFIED:20250923T043158Z
UID:168934-1769156100-1769178600@scuolaedilecremona.it
SUMMARY:Area tecnico professionale - Laboratorio esercitazioni pratiche
DESCRIPTION:Docente: DOSSENA GHERARDO TITO
URL:https://scuolaedilecremona.it/event/area-tecnico-professionale-laboratorio-esercitazioni-pratiche-186/
CATEGORIES:ANNO 1 OPERATORE EDILE - PRIMO ANNO CREMONA 2025/2026
END:VEVENT
BEGIN:VEVENT
DTSTART;TZID=UTC:20260126T081500
DTEND;TZID=UTC:20260126T123000
DTSTAMP:20260421T054957
CREATED:20250923T043158Z
LAST-MODIFIED:20250923T043158Z
UID:168935-1769415300-1769430600@scuolaedilecremona.it
SUMMARY:Area tecnico professionale - Elementi di tecnologia edile
DESCRIPTION:Docente: BELLADELLI LEONARDO
URL:https://scuolaedilecremona.it/event/area-tecnico-professionale-elementi-di-tecnologia-edile-71/
CATEGORIES:ANNO 1 OPERATORE EDILE - PRIMO ANNO CREMONA 2025/2026
END:VEVENT
BEGIN:VEVENT
DTSTART;TZID=UTC:20260126T123000
DTEND;TZID=UTC:20260126T133000
DTSTAMP:20260421T054957
CREATED:20260113T043048Z
LAST-MODIFIED:20260113T043048Z
UID:170178-1769430600-1769434200@scuolaedilecremona.it
SUMMARY:Area scientifica - matematica e geometria
DESCRIPTION:Docente: BETTONI FABIO
URL:https://scuolaedilecremona.it/event/area-scientifica-matematica-e-geometria-118/
CATEGORIES:ANNO 1 OPERATORE EDILE - PRIMO ANNO CREMONA 2025/2026
END:VEVENT
BEGIN:VEVENT
DTSTART;TZID=UTC:20260126T133000
DTEND;TZID=UTC:20260126T143000
DTSTAMP:20260421T054957
CREATED:20260113T043049Z
LAST-MODIFIED:20260113T043049Z
UID:170179-1769434200-1769437800@scuolaedilecremona.it
SUMMARY:Area scientifica - matematica e geometria
DESCRIPTION:Docente: BONDIONI ELISABETTA
URL:https://scuolaedilecremona.it/event/area-scientifica-matematica-e-geometria-125/
CATEGORIES:ANNO 1 OPERATORE EDILE - PRIMO ANNO CREMONA 2025/2026
END:VEVENT
END:VCALENDAR