BEGIN:VCALENDAR
VERSION:2.0
PRODID:-//Ente Scuola Edile Cremona - C.P.T. - ECPv6.15.18//NONSGML v1.0//EN
CALSCALE:GREGORIAN
METHOD:PUBLISH
X-ORIGINAL-URL:https://scuolaedilecremona.it
X-WR-CALDESC:Eventi per Ente Scuola Edile Cremona - C.P.T.
REFRESH-INTERVAL;VALUE=DURATION:PT1H
X-Robots-Tag:noindex
X-PUBLISHED-TTL:PT1H
BEGIN:VTIMEZONE
TZID:UTC
BEGIN:STANDARD
TZOFFSETFROM:+0000
TZOFFSETTO:+0000
TZNAME:UTC
DTSTART:20240101T000000
END:STANDARD
END:VTIMEZONE
BEGIN:VEVENT
DTSTART;TZID=UTC:20251211T081500
DTEND;TZID=UTC:20251211T101500
DTSTAMP:20260421T040124
CREATED:20250923T043139Z
LAST-MODIFIED:20250923T043139Z
UID:168883-1765440900-1765448100@scuolaedilecremona.it
SUMMARY:Area tecnico professionale - Elementi di sicurezza sul lavoro
DESCRIPTION:Docente: SOFFIENTINI ROBERTO
URL:https://scuolaedilecremona.it/event/area-tecnico-professionale-elementi-di-sicurezza-sul-lavoro-72/
CATEGORIES:ANNO 1 OPERATORE EDILE - PRIMO ANNO CREMONA 2025/2026
END:VEVENT
BEGIN:VEVENT
DTSTART;TZID=UTC:20251211T101500
DTEND;TZID=UTC:20251211T111500
DTSTAMP:20260421T040124
CREATED:20250923T043139Z
LAST-MODIFIED:20250923T043139Z
UID:168884-1765448100-1765451700@scuolaedilecremona.it
SUMMARY:Area storico-socio-economica - Elementi di economia
DESCRIPTION:Docente: ROSSI GIAMPIETRO
URL:https://scuolaedilecremona.it/event/area-storico-socio-economica-elementi-di-economia-39/
CATEGORIES:ANNO 1 OPERATORE EDILE - PRIMO ANNO CREMONA 2025/2026
END:VEVENT
BEGIN:VEVENT
DTSTART;TZID=UTC:20251211T113000
DTEND;TZID=UTC:20251211T123000
DTSTAMP:20260421T040124
CREATED:20250923T043140Z
LAST-MODIFIED:20250923T043140Z
UID:168885-1765452600-1765456200@scuolaedilecremona.it
SUMMARY:Religione Cattolica (IRC) / Attivita alternativa
DESCRIPTION:Docente: ROSSI GIAMPIETRO
URL:https://scuolaedilecremona.it/event/religione-cattolica-irc-attivita-alternativa-45/
CATEGORIES:ANNO 1 OPERATORE EDILE - PRIMO ANNO CREMONA 2025/2026
END:VEVENT
BEGIN:VEVENT
DTSTART;TZID=UTC:20251211T123000
DTEND;TZID=UTC:20251211T143000
DTSTAMP:20260421T040124
CREATED:20250923T043140Z
LAST-MODIFIED:20250923T043140Z
UID:168886-1765456200-1765463400@scuolaedilecremona.it
SUMMARY:Area scientifica - matematica e geometria
DESCRIPTION:Docente: BETTONI FABIO
URL:https://scuolaedilecremona.it/event/area-scientifica-matematica-e-geometria-120/
CATEGORIES:ANNO 1 OPERATORE EDILE - PRIMO ANNO CREMONA 2025/2026
END:VEVENT
BEGIN:VEVENT
DTSTART;TZID=UTC:20251212T081500
DTEND;TZID=UTC:20251212T091500
DTSTAMP:20260421T040124
CREATED:20250923T043141Z
LAST-MODIFIED:20250923T043141Z
UID:168887-1765527300-1765530900@scuolaedilecremona.it
SUMMARY:Area storico-socio-economica - Storia
DESCRIPTION:Docente: ROSSI GIAMPIETRO
URL:https://scuolaedilecremona.it/event/area-storico-socio-economica-storia-53/
CATEGORIES:ANNO 1 OPERATORE EDILE - PRIMO ANNO CREMONA 2025/2026
END:VEVENT
BEGIN:VEVENT
DTSTART;TZID=UTC:20251212T091500
DTEND;TZID=UTC:20251212T101500
DTSTAMP:20260421T040124
CREATED:20250923T043141Z
LAST-MODIFIED:20250923T043141Z
UID:168888-1765530900-1765534500@scuolaedilecremona.it
SUMMARY:Area storico-socio-economica - Geografia
DESCRIPTION:Docente: ROSSI GIAMPIETRO
URL:https://scuolaedilecremona.it/event/area-storico-socio-economica-geografia-52/
CATEGORIES:ANNO 1 OPERATORE EDILE - PRIMO ANNO CREMONA 2025/2026
END:VEVENT
BEGIN:VEVENT
DTSTART;TZID=UTC:20251212T101500
DTEND;TZID=UTC:20251212T123000
DTSTAMP:20260421T040124
CREATED:20250923T043141Z
LAST-MODIFIED:20250923T043141Z
UID:168889-1765534500-1765542600@scuolaedilecremona.it
SUMMARY:Area tecnico professionale - Disegno tecnico
DESCRIPTION:Docente: SOFFIENTINI ROBERTO
URL:https://scuolaedilecremona.it/event/area-tecnico-professionale-disegno-tecnico-62/
CATEGORIES:ANNO 1 OPERATORE EDILE - PRIMO ANNO CREMONA 2025/2026
END:VEVENT
BEGIN:VEVENT
DTSTART;TZID=UTC:20251212T123000
DTEND;TZID=UTC:20251212T143000
DTSTAMP:20260421T040124
CREATED:20250923T043142Z
LAST-MODIFIED:20250923T043142Z
UID:168890-1765542600-1765549800@scuolaedilecremona.it
SUMMARY:AREA DEI LINGUAGGI - LINGUA ITALIANA
DESCRIPTION:Docente: UCCIARDO  CARMELO
URL:https://scuolaedilecremona.it/event/area-dei-linguaggi-lingua-italiana-162/
CATEGORIES:ANNO 1 OPERATORE EDILE - PRIMO ANNO CREMONA 2025/2026
END:VEVENT
BEGIN:VEVENT
DTSTART;TZID=UTC:20251213T081500
DTEND;TZID=UTC:20251213T143000
DTSTAMP:20260421T040124
CREATED:20250923T043142Z
LAST-MODIFIED:20250923T043142Z
UID:168891-1765613700-1765636200@scuolaedilecremona.it
SUMMARY:Area tecnico professionale - Laboratorio esercitazioni pratiche
DESCRIPTION:Docente: DOSSENA GHERARDO TITO
URL:https://scuolaedilecremona.it/event/area-tecnico-professionale-laboratorio-esercitazioni-pratiche-178/
CATEGORIES:ANNO 1 OPERATORE EDILE - PRIMO ANNO CREMONA 2025/2026
END:VEVENT
BEGIN:VEVENT
DTSTART;TZID=UTC:20251215T081500
DTEND;TZID=UTC:20251215T143000
DTSTAMP:20260421T040124
CREATED:20250923T043143Z
LAST-MODIFIED:20250923T043143Z
UID:168892-1765786500-1765809000@scuolaedilecremona.it
SUMMARY:Area tecnico professionale - Laboratorio esercitazioni pratiche
DESCRIPTION:Docente: PEGOIANI  MATTEO
URL:https://scuolaedilecremona.it/event/area-tecnico-professionale-laboratorio-esercitazioni-pratiche-179/
CATEGORIES:ANNO 1 OPERATORE EDILE - PRIMO ANNO CREMONA 2025/2026
END:VEVENT
BEGIN:VEVENT
DTSTART;TZID=UTC:20251216T081500
DTEND;TZID=UTC:20251216T143000
DTSTAMP:20260421T040124
CREATED:20250923T043143Z
LAST-MODIFIED:20250923T043143Z
UID:168893-1765872900-1765895400@scuolaedilecremona.it
SUMMARY:Area tecnico professionale - Laboratorio esercitazioni pratiche
DESCRIPTION:Docente: PEGOIANI  MATTEO
URL:https://scuolaedilecremona.it/event/area-tecnico-professionale-laboratorio-esercitazioni-pratiche-180/
CATEGORIES:ANNO 1 OPERATORE EDILE - PRIMO ANNO CREMONA 2025/2026
END:VEVENT
BEGIN:VEVENT
DTSTART;TZID=UTC:20251217T081500
DTEND;TZID=UTC:20251217T143000
DTSTAMP:20260421T040124
CREATED:20250923T043143Z
LAST-MODIFIED:20250923T043143Z
UID:168894-1765959300-1765981800@scuolaedilecremona.it
SUMMARY:Area tecnico professionale - Laboratorio esercitazioni pratiche
DESCRIPTION:Docente: PEGOIANI  MATTEO
URL:https://scuolaedilecremona.it/event/area-tecnico-professionale-laboratorio-esercitazioni-pratiche-181/
CATEGORIES:ANNO 1 OPERATORE EDILE - PRIMO ANNO CREMONA 2025/2026
END:VEVENT
BEGIN:VEVENT
DTSTART;TZID=UTC:20251218T081500
DTEND;TZID=UTC:20251218T143000
DTSTAMP:20260421T040124
CREATED:20250923T043144Z
LAST-MODIFIED:20250923T043144Z
UID:168895-1766045700-1766068200@scuolaedilecremona.it
SUMMARY:Area tecnico professionale - Laboratorio esercitazioni pratiche
DESCRIPTION:Docente: PEGOIANI  MATTEO
URL:https://scuolaedilecremona.it/event/area-tecnico-professionale-laboratorio-esercitazioni-pratiche-182/
CATEGORIES:ANNO 1 OPERATORE EDILE - PRIMO ANNO CREMONA 2025/2026
END:VEVENT
BEGIN:VEVENT
DTSTART;TZID=UTC:20251219T081500
DTEND;TZID=UTC:20251219T143000
DTSTAMP:20260421T040124
CREATED:20250923T043144Z
LAST-MODIFIED:20250923T043144Z
UID:168896-1766132100-1766154600@scuolaedilecremona.it
SUMMARY:Area tecnico professionale - Laboratorio esercitazioni pratiche
DESCRIPTION:Docente: PEGOIANI  MATTEO
URL:https://scuolaedilecremona.it/event/area-tecnico-professionale-laboratorio-esercitazioni-pratiche-183/
CATEGORIES:ANNO 1 OPERATORE EDILE - PRIMO ANNO CREMONA 2025/2026
END:VEVENT
BEGIN:VEVENT
DTSTART;TZID=UTC:20260107T081500
DTEND;TZID=UTC:20260107T091500
DTSTAMP:20260421T040124
CREATED:20250923T043145Z
LAST-MODIFIED:20250923T043145Z
UID:168897-1767773700-1767777300@scuolaedilecremona.it
SUMMARY:Area personalizzazione - Orientamento e capacita personali
DESCRIPTION:Docente: BRUSCHI GIADA
URL:https://scuolaedilecremona.it/event/area-personalizzazione-orientamento-e-capacita-personali-44/
CATEGORIES:ANNO 1 OPERATORE EDILE - PRIMO ANNO CREMONA 2025/2026
END:VEVENT
BEGIN:VEVENT
DTSTART;TZID=UTC:20260107T091500
DTEND;TZID=UTC:20260107T101500
DTSTAMP:20260421T040124
CREATED:20250923T043145Z
LAST-MODIFIED:20250923T043145Z
UID:168898-1767777300-1767780900@scuolaedilecremona.it
SUMMARY:Area storico-socio-economica - Elementi di diritto del lavoro
DESCRIPTION:Docente: BRUSCHI GIADA
URL:https://scuolaedilecremona.it/event/area-storico-socio-economica-elementi-di-diritto-del-lavoro-42/
CATEGORIES:ANNO 1 OPERATORE EDILE - PRIMO ANNO CREMONA 2025/2026
END:VEVENT
BEGIN:VEVENT
DTSTART;TZID=UTC:20260107T101500
DTEND;TZID=UTC:20260107T123000
DTSTAMP:20260421T040124
CREATED:20250923T043145Z
LAST-MODIFIED:20250923T043145Z
UID:168899-1767780900-1767789000@scuolaedilecremona.it
SUMMARY:Area scientifica - scienze
DESCRIPTION:Docente: TAINO CATERINA
URL:https://scuolaedilecremona.it/event/area-scientifica-scienze-42/
CATEGORIES:ANNO 1 OPERATORE EDILE - PRIMO ANNO CREMONA 2025/2026
END:VEVENT
BEGIN:VEVENT
DTSTART;TZID=UTC:20260107T123000
DTEND;TZID=UTC:20260107T143000
DTSTAMP:20260421T040124
CREATED:20250923T043146Z
LAST-MODIFIED:20250923T043146Z
UID:168900-1767789000-1767796200@scuolaedilecremona.it
SUMMARY:AREA DEI LINGUAGGI - LINGUA ITALIANA
DESCRIPTION:Docente: UCCIARDO  CARMELO
URL:https://scuolaedilecremona.it/event/area-dei-linguaggi-lingua-italiana-163/
CATEGORIES:ANNO 1 OPERATORE EDILE - PRIMO ANNO CREMONA 2025/2026
END:VEVENT
BEGIN:VEVENT
DTSTART;TZID=UTC:20260108T081500
DTEND;TZID=UTC:20260108T101500
DTSTAMP:20260421T040124
CREATED:20250923T043146Z
LAST-MODIFIED:20250923T043146Z
UID:168901-1767860100-1767867300@scuolaedilecremona.it
SUMMARY:Area tecnico professionale - Disegno tecnico
DESCRIPTION:Docente: SOFFIENTINI ROBERTO
URL:https://scuolaedilecremona.it/event/area-tecnico-professionale-disegno-tecnico-63/
CATEGORIES:ANNO 1 OPERATORE EDILE - PRIMO ANNO CREMONA 2025/2026
END:VEVENT
BEGIN:VEVENT
DTSTART;TZID=UTC:20260108T101500
DTEND;TZID=UTC:20260108T111500
DTSTAMP:20260421T040124
CREATED:20250923T043146Z
LAST-MODIFIED:20250923T043146Z
UID:168902-1767867300-1767870900@scuolaedilecremona.it
SUMMARY:Area storico-socio-economica - Elementi di economia
DESCRIPTION:Docente: ROSSI GIAMPIETRO
URL:https://scuolaedilecremona.it/event/area-storico-socio-economica-elementi-di-economia-40/
CATEGORIES:ANNO 1 OPERATORE EDILE - PRIMO ANNO CREMONA 2025/2026
END:VEVENT
BEGIN:VEVENT
DTSTART;TZID=UTC:20260108T113000
DTEND;TZID=UTC:20260108T123000
DTSTAMP:20260421T040124
CREATED:20250923T043147Z
LAST-MODIFIED:20250923T043147Z
UID:168903-1767871800-1767875400@scuolaedilecremona.it
SUMMARY:Religione Cattolica (IRC) / Attivita alternativa
DESCRIPTION:Docente: ROSSI GIAMPIETRO
URL:https://scuolaedilecremona.it/event/religione-cattolica-irc-attivita-alternativa-46/
CATEGORIES:ANNO 1 OPERATORE EDILE - PRIMO ANNO CREMONA 2025/2026
END:VEVENT
BEGIN:VEVENT
DTSTART;TZID=UTC:20260108T123000
DTEND;TZID=UTC:20260108T143000
DTSTAMP:20260421T040124
CREATED:20250923T043147Z
LAST-MODIFIED:20250923T043147Z
UID:168904-1767875400-1767882600@scuolaedilecremona.it
SUMMARY:AREA DEI LINGUAGGI - LINGUA ITALIANA
DESCRIPTION:Docente: UCCIARDO  CARMELO
URL:https://scuolaedilecremona.it/event/area-dei-linguaggi-lingua-italiana-164/
CATEGORIES:ANNO 1 OPERATORE EDILE - PRIMO ANNO CREMONA 2025/2026
END:VEVENT
BEGIN:VEVENT
DTSTART;TZID=UTC:20260109T081500
DTEND;TZID=UTC:20260109T143000
DTSTAMP:20260421T040124
CREATED:20250923T043147Z
LAST-MODIFIED:20250923T043147Z
UID:168905-1767946500-1767969000@scuolaedilecremona.it
SUMMARY:Area tecnico professionale - Laboratorio esercitazioni pratiche
DESCRIPTION:Docente: DOSSENA GHERARDO TITO
URL:https://scuolaedilecremona.it/event/area-tecnico-professionale-laboratorio-esercitazioni-pratiche-184/
CATEGORIES:ANNO 1 OPERATORE EDILE - PRIMO ANNO CREMONA 2025/2026
END:VEVENT
BEGIN:VEVENT
DTSTART;TZID=UTC:20260112T081500
DTEND;TZID=UTC:20260112T101500
DTSTAMP:20260421T040124
CREATED:20251202T044232Z
LAST-MODIFIED:20251202T044232Z
UID:170144-1768205700-1768212900@scuolaedilecremona.it
SUMMARY:AREA DEI LINGUAGGI - LINGUA ITALIANA
DESCRIPTION:Docente: UCCIARDO  CARMELO
URL:https://scuolaedilecremona.it/event/area-dei-linguaggi-lingua-italiana-161/
CATEGORIES:ANNO 1 OPERATORE EDILE - PRIMO ANNO CREMONA 2025/2026
END:VEVENT
BEGIN:VEVENT
DTSTART;TZID=UTC:20260112T101500
DTEND;TZID=UTC:20260112T123000
DTSTAMP:20260421T040124
CREATED:20250923T043148Z
LAST-MODIFIED:20250923T043148Z
UID:168907-1768212900-1768221000@scuolaedilecremona.it
SUMMARY:Area tecnico professionale - Elementi di tecnologia edile
DESCRIPTION:Docente: BELLADELLI LEONARDO
URL:https://scuolaedilecremona.it/event/area-tecnico-professionale-elementi-di-tecnologia-edile-68/
CATEGORIES:ANNO 1 OPERATORE EDILE - PRIMO ANNO CREMONA 2025/2026
END:VEVENT
BEGIN:VEVENT
DTSTART;TZID=UTC:20260112T123000
DTEND;TZID=UTC:20260112T143000
DTSTAMP:20260421T040124
CREATED:20250923T043148Z
LAST-MODIFIED:20250923T043148Z
UID:168908-1768221000-1768228200@scuolaedilecremona.it
SUMMARY:Area scientifica - matematica e geometria
DESCRIPTION:Docente: BETTONI FABIO
URL:https://scuolaedilecremona.it/event/area-scientifica-matematica-e-geometria-121/
CATEGORIES:ANNO 1 OPERATORE EDILE - PRIMO ANNO CREMONA 2025/2026
END:VEVENT
BEGIN:VEVENT
DTSTART;TZID=UTC:20260113T081500
DTEND;TZID=UTC:20260113T101500
DTSTAMP:20260421T040124
CREATED:20250923T043149Z
LAST-MODIFIED:20250923T043149Z
UID:168909-1768292100-1768299300@scuolaedilecremona.it
SUMMARY:Area tecnico professionale - Elementi di tecnologia edile
DESCRIPTION:Docente: BELLADELLI LEONARDO
URL:https://scuolaedilecremona.it/event/area-tecnico-professionale-elementi-di-tecnologia-edile-69/
CATEGORIES:ANNO 1 OPERATORE EDILE - PRIMO ANNO CREMONA 2025/2026
END:VEVENT
BEGIN:VEVENT
DTSTART;TZID=UTC:20260113T101500
DTEND;TZID=UTC:20260113T123000
DTSTAMP:20260421T040124
CREATED:20250923T043149Z
LAST-MODIFIED:20250923T043149Z
UID:168910-1768299300-1768307400@scuolaedilecremona.it
SUMMARY:Area scientifica - scienze
DESCRIPTION:Docente: TAINO CATERINA
URL:https://scuolaedilecremona.it/event/area-scientifica-scienze-43/
CATEGORIES:ANNO 1 OPERATORE EDILE - PRIMO ANNO CREMONA 2025/2026
END:VEVENT
BEGIN:VEVENT
DTSTART;TZID=UTC:20260113T123000
DTEND;TZID=UTC:20260113T143000
DTSTAMP:20260421T040124
CREATED:20250923T043150Z
LAST-MODIFIED:20250923T043150Z
UID:168911-1768307400-1768314600@scuolaedilecremona.it
SUMMARY:AREA DEI LINGUAGGI - LINGUA ITALIANA
DESCRIPTION:Docente: UCCIARDO  CARMELO
URL:https://scuolaedilecremona.it/event/area-dei-linguaggi-lingua-italiana-165/
CATEGORIES:ANNO 1 OPERATORE EDILE - PRIMO ANNO CREMONA 2025/2026
END:VEVENT
BEGIN:VEVENT
DTSTART;TZID=UTC:20260114T081500
DTEND;TZID=UTC:20260114T091500
DTSTAMP:20260421T040124
CREATED:20250923T043150Z
LAST-MODIFIED:20250923T043150Z
UID:168912-1768378500-1768382100@scuolaedilecremona.it
SUMMARY:Area personalizzazione - Orientamento e capacita personali
DESCRIPTION:Docente: BRUSCHI GIADA
URL:https://scuolaedilecremona.it/event/area-personalizzazione-orientamento-e-capacita-personali-45/
CATEGORIES:ANNO 1 OPERATORE EDILE - PRIMO ANNO CREMONA 2025/2026
END:VEVENT
END:VCALENDAR