BEGIN:VCALENDAR
VERSION:2.0
PRODID:-//Ente Scuola Edile Cremona - C.P.T. - ECPv6.15.18//NONSGML v1.0//EN
CALSCALE:GREGORIAN
METHOD:PUBLISH
X-WR-CALNAME:Ente Scuola Edile Cremona - C.P.T.
X-ORIGINAL-URL:https://scuolaedilecremona.it
X-WR-CALDESC:Eventi per Ente Scuola Edile Cremona - C.P.T.
REFRESH-INTERVAL;VALUE=DURATION:PT1H
X-Robots-Tag:noindex
X-PUBLISHED-TTL:PT1H
BEGIN:VTIMEZONE
TZID:UTC
BEGIN:STANDARD
TZOFFSETFROM:+0000
TZOFFSETTO:+0000
TZNAME:UTC
DTSTART:20250101T000000
END:STANDARD
END:VTIMEZONE
BEGIN:VEVENT
DTSTART;TZID=UTC:20260122T101500
DTEND;TZID=UTC:20260122T111500
DTSTAMP:20260420T164353
CREATED:20250923T043157Z
LAST-MODIFIED:20250923T043157Z
UID:168931-1769076900-1769080500@scuolaedilecremona.it
SUMMARY:Area storico-socio-economica - Elementi di economia
DESCRIPTION:Docente: ROSSI GIAMPIETRO
URL:https://scuolaedilecremona.it/event/area-storico-socio-economica-elementi-di-economia-43/
CATEGORIES:ANNO 1 OPERATORE EDILE - PRIMO ANNO CREMONA 2025/2026
END:VEVENT
BEGIN:VEVENT
DTSTART;TZID=UTC:20260122T113000
DTEND;TZID=UTC:20260122T123000
DTSTAMP:20260420T164353
CREATED:20250923T043157Z
LAST-MODIFIED:20250923T043157Z
UID:168932-1769081400-1769085000@scuolaedilecremona.it
SUMMARY:Religione Cattolica (IRC) / Attivita alternativa
DESCRIPTION:Docente: ROSSI GIAMPIETRO
URL:https://scuolaedilecremona.it/event/religione-cattolica-irc-attivita-alternativa-49/
CATEGORIES:ANNO 1 OPERATORE EDILE - PRIMO ANNO CREMONA 2025/2026
END:VEVENT
BEGIN:VEVENT
DTSTART;TZID=UTC:20260122T123000
DTEND;TZID=UTC:20260122T143000
DTSTAMP:20260420T164353
CREATED:20250923T043157Z
LAST-MODIFIED:20250923T043157Z
UID:168933-1769085000-1769092200@scuolaedilecremona.it
SUMMARY:Area scientifica - matematica e geometria
DESCRIPTION:Docente: BETTONI FABIO
URL:https://scuolaedilecremona.it/event/area-scientifica-matematica-e-geometria-124/
CATEGORIES:ANNO 1 OPERATORE EDILE - PRIMO ANNO CREMONA 2025/2026
END:VEVENT
BEGIN:VEVENT
DTSTART;TZID=UTC:20260123T081500
DTEND;TZID=UTC:20260123T143000
DTSTAMP:20260420T164353
CREATED:20250923T043158Z
LAST-MODIFIED:20250923T043158Z
UID:168934-1769156100-1769178600@scuolaedilecremona.it
SUMMARY:Area tecnico professionale - Laboratorio esercitazioni pratiche
DESCRIPTION:Docente: DOSSENA GHERARDO TITO
URL:https://scuolaedilecremona.it/event/area-tecnico-professionale-laboratorio-esercitazioni-pratiche-186/
CATEGORIES:ANNO 1 OPERATORE EDILE - PRIMO ANNO CREMONA 2025/2026
END:VEVENT
BEGIN:VEVENT
DTSTART;TZID=UTC:20260126T081500
DTEND;TZID=UTC:20260126T123000
DTSTAMP:20260420T164353
CREATED:20250923T043158Z
LAST-MODIFIED:20250923T043158Z
UID:168935-1769415300-1769430600@scuolaedilecremona.it
SUMMARY:Area tecnico professionale - Elementi di tecnologia edile
DESCRIPTION:Docente: BELLADELLI LEONARDO
URL:https://scuolaedilecremona.it/event/area-tecnico-professionale-elementi-di-tecnologia-edile-71/
CATEGORIES:ANNO 1 OPERATORE EDILE - PRIMO ANNO CREMONA 2025/2026
END:VEVENT
BEGIN:VEVENT
DTSTART;TZID=UTC:20260126T123000
DTEND;TZID=UTC:20260126T133000
DTSTAMP:20260420T164353
CREATED:20260113T043048Z
LAST-MODIFIED:20260113T043048Z
UID:170178-1769430600-1769434200@scuolaedilecremona.it
SUMMARY:Area scientifica - matematica e geometria
DESCRIPTION:Docente: BETTONI FABIO
URL:https://scuolaedilecremona.it/event/area-scientifica-matematica-e-geometria-118/
CATEGORIES:ANNO 1 OPERATORE EDILE - PRIMO ANNO CREMONA 2025/2026
END:VEVENT
BEGIN:VEVENT
DTSTART;TZID=UTC:20260126T133000
DTEND;TZID=UTC:20260126T143000
DTSTAMP:20260420T164353
CREATED:20260113T043049Z
LAST-MODIFIED:20260113T043049Z
UID:170179-1769434200-1769437800@scuolaedilecremona.it
SUMMARY:Area scientifica - matematica e geometria
DESCRIPTION:Docente: BONDIONI ELISABETTA
URL:https://scuolaedilecremona.it/event/area-scientifica-matematica-e-geometria-125/
CATEGORIES:ANNO 1 OPERATORE EDILE - PRIMO ANNO CREMONA 2025/2026
END:VEVENT
BEGIN:VEVENT
DTSTART;TZID=UTC:20260127T081500
DTEND;TZID=UTC:20260127T101500
DTSTAMP:20260420T164353
CREATED:20250923T043159Z
LAST-MODIFIED:20250923T043159Z
UID:168937-1769501700-1769508900@scuolaedilecremona.it
SUMMARY:Area tecnico professionale - Elementi di tecnologia edile
DESCRIPTION:Docente: BELLADELLI LEONARDO
URL:https://scuolaedilecremona.it/event/area-tecnico-professionale-elementi-di-tecnologia-edile-72/
CATEGORIES:ANNO 1 OPERATORE EDILE - PRIMO ANNO CREMONA 2025/2026
END:VEVENT
BEGIN:VEVENT
DTSTART;TZID=UTC:20260127T101500
DTEND;TZID=UTC:20260127T123000
DTSTAMP:20260420T164353
CREATED:20250923T043159Z
LAST-MODIFIED:20250923T043159Z
UID:168938-1769508900-1769517000@scuolaedilecremona.it
SUMMARY:Area scientifica - scienze
DESCRIPTION:Docente: TAINO CATERINA
URL:https://scuolaedilecremona.it/event/area-scientifica-scienze-44/
CATEGORIES:ANNO 1 OPERATORE EDILE - PRIMO ANNO CREMONA 2025/2026
END:VEVENT
BEGIN:VEVENT
DTSTART;TZID=UTC:20260127T123000
DTEND;TZID=UTC:20260127T143000
DTSTAMP:20260420T164353
CREATED:20250923T043159Z
LAST-MODIFIED:20250923T043159Z
UID:168939-1769517000-1769524200@scuolaedilecremona.it
SUMMARY:AREA DEI LINGUAGGI - LINGUA ITALIANA
DESCRIPTION:Docente: UCCIARDO  CARMELO
URL:https://scuolaedilecremona.it/event/area-dei-linguaggi-lingua-italiana-169/
CATEGORIES:ANNO 1 OPERATORE EDILE - PRIMO ANNO CREMONA 2025/2026
END:VEVENT
BEGIN:VEVENT
DTSTART;TZID=UTC:20260128T081500
DTEND;TZID=UTC:20260128T091500
DTSTAMP:20260420T164353
CREATED:20250923T043200Z
LAST-MODIFIED:20250923T043200Z
UID:168940-1769588100-1769591700@scuolaedilecremona.it
SUMMARY:Area personalizzazione - Orientamento e capacita personali
DESCRIPTION:Docente: BRUSCHI GIADA
URL:https://scuolaedilecremona.it/event/area-personalizzazione-orientamento-e-capacita-personali-47/
CATEGORIES:ANNO 1 OPERATORE EDILE - PRIMO ANNO CREMONA 2025/2026
END:VEVENT
BEGIN:VEVENT
DTSTART;TZID=UTC:20260128T091500
DTEND;TZID=UTC:20260128T101500
DTSTAMP:20260420T164353
CREATED:20250923T043200Z
LAST-MODIFIED:20250923T043200Z
UID:168941-1769591700-1769595300@scuolaedilecremona.it
SUMMARY:Area storico-socio-economica - Elementi di diritto del lavoro
DESCRIPTION:Docente: BRUSCHI GIADA
URL:https://scuolaedilecremona.it/event/area-storico-socio-economica-elementi-di-diritto-del-lavoro-45/
CATEGORIES:ANNO 1 OPERATORE EDILE - PRIMO ANNO CREMONA 2025/2026
END:VEVENT
BEGIN:VEVENT
DTSTART;TZID=UTC:20260128T101500
DTEND;TZID=UTC:20260128T111500
DTSTAMP:20260420T164353
CREATED:20250923T043200Z
LAST-MODIFIED:20250923T043200Z
UID:168942-1769595300-1769598900@scuolaedilecremona.it
SUMMARY:Area storico-socio-economica - Geografia
DESCRIPTION:Docente: ROSSI GIAMPIETRO
URL:https://scuolaedilecremona.it/event/area-storico-socio-economica-geografia-53/
CATEGORIES:ANNO 1 OPERATORE EDILE - PRIMO ANNO CREMONA 2025/2026
END:VEVENT
BEGIN:VEVENT
DTSTART;TZID=UTC:20260128T113000
DTEND;TZID=UTC:20260128T123000
DTSTAMP:20260420T164353
CREATED:20250923T043201Z
LAST-MODIFIED:20250923T043201Z
UID:168943-1769599800-1769603400@scuolaedilecremona.it
SUMMARY:Area storico-socio-economica - Storia
DESCRIPTION:Docente: ROSSI GIAMPIETRO
URL:https://scuolaedilecremona.it/event/area-storico-socio-economica-storia-54/
CATEGORIES:ANNO 1 OPERATORE EDILE - PRIMO ANNO CREMONA 2025/2026
END:VEVENT
BEGIN:VEVENT
DTSTART;TZID=UTC:20260128T123000
DTEND;TZID=UTC:20260128T143000
DTSTAMP:20260420T164353
CREATED:20250923T043201Z
LAST-MODIFIED:20250923T043201Z
UID:168944-1769603400-1769610600@scuolaedilecremona.it
SUMMARY:Area scientifica - matematica e geometria
DESCRIPTION:Docente: BETTONI FABIO
URL:https://scuolaedilecremona.it/event/area-scientifica-matematica-e-geometria-126/
CATEGORIES:ANNO 1 OPERATORE EDILE - PRIMO ANNO CREMONA 2025/2026
END:VEVENT
BEGIN:VEVENT
DTSTART;TZID=UTC:20260129T081500
DTEND;TZID=UTC:20260129T091500
DTSTAMP:20260420T164353
CREATED:20260128T043014Z
LAST-MODIFIED:20260128T043014Z
UID:170196-1769674500-1769678100@scuolaedilecremona.it
SUMMARY:Area storico-socio-economica - Storia
DESCRIPTION:Docente: ROSSI GIAMPIETRO
URL:https://scuolaedilecremona.it/event/area-storico-socio-economica-storia-85/
CATEGORIES:ANNO 1 OPERATORE EDILE - PRIMO ANNO CREMONA 2025/2026
END:VEVENT
BEGIN:VEVENT
DTSTART;TZID=UTC:20260129T091500
DTEND;TZID=UTC:20260129T101500
DTSTAMP:20260420T164353
CREATED:20260128T043015Z
LAST-MODIFIED:20260128T043015Z
UID:170197-1769678100-1769681700@scuolaedilecremona.it
SUMMARY:Area storico-socio-economica - Geografia
DESCRIPTION:Docente: ROSSI GIAMPIETRO
URL:https://scuolaedilecremona.it/event/area-storico-socio-economica-geografia-71/
CATEGORIES:ANNO 1 OPERATORE EDILE - PRIMO ANNO CREMONA 2025/2026
END:VEVENT
BEGIN:VEVENT
DTSTART;TZID=UTC:20260129T101500
DTEND;TZID=UTC:20260129T111500
DTSTAMP:20260420T164353
CREATED:20250923T043202Z
LAST-MODIFIED:20250923T043202Z
UID:168946-1769681700-1769685300@scuolaedilecremona.it
SUMMARY:Area storico-socio-economica - Elementi di economia
DESCRIPTION:Docente: ROSSI GIAMPIETRO
URL:https://scuolaedilecremona.it/event/area-storico-socio-economica-elementi-di-economia-44/
CATEGORIES:ANNO 1 OPERATORE EDILE - PRIMO ANNO CREMONA 2025/2026
END:VEVENT
BEGIN:VEVENT
DTSTART;TZID=UTC:20260129T113000
DTEND;TZID=UTC:20260129T123000
DTSTAMP:20260420T164353
CREATED:20250923T043202Z
LAST-MODIFIED:20250923T043202Z
UID:168947-1769686200-1769689800@scuolaedilecremona.it
SUMMARY:Religione Cattolica (IRC) / Attivita alternativa
DESCRIPTION:Docente: ROSSI GIAMPIETRO
URL:https://scuolaedilecremona.it/event/religione-cattolica-irc-attivita-alternativa-50/
CATEGORIES:ANNO 1 OPERATORE EDILE - PRIMO ANNO CREMONA 2025/2026
END:VEVENT
BEGIN:VEVENT
DTSTART;TZID=UTC:20260129T123000
DTEND;TZID=UTC:20260129T143000
DTSTAMP:20260420T164353
CREATED:20250923T043203Z
LAST-MODIFIED:20250923T043203Z
UID:168948-1769689800-1769697000@scuolaedilecremona.it
SUMMARY:AREA DEI LINGUAGGI - LINGUA ITALIANA
DESCRIPTION:Docente: UCCIARDO  CARMELO
URL:https://scuolaedilecremona.it/event/area-dei-linguaggi-lingua-italiana-170/
CATEGORIES:ANNO 1 OPERATORE EDILE - PRIMO ANNO CREMONA 2025/2026
END:VEVENT
BEGIN:VEVENT
DTSTART;TZID=UTC:20260130T081500
DTEND;TZID=UTC:20260130T143000
DTSTAMP:20260420T164353
CREATED:20260129T043043Z
LAST-MODIFIED:20260129T043043Z
UID:170217-1769760900-1769783400@scuolaedilecremona.it
SUMMARY:Area tecnico professionale - Laboratorio esercitazioni pratiche
DESCRIPTION:Docente: BRUNELLI ERNESTO
URL:https://scuolaedilecremona.it/event/area-tecnico-professionale-laboratorio-esercitazioni-pratiche-187/
CATEGORIES:ANNO 1 OPERATORE EDILE - PRIMO ANNO CREMONA 2025/2026
END:VEVENT
BEGIN:VEVENT
DTSTART;TZID=UTC:20260202T081500
DTEND;TZID=UTC:20260202T101500
DTSTAMP:20260420T164353
CREATED:20250923T043204Z
LAST-MODIFIED:20250923T043204Z
UID:168950-1770020100-1770027300@scuolaedilecremona.it
SUMMARY:AREA DEI LINGUAGGI - LINGUA INGLESE
DESCRIPTION:Docente: VIRGILIO LAURA LETIZIA
URL:https://scuolaedilecremona.it/event/area-dei-linguaggi-lingua-inglese-70/
CATEGORIES:ANNO 1 OPERATORE EDILE - PRIMO ANNO CREMONA 2025/2026
END:VEVENT
BEGIN:VEVENT
DTSTART;TZID=UTC:20260202T101500
DTEND;TZID=UTC:20260202T123000
DTSTAMP:20260420T164353
CREATED:20250923T043204Z
LAST-MODIFIED:20250923T043204Z
UID:168951-1770027300-1770035400@scuolaedilecremona.it
SUMMARY:Area tecnologica - informatica
DESCRIPTION:Docente: BILLA CHIARA
URL:https://scuolaedilecremona.it/event/area-tecnologica-informatica-41/
CATEGORIES:ANNO 1 OPERATORE EDILE - PRIMO ANNO CREMONA 2025/2026
END:VEVENT
BEGIN:VEVENT
DTSTART;TZID=UTC:20260202T123000
DTEND;TZID=UTC:20260202T133000
DTSTAMP:20260420T164353
CREATED:20250923T043205Z
LAST-MODIFIED:20250923T043205Z
UID:168952-1770035400-1770039000@scuolaedilecremona.it
SUMMARY:Area scientifica - matematica e geometria
DESCRIPTION:Docente: BETTONI FABIO
URL:https://scuolaedilecremona.it/event/area-scientifica-matematica-e-geometria-127/
CATEGORIES:ANNO 1 OPERATORE EDILE - PRIMO ANNO CREMONA 2025/2026
END:VEVENT
BEGIN:VEVENT
DTSTART;TZID=UTC:20260202T133000
DTEND;TZID=UTC:20260202T143000
DTSTAMP:20260420T164353
CREATED:20250923T043205Z
LAST-MODIFIED:20250923T043205Z
UID:168953-1770039000-1770042600@scuolaedilecremona.it
SUMMARY:AREA DEI LINGUAGGI - LINGUA ITALIANA
DESCRIPTION:Docente: UCCIARDO  CARMELO
URL:https://scuolaedilecremona.it/event/area-dei-linguaggi-lingua-italiana-171/
CATEGORIES:ANNO 1 OPERATORE EDILE - PRIMO ANNO CREMONA 2025/2026
END:VEVENT
BEGIN:VEVENT
DTSTART;TZID=UTC:20260203T081500
DTEND;TZID=UTC:20260203T101500
DTSTAMP:20260420T164353
CREATED:20250923T043205Z
LAST-MODIFIED:20250923T043205Z
UID:168954-1770106500-1770113700@scuolaedilecremona.it
SUMMARY:Area tecnico professionale - Elementi di tecnologia edile
DESCRIPTION:Docente: BELLADELLI LEONARDO
URL:https://scuolaedilecremona.it/event/area-tecnico-professionale-elementi-di-tecnologia-edile-73/
CATEGORIES:ANNO 1 OPERATORE EDILE - PRIMO ANNO CREMONA 2025/2026
END:VEVENT
BEGIN:VEVENT
DTSTART;TZID=UTC:20260203T101500
DTEND;TZID=UTC:20260203T123000
DTSTAMP:20260420T164353
CREATED:20250923T043206Z
LAST-MODIFIED:20250923T043206Z
UID:168955-1770113700-1770121800@scuolaedilecremona.it
SUMMARY:Area scientifica - scienze
DESCRIPTION:Docente: TAINO CATERINA
URL:https://scuolaedilecremona.it/event/area-scientifica-scienze-45/
CATEGORIES:ANNO 1 OPERATORE EDILE - PRIMO ANNO CREMONA 2025/2026
END:VEVENT
BEGIN:VEVENT
DTSTART;TZID=UTC:20260203T123000
DTEND;TZID=UTC:20260203T143000
DTSTAMP:20260420T164353
CREATED:20250923T043206Z
LAST-MODIFIED:20250923T043206Z
UID:168956-1770121800-1770129000@scuolaedilecremona.it
SUMMARY:AREA DEI LINGUAGGI - LINGUA ITALIANA
DESCRIPTION:Docente: UCCIARDO  CARMELO
URL:https://scuolaedilecremona.it/event/area-dei-linguaggi-lingua-italiana-172/
CATEGORIES:ANNO 1 OPERATORE EDILE - PRIMO ANNO CREMONA 2025/2026
END:VEVENT
BEGIN:VEVENT
DTSTART;TZID=UTC:20260204T081500
DTEND;TZID=UTC:20260204T123000
DTSTAMP:20260420T164353
CREATED:20251030T043010Z
LAST-MODIFIED:20251030T043010Z
UID:170066-1770192900-1770208200@scuolaedilecremona.it
SUMMARY:Area tecnico professionale - Elementi di tecnologia edile
DESCRIPTION:Docente: BELLADELLI LEONARDO
URL:https://scuolaedilecremona.it/event/area-tecnico-professionale-elementi-di-tecnologia-edile-115/
CATEGORIES:ANNO 1 OPERATORE EDILE - PRIMO ANNO CREMONA 2025/2026
END:VEVENT
BEGIN:VEVENT
DTSTART;TZID=UTC:20260204T123000
DTEND;TZID=UTC:20260204T133000
DTSTAMP:20260420T164353
CREATED:20250923T043207Z
LAST-MODIFIED:20250923T043207Z
UID:168959-1770208200-1770211800@scuolaedilecremona.it
SUMMARY:Area storico-socio-economica - Storia
DESCRIPTION:Docente: ROSSI GIAMPIETRO
URL:https://scuolaedilecremona.it/event/area-storico-socio-economica-storia-55/
CATEGORIES:ANNO 1 OPERATORE EDILE - PRIMO ANNO CREMONA 2025/2026
END:VEVENT
END:VCALENDAR