BEGIN:VCALENDAR
VERSION:2.0
PRODID:-//Ente Scuola Edile Cremona - C.P.T. - ECPv6.15.18//NONSGML v1.0//EN
CALSCALE:GREGORIAN
METHOD:PUBLISH
X-WR-CALNAME:Ente Scuola Edile Cremona - C.P.T.
X-ORIGINAL-URL:https://scuolaedilecremona.it
X-WR-CALDESC:Eventi per Ente Scuola Edile Cremona - C.P.T.
REFRESH-INTERVAL;VALUE=DURATION:PT1H
X-Robots-Tag:noindex
X-PUBLISHED-TTL:PT1H
BEGIN:VTIMEZONE
TZID:UTC
BEGIN:STANDARD
TZOFFSETFROM:+0000
TZOFFSETTO:+0000
TZNAME:UTC
DTSTART:20250101T000000
END:STANDARD
END:VTIMEZONE
BEGIN:VEVENT
DTSTART;TZID=UTC:20260421T080000
DTEND;TZID=UTC:20260421T160000
DTSTAMP:20260421T020551
CREATED:20260226T043150Z
LAST-MODIFIED:20260226T043150Z
UID:170271-1776758400-1776787200@scuolaedilecremona.it
SUMMARY:STAGE
DESCRIPTION:
URL:https://scuolaedilecremona.it/event/stage-295/
CATEGORIES:ANNO 1 OPERATORE EDILE - PRIMO ANNO CREMONA 2025/2026
END:VEVENT
BEGIN:VEVENT
DTSTART;TZID=UTC:20260421T081500
DTEND;TZID=UTC:20260421T101500
DTSTAMP:20260421T020551
CREATED:20250923T043447Z
LAST-MODIFIED:20250923T043447Z
UID:169371-1776759300-1776766500@scuolaedilecremona.it
SUMMARY:Area tecnico professionale - Elementi di sicurezza sul lavoro
DESCRIPTION:Docente: SOFFIENTINI ROBERTO
URL:https://scuolaedilecremona.it/event/area-tecnico-professionale-elementi-di-sicurezza-sul-lavoro-87/
CATEGORIES:ANNO 2 OPERATORE EDILE - SECONDO ANNO 2025/2026
END:VEVENT
BEGIN:VEVENT
DTSTART;TZID=UTC:20260421T081500
DTEND;TZID=UTC:20260421T143000
DTSTAMP:20260421T020551
CREATED:20250925T043314Z
LAST-MODIFIED:20250925T043314Z
UID:169946-1776759300-1776781800@scuolaedilecremona.it
SUMMARY:Area tecnico professionale - Elementi di tecnologia edile
DESCRIPTION:Docente: BELLADELLI LEONARDO
URL:https://scuolaedilecremona.it/event/area-tecnico-professionale-elementi-di-tecnologia-edile-111/
CATEGORIES:ANNO 3 OPERATORE EDILE - TERZO  ANNO 2025/2026 GOL
END:VEVENT
BEGIN:VEVENT
DTSTART;TZID=UTC:20260421T101500
DTEND;TZID=UTC:20260421T123000
DTSTAMP:20260421T020551
CREATED:20250923T043447Z
LAST-MODIFIED:20250923T043447Z
UID:169372-1776766500-1776774600@scuolaedilecremona.it
SUMMARY:AREA DEI LINGUAGGI - LINGUA ITALIANA
DESCRIPTION:Docente: UCCIARDO  CARMELO
URL:https://scuolaedilecremona.it/event/area-dei-linguaggi-lingua-italiana-229/
CATEGORIES:ANNO 2 OPERATORE EDILE - SECONDO ANNO 2025/2026
END:VEVENT
BEGIN:VEVENT
DTSTART;TZID=UTC:20260421T123000
DTEND;TZID=UTC:20260421T143000
DTSTAMP:20260421T020551
CREATED:20250923T043447Z
LAST-MODIFIED:20250923T043447Z
UID:169373-1776774600-1776781800@scuolaedilecremona.it
SUMMARY:Area scientifica - matematica e geometria
DESCRIPTION:Docente: BETTONI FABIO
URL:https://scuolaedilecremona.it/event/area-scientifica-matematica-e-geometria-166/
CATEGORIES:ANNO 2 OPERATORE EDILE - SECONDO ANNO 2025/2026
END:VEVENT
END:VCALENDAR