BEGIN:VCALENDAR
VERSION:2.0
PRODID:-//Ente Scuola Edile Cremona - C.P.T. - ECPv6.15.18//NONSGML v1.0//EN
CALSCALE:GREGORIAN
METHOD:PUBLISH
X-ORIGINAL-URL:https://scuolaedilecremona.it
X-WR-CALDESC:Eventi per Ente Scuola Edile Cremona - C.P.T.
REFRESH-INTERVAL;VALUE=DURATION:PT1H
X-Robots-Tag:noindex
X-PUBLISHED-TTL:PT1H
BEGIN:VTIMEZONE
TZID:UTC
BEGIN:STANDARD
TZOFFSETFROM:+0000
TZOFFSETTO:+0000
TZNAME:UTC
DTSTART:20250101T000000
END:STANDARD
END:VTIMEZONE
BEGIN:VEVENT
DTSTART;TZID=UTC:20260220T080000
DTEND;TZID=UTC:20260220T160000
DTSTAMP:20260421T045314
CREATED:20250923T043432Z
LAST-MODIFIED:20250923T043432Z
UID:169333-1771574400-1771603200@scuolaedilecremona.it
SUMMARY:STAGE
DESCRIPTION:
URL:https://scuolaedilecremona.it/event/stage-194/
CATEGORIES:ANNO 2 OPERATORE EDILE - SECONDO ANNO 2025/2026
END:VEVENT
BEGIN:VEVENT
DTSTART;TZID=UTC:20260220T081500
DTEND;TZID=UTC:20260220T101500
DTSTAMP:20260421T045314
CREATED:20250925T043222Z
LAST-MODIFIED:20250925T043222Z
UID:169860-1771575300-1771582500@scuolaedilecremona.it
SUMMARY:Area storico-socio-economica - Elementi di economia
DESCRIPTION:Docente: ROSSI GIAMPIETRO
URL:https://scuolaedilecremona.it/event/area-storico-socio-economica-elementi-di-economia-67/
CATEGORIES:ANNO 3 OPERATORE EDILE - TERZO  ANNO 2025/2026 GOL
END:VEVENT
BEGIN:VEVENT
DTSTART;TZID=UTC:20260220T081500
DTEND;TZID=UTC:20260220T143000
DTSTAMP:20260421T045314
CREATED:20260214T043017Z
LAST-MODIFIED:20260214T043017Z
UID:170244-1771575300-1771597800@scuolaedilecremona.it
SUMMARY:Area tecnico professionale - Laboratorio esercitazioni pratiche
DESCRIPTION:Docente: BRUNELLI ERNESTO
URL:https://scuolaedilecremona.it/event/area-tecnico-professionale-laboratorio-esercitazioni-pratiche-190/
CATEGORIES:ANNO 1 OPERATORE EDILE - PRIMO ANNO CREMONA 2025/2026
END:VEVENT
BEGIN:VEVENT
DTSTART;TZID=UTC:20260220T101500
DTEND;TZID=UTC:20260220T123000
DTSTAMP:20260421T045314
CREATED:20250925T043223Z
LAST-MODIFIED:20250925T043223Z
UID:169861-1771582500-1771590600@scuolaedilecremona.it
SUMMARY:Area tecnico professionale - Elementi di sicurezza sul lavoro
DESCRIPTION:Docente: SOFFIENTINI ROBERTO
URL:https://scuolaedilecremona.it/event/area-tecnico-professionale-elementi-di-sicurezza-sul-lavoro-97/
CATEGORIES:ANNO 3 OPERATORE EDILE - TERZO  ANNO 2025/2026 GOL
END:VEVENT
BEGIN:VEVENT
DTSTART;TZID=UTC:20260220T123000
DTEND;TZID=UTC:20260220T143000
DTSTAMP:20260421T045314
CREATED:20250925T043223Z
LAST-MODIFIED:20250925T043223Z
UID:169862-1771590600-1771597800@scuolaedilecremona.it
SUMMARY:Area scientifica - matematica e geometria
DESCRIPTION:Docente: BETTONI FABIO
URL:https://scuolaedilecremona.it/event/area-scientifica-matematica-e-geometria-182/
CATEGORIES:ANNO 3 OPERATORE EDILE - TERZO  ANNO 2025/2026 GOL
END:VEVENT
END:VCALENDAR