BEGIN:VCALENDAR
VERSION:2.0
PRODID:-//Ente Scuola Edile Cremona - C.P.T. - ECPv6.15.18//NONSGML v1.0//EN
CALSCALE:GREGORIAN
METHOD:PUBLISH
X-WR-CALNAME:Ente Scuola Edile Cremona - C.P.T.
X-ORIGINAL-URL:https://scuolaedilecremona.it
X-WR-CALDESC:Eventi per Ente Scuola Edile Cremona - C.P.T.
REFRESH-INTERVAL;VALUE=DURATION:PT1H
X-Robots-Tag:noindex
X-PUBLISHED-TTL:PT1H
BEGIN:VTIMEZONE
TZID:UTC
BEGIN:STANDARD
TZOFFSETFROM:+0000
TZOFFSETTO:+0000
TZNAME:UTC
DTSTART:20240101T000000
END:STANDARD
END:VTIMEZONE
BEGIN:VEVENT
DTSTART;TZID=UTC:20251203T080000
DTEND;TZID=UTC:20251203T160000
DTSTAMP:20260420T012236
CREATED:20250925T043128Z
LAST-MODIFIED:20250925T043128Z
UID:169771-1764748800-1764777600@scuolaedilecremona.it
SUMMARY:STAGE
DESCRIPTION:
URL:https://scuolaedilecremona.it/event/stage-270/
CATEGORIES:ANNO 3 OPERATORE EDILE - TERZO  ANNO 2025/2026 GOL
END:VEVENT
BEGIN:VEVENT
DTSTART;TZID=UTC:20251203T081500
DTEND;TZID=UTC:20251203T101500
DTSTAMP:20260420T012236
CREATED:20251122T043006Z
LAST-MODIFIED:20251122T043006Z
UID:170122-1764749700-1764756900@scuolaedilecremona.it
SUMMARY:Area tecnico professionale - Elementi di sicurezza sul lavoro
DESCRIPTION:Docente: SOFFIENTINI ROBERTO
URL:https://scuolaedilecremona.it/event/area-tecnico-professionale-elementi-di-sicurezza-sul-lavoro-71/
CATEGORIES:ANNO 1 OPERATORE EDILE - PRIMO ANNO CREMONA 2025/2026
END:VEVENT
BEGIN:VEVENT
DTSTART;TZID=UTC:20251203T081500
DTEND;TZID=UTC:20251203T101500
DTSTAMP:20260420T012236
CREATED:20251122T043009Z
LAST-MODIFIED:20251122T043009Z
UID:170126-1764749700-1764756900@scuolaedilecremona.it
SUMMARY:Area personalizzazione - Orientamento e capacita personali
DESCRIPTION:Docente: BRUSCHI GIADA
URL:https://scuolaedilecremona.it/event/area-personalizzazione-orientamento-e-capacita-personali-59/
CATEGORIES:ANNO 2 OPERATORE EDILE - SECONDO ANNO 2025/2026
END:VEVENT
BEGIN:VEVENT
DTSTART;TZID=UTC:20251203T101500
DTEND;TZID=UTC:20251203T123000
DTSTAMP:20260420T012236
CREATED:20251122T043009Z
LAST-MODIFIED:20251122T043009Z
UID:170127-1764756900-1764765000@scuolaedilecremona.it
SUMMARY:Area storico-socio-economica - Elementi di economia
DESCRIPTION:Docente: ROSSI GIAMPIETRO
URL:https://scuolaedilecremona.it/event/area-storico-socio-economica-elementi-di-economia-55/
CATEGORIES:ANNO 2 OPERATORE EDILE - SECONDO ANNO 2025/2026
END:VEVENT
BEGIN:VEVENT
DTSTART;TZID=UTC:20251203T101500
DTEND;TZID=UTC:20251203T123000
DTSTAMP:20260420T012236
CREATED:20251202T044229Z
LAST-MODIFIED:20251202T044229Z
UID:170140-1764756900-1764765000@scuolaedilecremona.it
SUMMARY:Area personalizzazione - Orientamento e capacita personali
DESCRIPTION:Docente: BRUSCHI GIADA
URL:https://scuolaedilecremona.it/event/area-personalizzazione-orientamento-e-capacita-personali-42/
CATEGORIES:ANNO 1 OPERATORE EDILE - PRIMO ANNO CREMONA 2025/2026
END:VEVENT
BEGIN:VEVENT
DTSTART;TZID=UTC:20251203T123000
DTEND;TZID=UTC:20251203T143000
DTSTAMP:20260420T012236
CREATED:20251122T043010Z
LAST-MODIFIED:20251122T043010Z
UID:170128-1764765000-1764772200@scuolaedilecremona.it
SUMMARY:Religione Cattolica (IRC) / Attivita alternativa
DESCRIPTION:Docente: ROSSI GIAMPIETRO
URL:https://scuolaedilecremona.it/event/religione-cattolica-irc-attivita-alternativa-61/
CATEGORIES:ANNO 2 OPERATORE EDILE - SECONDO ANNO 2025/2026
END:VEVENT
BEGIN:VEVENT
DTSTART;TZID=UTC:20251203T123000
DTEND;TZID=UTC:20251203T143000
DTSTAMP:20260420T012236
CREATED:20251202T044230Z
LAST-MODIFIED:20251202T044230Z
UID:170141-1764765000-1764772200@scuolaedilecremona.it
SUMMARY:Area storico-socio-economica - Elementi di diritto del lavoro
DESCRIPTION:Docente: BRUSCHI GIADA
URL:https://scuolaedilecremona.it/event/area-storico-socio-economica-elementi-di-diritto-del-lavoro-40/
CATEGORIES:ANNO 1 OPERATORE EDILE - PRIMO ANNO CREMONA 2025/2026
END:VEVENT
END:VCALENDAR