BEGIN:VCALENDAR
VERSION:2.0
PRODID:-//Ente Scuola Edile Cremona - C.P.T. - ECPv6.15.18//NONSGML v1.0//EN
CALSCALE:GREGORIAN
METHOD:PUBLISH
X-WR-CALNAME:Ente Scuola Edile Cremona - C.P.T.
X-ORIGINAL-URL:https://scuolaedilecremona.it
X-WR-CALDESC:Eventi per Ente Scuola Edile Cremona - C.P.T.
REFRESH-INTERVAL;VALUE=DURATION:PT1H
X-Robots-Tag:noindex
X-PUBLISHED-TTL:PT1H
BEGIN:VTIMEZONE
TZID:UTC
BEGIN:STANDARD
TZOFFSETFROM:+0000
TZOFFSETTO:+0000
TZNAME:UTC
DTSTART:20240101T000000
END:STANDARD
END:VTIMEZONE
BEGIN:VEVENT
DTSTART;TZID=UTC:20251202T080000
DTEND;TZID=UTC:20251202T160000
DTSTAMP:20260420T012235
CREATED:20250925T043127Z
LAST-MODIFIED:20250925T043127Z
UID:169770-1764662400-1764691200@scuolaedilecremona.it
SUMMARY:STAGE
DESCRIPTION:
URL:https://scuolaedilecremona.it/event/stage-269/
CATEGORIES:ANNO 3 OPERATORE EDILE - TERZO  ANNO 2025/2026 GOL
END:VEVENT
BEGIN:VEVENT
DTSTART;TZID=UTC:20251202T081500
DTEND;TZID=UTC:20251202T101500
DTSTAMP:20260420T012235
CREATED:20250923T043132Z
LAST-MODIFIED:20250923T043132Z
UID:168864-1764663300-1764670500@scuolaedilecremona.it
SUMMARY:Area tecnico professionale - Elementi di tecnologia edile
DESCRIPTION:Docente: BELLADELLI LEONARDO
URL:https://scuolaedilecremona.it/event/area-tecnico-professionale-elementi-di-tecnologia-edile-66/
CATEGORIES:ANNO 1 OPERATORE EDILE - PRIMO ANNO CREMONA 2025/2026
END:VEVENT
BEGIN:VEVENT
DTSTART;TZID=UTC:20251202T081500
DTEND;TZID=UTC:20251202T101500
DTSTAMP:20260420T012235
CREATED:20250923T043353Z
LAST-MODIFIED:20250923T043353Z
UID:169238-1764663300-1764670500@scuolaedilecremona.it
SUMMARY:Area scientifica - scienze
DESCRIPTION:Docente: TAINO CATERINA
URL:https://scuolaedilecremona.it/event/area-scientifica-scienze-58/
CATEGORIES:ANNO 2 OPERATORE EDILE - SECONDO ANNO 2025/2026
END:VEVENT
BEGIN:VEVENT
DTSTART;TZID=UTC:20251202T101500
DTEND;TZID=UTC:20251202T123000
DTSTAMP:20260420T012235
CREATED:20250923T043133Z
LAST-MODIFIED:20250923T043133Z
UID:168865-1764670500-1764678600@scuolaedilecremona.it
SUMMARY:Area scientifica - scienze
DESCRIPTION:Docente: TAINO CATERINA
URL:https://scuolaedilecremona.it/event/area-scientifica-scienze-39/
CATEGORIES:ANNO 1 OPERATORE EDILE - PRIMO ANNO CREMONA 2025/2026
END:VEVENT
BEGIN:VEVENT
DTSTART;TZID=UTC:20251202T101500
DTEND;TZID=UTC:20251202T123000
DTSTAMP:20260420T012235
CREATED:20250923T043354Z
LAST-MODIFIED:20250923T043354Z
UID:169239-1764670500-1764678600@scuolaedilecremona.it
SUMMARY:Area tecnico professionale - Elementi di tecnologia edile
DESCRIPTION:Docente: BELLADELLI LEONARDO
URL:https://scuolaedilecremona.it/event/area-tecnico-professionale-elementi-di-tecnologia-edile-90/
CATEGORIES:ANNO 2 OPERATORE EDILE - SECONDO ANNO 2025/2026
END:VEVENT
BEGIN:VEVENT
DTSTART;TZID=UTC:20251202T123000
DTEND;TZID=UTC:20251202T143000
DTSTAMP:20260420T012235
CREATED:20250923T043133Z
LAST-MODIFIED:20250923T043133Z
UID:168866-1764678600-1764685800@scuolaedilecremona.it
SUMMARY:AREA DEI LINGUAGGI - LINGUA ITALIANA
DESCRIPTION:Docente: UCCIARDO  CARMELO
URL:https://scuolaedilecremona.it/event/area-dei-linguaggi-lingua-italiana-159/
CATEGORIES:ANNO 1 OPERATORE EDILE - PRIMO ANNO CREMONA 2025/2026
END:VEVENT
BEGIN:VEVENT
DTSTART;TZID=UTC:20251202T123000
DTEND;TZID=UTC:20251202T143000
DTSTAMP:20260420T012235
CREATED:20250923T043354Z
LAST-MODIFIED:20250923T043354Z
UID:169240-1764678600-1764685800@scuolaedilecremona.it
SUMMARY:Area scientifica - matematica e geometria
DESCRIPTION:Docente: BETTONI FABIO
URL:https://scuolaedilecremona.it/event/area-scientifica-matematica-e-geometria-157/
CATEGORIES:ANNO 2 OPERATORE EDILE - SECONDO ANNO 2025/2026
END:VEVENT
END:VCALENDAR