BEGIN:VCALENDAR
VERSION:2.0
PRODID:-//Ente Scuola Edile Cremona - C.P.T. - ECPv6.15.18//NONSGML v1.0//EN
CALSCALE:GREGORIAN
METHOD:PUBLISH
X-WR-CALNAME:Ente Scuola Edile Cremona - C.P.T.
X-ORIGINAL-URL:https://scuolaedilecremona.it
X-WR-CALDESC:Eventi per Ente Scuola Edile Cremona - C.P.T.
REFRESH-INTERVAL;VALUE=DURATION:PT1H
X-Robots-Tag:noindex
X-PUBLISHED-TTL:PT1H
BEGIN:VTIMEZONE
TZID:UTC
BEGIN:STANDARD
TZOFFSETFROM:+0000
TZOFFSETTO:+0000
TZNAME:UTC
DTSTART:20240101T000000
END:STANDARD
END:VTIMEZONE
BEGIN:VEVENT
DTSTART;TZID=UTC:20251017T080000
DTEND;TZID=UTC:20251017T160000
DTSTAMP:20260419T220604
CREATED:20250925T043109Z
LAST-MODIFIED:20250925T043109Z
UID:169740-1760688000-1760716800@scuolaedilecremona.it
SUMMARY:STAGE
DESCRIPTION:
URL:https://scuolaedilecremona.it/event/stage-239/
CATEGORIES:ANNO 3 OPERATORE EDILE - TERZO  ANNO 2025/2026 GOL
END:VEVENT
BEGIN:VEVENT
DTSTART;TZID=UTC:20251017T081500
DTEND;TZID=UTC:20251017T101500
DTSTAMP:20260419T220604
CREATED:20250923T043320Z
LAST-MODIFIED:20250923T043320Z
UID:169149-1760688900-1760696100@scuolaedilecremona.it
SUMMARY:Area tecnico professionale - Elementi di sicurezza sul lavoro
DESCRIPTION:Docente: SOFFIENTINI ROBERTO
URL:https://scuolaedilecremona.it/event/area-tecnico-professionale-elementi-di-sicurezza-sul-lavoro-82/
CATEGORIES:ANNO 2 OPERATORE EDILE - SECONDO ANNO 2025/2026
END:VEVENT
BEGIN:VEVENT
DTSTART;TZID=UTC:20251017T081500
DTEND;TZID=UTC:20251017T123000
DTSTAMP:20260419T220604
CREATED:20250923T043055Z
LAST-MODIFIED:20250923T043055Z
UID:168767-1760688900-1760704200@scuolaedilecremona.it
SUMMARY:Area personalizzazione - Laboratorio attivita espressivo motorie
DESCRIPTION:Docente: BODINI DAVIDE
URL:https://scuolaedilecremona.it/event/area-personalizzazione-laboratorio-attivita-espressivo-motorie-26/
CATEGORIES:ANNO 1 OPERATORE EDILE - PRIMO ANNO CREMONA 2025/2026
END:VEVENT
BEGIN:VEVENT
DTSTART;TZID=UTC:20251017T101500
DTEND;TZID=UTC:20251017T123000
DTSTAMP:20260419T220604
CREATED:20250923T043320Z
LAST-MODIFIED:20250923T043320Z
UID:169150-1760696100-1760704200@scuolaedilecremona.it
SUMMARY:Area tecnico professionale - Elementi di contabilita
DESCRIPTION:Docente: SOFFIENTINI ROBERTO
URL:https://scuolaedilecremona.it/event/area-tecnico-professionale-elementi-di-contabilita-56/
CATEGORIES:ANNO 2 OPERATORE EDILE - SECONDO ANNO 2025/2026
END:VEVENT
BEGIN:VEVENT
DTSTART;TZID=UTC:20251017T123000
DTEND;TZID=UTC:20251017T143000
DTSTAMP:20260419T220604
CREATED:20250923T043056Z
LAST-MODIFIED:20250923T043056Z
UID:168768-1760704200-1760711400@scuolaedilecremona.it
SUMMARY:AREA DEI LINGUAGGI - LINGUA ITALIANA
DESCRIPTION:Docente: UCCIARDO  CARMELO
URL:https://scuolaedilecremona.it/event/area-dei-linguaggi-lingua-italiana-141/
CATEGORIES:ANNO 1 OPERATORE EDILE - PRIMO ANNO CREMONA 2025/2026
END:VEVENT
BEGIN:VEVENT
DTSTART;TZID=UTC:20251017T123000
DTEND;TZID=UTC:20251017T143000
DTSTAMP:20260419T220604
CREATED:20250923T043320Z
LAST-MODIFIED:20250923T043320Z
UID:169151-1760704200-1760711400@scuolaedilecremona.it
SUMMARY:Area personalizzazione - Laboratorio attivita espressivo motorie
DESCRIPTION:Docente: BODINI DAVIDE
URL:https://scuolaedilecremona.it/event/area-personalizzazione-laboratorio-attivita-espressivo-motorie-33/
CATEGORIES:ANNO 2 OPERATORE EDILE - SECONDO ANNO 2025/2026
END:VEVENT
END:VCALENDAR