BEGIN:VCALENDAR
VERSION:2.0
PRODID:-//Ente Scuola Edile Cremona - C.P.T. - ECPv6.15.18//NONSGML v1.0//EN
CALSCALE:GREGORIAN
METHOD:PUBLISH
X-ORIGINAL-URL:https://scuolaedilecremona.it
X-WR-CALDESC:Eventi per Ente Scuola Edile Cremona - C.P.T.
REFRESH-INTERVAL;VALUE=DURATION:PT1H
X-Robots-Tag:noindex
X-PUBLISHED-TTL:PT1H
BEGIN:VTIMEZONE
TZID:UTC
BEGIN:STANDARD
TZOFFSETFROM:+0000
TZOFFSETTO:+0000
TZNAME:UTC
DTSTART:20240101T000000
END:STANDARD
END:VTIMEZONE
BEGIN:VEVENT
DTSTART;TZID=UTC:20250506T081500
DTEND;TZID=UTC:20250506T091500
DTSTAMP:20260419T135812
CREATED:20250307T044343Z
LAST-MODIFIED:20250307T044343Z
UID:167761-1746519300-1746522900@scuolaedilecremona.it
SUMMARY:Area tecnico professionale - Elementi di contabilita
DESCRIPTION:Docente: SOFFIENTINI ROBERTO
URL:https://scuolaedilecremona.it/event/area-tecnico-professionale-elementi-di-contabilita-35/
CATEGORIES:ANNO 2 OPERATORE EDILE - SECONDO ANNO 2024/2025
END:VEVENT
BEGIN:VEVENT
DTSTART;TZID=UTC:20250506T081500
DTEND;TZID=UTC:20250506T111500
DTSTAMP:20260419T135812
CREATED:20250307T045311Z
LAST-MODIFIED:20250307T045311Z
UID:168225-1746519300-1746530100@scuolaedilecremona.it
SUMMARY:Area personalizzazione - Orientamento e capacita personali
DESCRIPTION:Docente: BRUSCHI GIADA
URL:https://scuolaedilecremona.it/event/area-personalizzazione-orientamento-e-capacita-personali-6/
CATEGORIES:ANNO 3 OPERATORE EDILE - TERZO ANNO 2024/2025
END:VEVENT
BEGIN:VEVENT
DTSTART;TZID=UTC:20250506T081500
DTEND;TZID=UTC:20250506T123000
DTSTAMP:20260419T135812
CREATED:20250522T043012Z
LAST-MODIFIED:20250522T043012Z
UID:168439-1746519300-1746534600@scuolaedilecremona.it
SUMMARY:Area tecnico professionale - Laboratorio esercitazioni pratiche
DESCRIPTION:Docente: DOSSENA GHERARDO TITO\, REGINI MARIA CRISTINA
URL:https://scuolaedilecremona.it/event/area-tecnico-professionale-laboratorio-esercitazioni-pratiche-78/
CATEGORIES:ANNO 1 OPERATORE EDILE - PRIMO ANNO CREMONA 2024/2025
END:VEVENT
BEGIN:VEVENT
DTSTART;TZID=UTC:20250506T091500
DTEND;TZID=UTC:20250506T111500
DTSTAMP:20260419T135812
CREATED:20250307T044344Z
LAST-MODIFIED:20250307T044344Z
UID:167762-1746522900-1746530100@scuolaedilecremona.it
SUMMARY:Area tecnico professionale - Disegno tecnico
DESCRIPTION:Docente: SOFFIENTINI ROBERTO
URL:https://scuolaedilecremona.it/event/area-tecnico-professionale-disegno-tecnico-33/
CATEGORIES:ANNO 2 OPERATORE EDILE - SECONDO ANNO 2024/2025
END:VEVENT
BEGIN:VEVENT
DTSTART;TZID=UTC:20250506T113000
DTEND;TZID=UTC:20250506T133000
DTSTAMP:20260419T135812
CREATED:20250307T044345Z
LAST-MODIFIED:20250307T044345Z
UID:167763-1746531000-1746538200@scuolaedilecremona.it
SUMMARY:AREA DEI LINGUAGGI - LINGUA ITALIANA
DESCRIPTION:Docente: UCCIARDO  CARMELO
URL:https://scuolaedilecremona.it/event/area-dei-linguaggi-lingua-italiana-86/
CATEGORIES:ANNO 2 OPERATORE EDILE - SECONDO ANNO 2024/2025
END:VEVENT
BEGIN:VEVENT
DTSTART;TZID=UTC:20250506T113000
DTEND;TZID=UTC:20250506T133000
DTSTAMP:20260419T135812
CREATED:20250307T045312Z
LAST-MODIFIED:20250307T045312Z
UID:168226-1746531000-1746538200@scuolaedilecremona.it
SUMMARY:Area scientifica - matematica e geometria
DESCRIPTION:Docente: BETTONI FABIO
URL:https://scuolaedilecremona.it/event/area-scientifica-matematica-e-geometria-23/
CATEGORIES:ANNO 3 OPERATORE EDILE - TERZO ANNO 2024/2025
END:VEVENT
BEGIN:VEVENT
DTSTART;TZID=UTC:20250506T123000
DTEND;TZID=UTC:20250506T153000
DTSTAMP:20260419T135812
CREATED:20250522T043013Z
LAST-MODIFIED:20250522T043013Z
UID:168440-1746534600-1746545400@scuolaedilecremona.it
SUMMARY:Area tecnico professionale - Laboratorio esercitazioni pratiche
DESCRIPTION:Docente: REGINI MARIA CRISTINA\, DOSSENA GHERARDO TITO
URL:https://scuolaedilecremona.it/event/area-tecnico-professionale-laboratorio-esercitazioni-pratiche-136/
CATEGORIES:ANNO 1 OPERATORE EDILE - PRIMO ANNO CREMONA 2024/2025
END:VEVENT
END:VCALENDAR