BEGIN:VCALENDAR
VERSION:2.0
PRODID:-//Ente Scuola Edile Cremona - C.P.T. - ECPv6.15.18//NONSGML v1.0//EN
CALSCALE:GREGORIAN
METHOD:PUBLISH
X-ORIGINAL-URL:https://scuolaedilecremona.it
X-WR-CALDESC:Eventi per Ente Scuola Edile Cremona - C.P.T.
REFRESH-INTERVAL;VALUE=DURATION:PT1H
X-Robots-Tag:noindex
X-PUBLISHED-TTL:PT1H
BEGIN:VTIMEZONE
TZID:UTC
BEGIN:STANDARD
TZOFFSETFROM:+0000
TZOFFSETTO:+0000
TZNAME:UTC
DTSTART:20240101T000000
END:STANDARD
END:VTIMEZONE
BEGIN:VEVENT
DTSTART;TZID=UTC:20250409T080000
DTEND;TZID=UTC:20250409T160000
DTSTAMP:20260419T122025
CREATED:20250307T044314Z
LAST-MODIFIED:20250307T044314Z
UID:167738-1744185600-1744214400@scuolaedilecremona.it
SUMMARY:STAGE
DESCRIPTION:
URL:https://scuolaedilecremona.it/event/stage-156/
CATEGORIES:ANNO 2 OPERATORE EDILE - SECONDO ANNO 2024/2025
END:VEVENT
BEGIN:VEVENT
DTSTART;TZID=UTC:20250409T081500
DTEND;TZID=UTC:20250409T101500
DTSTAMP:20260419T122025
CREATED:20250307T043700Z
LAST-MODIFIED:20250307T043700Z
UID:167428-1744186500-1744193700@scuolaedilecremona.it
SUMMARY:Area tecnico professionale - Disegno tecnico
DESCRIPTION:Docente: SOFFIENTINI ROBERTO
URL:https://scuolaedilecremona.it/event/area-tecnico-professionale-disegno-tecnico-49/
CATEGORIES:ANNO 1 OPERATORE EDILE - PRIMO ANNO CREMONA 2024/2025
END:VEVENT
BEGIN:VEVENT
DTSTART;TZID=UTC:20250409T081500
DTEND;TZID=UTC:20250409T101500
DTSTAMP:20260419T122025
CREATED:20250307T045241Z
LAST-MODIFIED:20250307T045241Z
UID:168201-1744186500-1744193700@scuolaedilecremona.it
SUMMARY:AREA DEI LINGUAGGI - LINGUA ITALIANA
DESCRIPTION:Docente: SPERNAZZATI EMANUELA
URL:https://scuolaedilecremona.it/event/area-dei-linguaggi-lingua-italiana-15/
CATEGORIES:ANNO 3 OPERATORE EDILE - TERZO ANNO 2024/2025
END:VEVENT
BEGIN:VEVENT
DTSTART;TZID=UTC:20250409T101500
DTEND;TZID=UTC:20250409T111500
DTSTAMP:20260419T122025
CREATED:20250307T045243Z
LAST-MODIFIED:20250307T045243Z
UID:168202-1744193700-1744197300@scuolaedilecremona.it
SUMMARY:Area storico-socio-economica - Storia
DESCRIPTION:Docente: SPERNAZZATI EMANUELA
URL:https://scuolaedilecremona.it/event/area-storico-socio-economica-storia-5/
CATEGORIES:ANNO 3 OPERATORE EDILE - TERZO ANNO 2024/2025
END:VEVENT
BEGIN:VEVENT
DTSTART;TZID=UTC:20250409T101500
DTEND;TZID=UTC:20250409T123000
DTSTAMP:20260419T122025
CREATED:20250307T043701Z
LAST-MODIFIED:20250307T043701Z
UID:167429-1744193700-1744201800@scuolaedilecremona.it
SUMMARY:Area scientifica - scienze
DESCRIPTION:Docente: TAINO CATERINA
URL:https://scuolaedilecremona.it/event/area-scientifica-scienze-30/
CATEGORIES:ANNO 1 OPERATORE EDILE - PRIMO ANNO CREMONA 2024/2025
END:VEVENT
BEGIN:VEVENT
DTSTART;TZID=UTC:20250409T113000
DTEND;TZID=UTC:20250409T123000
DTSTAMP:20260419T122025
CREATED:20250307T045244Z
LAST-MODIFIED:20250307T045244Z
UID:168203-1744198200-1744201800@scuolaedilecremona.it
SUMMARY:Area storico-socio-economica - Geografia
DESCRIPTION:Docente: SPERNAZZATI EMANUELA
URL:https://scuolaedilecremona.it/event/area-storico-socio-economica-geografia-5/
CATEGORIES:ANNO 3 OPERATORE EDILE - TERZO ANNO 2024/2025
END:VEVENT
BEGIN:VEVENT
DTSTART;TZID=UTC:20250409T123000
DTEND;TZID=UTC:20250409T133000
DTSTAMP:20260419T122025
CREATED:20250307T043703Z
LAST-MODIFIED:20250307T043703Z
UID:167430-1744201800-1744205400@scuolaedilecremona.it
SUMMARY:AREA DEI LINGUAGGI - LINGUA ITALIANA
DESCRIPTION:Docente: UCCIARDO  CARMELO
URL:https://scuolaedilecremona.it/event/area-dei-linguaggi-lingua-italiana-123/
CATEGORIES:ANNO 1 OPERATORE EDILE - PRIMO ANNO CREMONA 2024/2025
END:VEVENT
BEGIN:VEVENT
DTSTART;TZID=UTC:20250409T123000
DTEND;TZID=UTC:20250409T133000
DTSTAMP:20260419T122025
CREATED:20250307T045245Z
LAST-MODIFIED:20250307T045245Z
UID:168204-1744201800-1744205400@scuolaedilecremona.it
SUMMARY:Area scientifica - scienze
DESCRIPTION:Docente: TAINO CATERINA
URL:https://scuolaedilecremona.it/event/area-scientifica-scienze-9/
CATEGORIES:ANNO 3 OPERATORE EDILE - TERZO ANNO 2024/2025
END:VEVENT
BEGIN:VEVENT
DTSTART;TZID=UTC:20250409T133000
DTEND;TZID=UTC:20250409T163000
DTSTAMP:20260419T122025
CREATED:20250307T044645Z
LAST-MODIFIED:20250307T044645Z
UID:167912-1744205400-1744216200@scuolaedilecremona.it
SUMMARY:Area scientifica - matematica e geometria
DESCRIPTION:Docente: TAINO CATERINA
URL:https://scuolaedilecremona.it/event/area-scientifica-matematica-e-geometria-34/
CATEGORIES:ANNO 3 OPERATORE EDILE - DUALE TERZO ANNO 2024/2025
END:VEVENT
END:VCALENDAR