BEGIN:VCALENDAR
VERSION:2.0
PRODID:-//Ente Scuola Edile Cremona - C.P.T. - ECPv6.15.18//NONSGML v1.0//EN
CALSCALE:GREGORIAN
METHOD:PUBLISH
X-ORIGINAL-URL:https://scuolaedilecremona.it
X-WR-CALDESC:Eventi per Ente Scuola Edile Cremona - C.P.T.
REFRESH-INTERVAL;VALUE=DURATION:PT1H
X-Robots-Tag:noindex
X-PUBLISHED-TTL:PT1H
BEGIN:VTIMEZONE
TZID:UTC
BEGIN:STANDARD
TZOFFSETFROM:+0000
TZOFFSETTO:+0000
TZNAME:UTC
DTSTART:20230101T000000
END:STANDARD
END:VTIMEZONE
BEGIN:VEVENT
DTSTART;TZID=UTC:20241211T080000
DTEND;TZID=UTC:20241211T160000
DTSTAMP:20260419T185512
CREATED:20250307T044504Z
LAST-MODIFIED:20250307T044504Z
UID:167828-1733904000-1733932800@scuolaedilecremona.it
SUMMARY:STAGE
DESCRIPTION:
URL:https://scuolaedilecremona.it/event/stage-91/
CATEGORIES:ANNO 3 OPERATORE EDILE - DUALE TERZO ANNO 2024/2025
END:VEVENT
BEGIN:VEVENT
DTSTART;TZID=UTC:20241211T080000
DTEND;TZID=UTC:20241211T160000
DTSTAMP:20260419T185512
CREATED:20250307T044915Z
LAST-MODIFIED:20250307T044915Z
UID:168036-1733904000-1733932800@scuolaedilecremona.it
SUMMARY:STAGE
DESCRIPTION:
URL:https://scuolaedilecremona.it/event/stage-48/
CATEGORIES:ANNO 3 OPERATORE EDILE - TERZO ANNO 2024/2025
END:VEVENT
BEGIN:VEVENT
DTSTART;TZID=UTC:20241211T081500
DTEND;TZID=UTC:20241211T091500
DTSTAMP:20260419T185512
CREATED:20250307T043342Z
LAST-MODIFIED:20250307T043342Z
UID:167264-1733904900-1733908500@scuolaedilecremona.it
SUMMARY:Area storico-socio-economica - Storia
DESCRIPTION:Docente: ROSSI GIAMPIETRO
URL:https://scuolaedilecremona.it/event/area-storico-socio-economica-storia-32/
CATEGORIES:ANNO 1 OPERATORE EDILE - PRIMO ANNO CREMONA 2024/2025
END:VEVENT
BEGIN:VEVENT
DTSTART;TZID=UTC:20241211T081500
DTEND;TZID=UTC:20241211T101500
DTSTAMP:20260419T185512
CREATED:20250307T044053Z
LAST-MODIFIED:20250307T044053Z
UID:167622-1733904900-1733912100@scuolaedilecremona.it
SUMMARY:Area scientifica - scienze
DESCRIPTION:Docente: TAINO CATERINA
URL:https://scuolaedilecremona.it/event/area-scientifica-scienze-17/
CATEGORIES:ANNO 2 OPERATORE EDILE - SECONDO ANNO 2024/2025
END:VEVENT
BEGIN:VEVENT
DTSTART;TZID=UTC:20241211T091500
DTEND;TZID=UTC:20241211T101500
DTSTAMP:20260419T185512
CREATED:20250307T043343Z
LAST-MODIFIED:20250307T043343Z
UID:167265-1733908500-1733912100@scuolaedilecremona.it
SUMMARY:Area storico-socio-economica - Geografia
DESCRIPTION:Docente: ROSSI GIAMPIETRO
URL:https://scuolaedilecremona.it/event/area-storico-socio-economica-geografia-32/
CATEGORIES:ANNO 1 OPERATORE EDILE - PRIMO ANNO CREMONA 2024/2025
END:VEVENT
BEGIN:VEVENT
DTSTART;TZID=UTC:20241211T101500
DTEND;TZID=UTC:20241211T133000
DTSTAMP:20260419T185512
CREATED:20250307T043344Z
LAST-MODIFIED:20250307T043344Z
UID:167266-1733912100-1733923800@scuolaedilecremona.it
SUMMARY:Area scientifica - scienze
DESCRIPTION:Docente: TAINO CATERINA
URL:https://scuolaedilecremona.it/event/area-scientifica-scienze-26/
CATEGORIES:ANNO 1 OPERATORE EDILE - PRIMO ANNO CREMONA 2024/2025
END:VEVENT
BEGIN:VEVENT
DTSTART;TZID=UTC:20241211T101500
DTEND;TZID=UTC:20241211T133000
DTSTAMP:20260419T185512
CREATED:20250307T044055Z
LAST-MODIFIED:20250307T044055Z
UID:167623-1733912100-1733923800@scuolaedilecremona.it
SUMMARY:Area scientifica - matematica e geometria
DESCRIPTION:Docente: BETTONI FABIO
URL:https://scuolaedilecremona.it/event/area-scientifica-matematica-e-geometria-50/
CATEGORIES:ANNO 2 OPERATORE EDILE - SECONDO ANNO 2024/2025
END:VEVENT
BEGIN:VEVENT
DTSTART;TZID=UTC:20241211T113000
DTEND;TZID=UTC:20241211T123000
DTSTAMP:20260419T185512
CREATED:20250307T044056Z
LAST-MODIFIED:20250307T044056Z
UID:167624-1733916600-1733920200@scuolaedilecremona.it
SUMMARY:Area scientifica - matematica e geometria
DESCRIPTION:Docente: BETTONI FABIO\, UCCIARDO  CARMELO
URL:https://scuolaedilecremona.it/event/area-scientifica-matematica-e-geometria-51/
CATEGORIES:ANNO 2 OPERATORE EDILE - SECONDO ANNO 2024/2025
END:VEVENT
END:VCALENDAR