BEGIN:VCALENDAR
VERSION:2.0
PRODID:-//Ente Scuola Edile Cremona - C.P.T. - ECPv6.15.18//NONSGML v1.0//EN
CALSCALE:GREGORIAN
METHOD:PUBLISH
X-WR-CALNAME:Ente Scuola Edile Cremona - C.P.T.
X-ORIGINAL-URL:https://scuolaedilecremona.it
X-WR-CALDESC:Eventi per Ente Scuola Edile Cremona - C.P.T.
REFRESH-INTERVAL;VALUE=DURATION:PT1H
X-Robots-Tag:noindex
X-PUBLISHED-TTL:PT1H
BEGIN:VTIMEZONE
TZID:UTC
BEGIN:STANDARD
TZOFFSETFROM:+0000
TZOFFSETTO:+0000
TZNAME:UTC
DTSTART:20230101T000000
END:STANDARD
END:VTIMEZONE
BEGIN:VEVENT
DTSTART;TZID=UTC:20241206T080000
DTEND;TZID=UTC:20241206T160000
DTSTAMP:20260419T185346
CREATED:20250307T044500Z
LAST-MODIFIED:20250307T044500Z
UID:167825-1733472000-1733500800@scuolaedilecremona.it
SUMMARY:STAGE
DESCRIPTION:
URL:https://scuolaedilecremona.it/event/stage-88/
CATEGORIES:ANNO 3 OPERATORE EDILE - DUALE TERZO ANNO 2024/2025
END:VEVENT
BEGIN:VEVENT
DTSTART;TZID=UTC:20241206T080000
DTEND;TZID=UTC:20241206T160000
DTSTAMP:20260419T185346
CREATED:20250307T044912Z
LAST-MODIFIED:20250307T044912Z
UID:168033-1733472000-1733500800@scuolaedilecremona.it
SUMMARY:STAGE
DESCRIPTION:
URL:https://scuolaedilecremona.it/event/stage-45/
CATEGORIES:ANNO 3 OPERATORE EDILE - TERZO ANNO 2024/2025
END:VEVENT
BEGIN:VEVENT
DTSTART;TZID=UTC:20241206T081500
DTEND;TZID=UTC:20241206T101500
DTSTAMP:20260419T185346
CREATED:20250307T044042Z
LAST-MODIFIED:20250307T044042Z
UID:167613-1733472900-1733480100@scuolaedilecremona.it
SUMMARY:Area tecnico professionale - Disegno tecnico
DESCRIPTION:Docente: SOFFIENTINI ROBERTO
URL:https://scuolaedilecremona.it/event/area-tecnico-professionale-disegno-tecnico-25/
CATEGORIES:ANNO 2 OPERATORE EDILE - SECONDO ANNO 2024/2025
END:VEVENT
BEGIN:VEVENT
DTSTART;TZID=UTC:20241206T081500
DTEND;TZID=UTC:20241206T111500
DTSTAMP:20260419T185346
CREATED:20250307T043331Z
LAST-MODIFIED:20250307T043331Z
UID:167255-1733472900-1733483700@scuolaedilecremona.it
SUMMARY:AREA DEI LINGUAGGI - LINGUA ITALIANA
DESCRIPTION:Docente: UCCIARDO  CARMELO
URL:https://scuolaedilecremona.it/event/area-dei-linguaggi-lingua-italiana-105/
CATEGORIES:ANNO 1 OPERATORE EDILE - PRIMO ANNO CREMONA 2024/2025
END:VEVENT
BEGIN:VEVENT
DTSTART;TZID=UTC:20241206T101500
DTEND;TZID=UTC:20241206T111500
DTSTAMP:20260419T185346
CREATED:20250307T044044Z
LAST-MODIFIED:20250307T044044Z
UID:167614-1733480100-1733483700@scuolaedilecremona.it
SUMMARY:Area tecnico professionale - Elementi di contabilita
DESCRIPTION:Docente: SOFFIENTINI ROBERTO
URL:https://scuolaedilecremona.it/event/area-tecnico-professionale-elementi-di-contabilita-27/
CATEGORIES:ANNO 2 OPERATORE EDILE - SECONDO ANNO 2024/2025
END:VEVENT
BEGIN:VEVENT
DTSTART;TZID=UTC:20241206T113000
DTEND;TZID=UTC:20241206T123000
DTSTAMP:20260419T185346
CREATED:20250522T043006Z
LAST-MODIFIED:20250522T043006Z
UID:168421-1733484600-1733488200@scuolaedilecremona.it
SUMMARY:Area personalizzazione - Orientamento e capacita personali
DESCRIPTION:Docente: BONDIONI ELISABETTA\, MEAZZI ANNA CHIARA
URL:https://scuolaedilecremona.it/event/area-personalizzazione-orientamento-e-capacita-personali-21/
CATEGORIES:ANNO 1 OPERATORE EDILE - PRIMO ANNO CREMONA 2024/2025
END:VEVENT
BEGIN:VEVENT
DTSTART;TZID=UTC:20241206T113000
DTEND;TZID=UTC:20241206T133000
DTSTAMP:20260419T185346
CREATED:20250307T044045Z
LAST-MODIFIED:20250307T044045Z
UID:167615-1733484600-1733491800@scuolaedilecremona.it
SUMMARY:Area personalizzazione - Orientamento e capacita personali
DESCRIPTION:Docente: UCCIARDO  CARMELO
URL:https://scuolaedilecremona.it/event/area-personalizzazione-orientamento-e-capacita-personali-12/
CATEGORIES:ANNO 2 OPERATORE EDILE - SECONDO ANNO 2024/2025
END:VEVENT
BEGIN:VEVENT
DTSTART;TZID=UTC:20241206T123000
DTEND;TZID=UTC:20241206T133000
DTSTAMP:20260419T185346
CREATED:20250522T043006Z
LAST-MODIFIED:20250522T043006Z
UID:168422-1733488200-1733491800@scuolaedilecremona.it
SUMMARY:Area personalizzazione - Orientamento e capacita personali
DESCRIPTION:Docente: MEAZZI ANNA CHIARA\, BONDIONI ELISABETTA
URL:https://scuolaedilecremona.it/event/area-personalizzazione-orientamento-e-capacita-personali-22/
CATEGORIES:ANNO 1 OPERATORE EDILE - PRIMO ANNO CREMONA 2024/2025
END:VEVENT
END:VCALENDAR