BEGIN:VCALENDAR
VERSION:2.0
PRODID:-//Ente Scuola Edile Cremona - C.P.T. - ECPv6.15.18//NONSGML v1.0//EN
CALSCALE:GREGORIAN
METHOD:PUBLISH
X-ORIGINAL-URL:https://scuolaedilecremona.it
X-WR-CALDESC:Eventi per Ente Scuola Edile Cremona - C.P.T.
REFRESH-INTERVAL;VALUE=DURATION:PT1H
X-Robots-Tag:noindex
X-PUBLISHED-TTL:PT1H
BEGIN:VTIMEZONE
TZID:UTC
BEGIN:STANDARD
TZOFFSETFROM:+0000
TZOFFSETTO:+0000
TZNAME:UTC
DTSTART:20230101T000000
END:STANDARD
END:VTIMEZONE
BEGIN:VEVENT
DTSTART;TZID=UTC:20241120T080000
DTEND;TZID=UTC:20241120T160000
DTSTAMP:20260419T203335
CREATED:20250307T044445Z
LAST-MODIFIED:20250307T044445Z
UID:167813-1732089600-1732118400@scuolaedilecremona.it
SUMMARY:STAGE
DESCRIPTION:
URL:https://scuolaedilecremona.it/event/stage-76/
CATEGORIES:ANNO 3 OPERATORE EDILE - DUALE TERZO ANNO 2024/2025
END:VEVENT
BEGIN:VEVENT
DTSTART;TZID=UTC:20241120T080000
DTEND;TZID=UTC:20241120T160000
DTSTAMP:20260419T203335
CREATED:20250307T044857Z
LAST-MODIFIED:20250307T044857Z
UID:168021-1732089600-1732118400@scuolaedilecremona.it
SUMMARY:STAGE
DESCRIPTION:
URL:https://scuolaedilecremona.it/event/stage-33/
CATEGORIES:ANNO 3 OPERATORE EDILE - TERZO ANNO 2024/2025
END:VEVENT
BEGIN:VEVENT
DTSTART;TZID=UTC:20241120T081500
DTEND;TZID=UTC:20241120T091500
DTSTAMP:20260419T203335
CREATED:20250307T043247Z
LAST-MODIFIED:20250307T043247Z
UID:167219-1732090500-1732094100@scuolaedilecremona.it
SUMMARY:Area storico-socio-economica - Storia
DESCRIPTION:Docente: ROSSI GIAMPIETRO
URL:https://scuolaedilecremona.it/event/area-storico-socio-economica-storia-27/
CATEGORIES:ANNO 1 OPERATORE EDILE - PRIMO ANNO CREMONA 2024/2025
END:VEVENT
BEGIN:VEVENT
DTSTART;TZID=UTC:20241120T081500
DTEND;TZID=UTC:20241120T101500
DTSTAMP:20260419T203335
CREATED:20250307T044009Z
LAST-MODIFIED:20250307T044009Z
UID:167586-1732090500-1732097700@scuolaedilecremona.it
SUMMARY:Area tecnico professionale - Elementi di tecnologia edile
DESCRIPTION:Docente: BELLADELLI LEONARDO
URL:https://scuolaedilecremona.it/event/area-tecnico-professionale-elementi-di-tecnologia-edile-28/
CATEGORIES:ANNO 2 OPERATORE EDILE - SECONDO ANNO 2024/2025
END:VEVENT
BEGIN:VEVENT
DTSTART;TZID=UTC:20241120T091500
DTEND;TZID=UTC:20241120T101500
DTSTAMP:20260419T203335
CREATED:20250307T043248Z
LAST-MODIFIED:20250307T043248Z
UID:167220-1732094100-1732097700@scuolaedilecremona.it
SUMMARY:Area storico-socio-economica - Geografia
DESCRIPTION:Docente: ROSSI GIAMPIETRO
URL:https://scuolaedilecremona.it/event/area-storico-socio-economica-geografia-27/
CATEGORIES:ANNO 1 OPERATORE EDILE - PRIMO ANNO CREMONA 2024/2025
END:VEVENT
BEGIN:VEVENT
DTSTART;TZID=UTC:20241120T101500
DTEND;TZID=UTC:20241120T133000
DTSTAMP:20260419T203335
CREATED:20250307T043249Z
LAST-MODIFIED:20250307T043249Z
UID:167221-1732097700-1732109400@scuolaedilecremona.it
SUMMARY:Area tecnico professionale - Elementi di tecnologia edile
DESCRIPTION:Docente: BELLADELLI LEONARDO
URL:https://scuolaedilecremona.it/event/area-tecnico-professionale-elementi-di-tecnologia-edile-42/
CATEGORIES:ANNO 1 OPERATORE EDILE - PRIMO ANNO CREMONA 2024/2025
END:VEVENT
BEGIN:VEVENT
DTSTART;TZID=UTC:20241120T101500
DTEND;TZID=UTC:20241120T133000
DTSTAMP:20260419T203335
CREATED:20250307T044011Z
LAST-MODIFIED:20250307T044011Z
UID:167587-1732097700-1732109400@scuolaedilecremona.it
SUMMARY:Area scientifica - matematica e geometria
DESCRIPTION:Docente: BETTONI FABIO
URL:https://scuolaedilecremona.it/event/area-scientifica-matematica-e-geometria-47/
CATEGORIES:ANNO 2 OPERATORE EDILE - SECONDO ANNO 2024/2025
END:VEVENT
END:VCALENDAR