BEGIN:VCALENDAR
VERSION:2.0
PRODID:-//Ente Scuola Edile Cremona - C.P.T. - ECPv6.15.18//NONSGML v1.0//EN
CALSCALE:GREGORIAN
METHOD:PUBLISH
X-WR-CALNAME:Ente Scuola Edile Cremona - C.P.T.
X-ORIGINAL-URL:https://scuolaedilecremona.it
X-WR-CALDESC:Eventi per Ente Scuola Edile Cremona - C.P.T.
REFRESH-INTERVAL;VALUE=DURATION:PT1H
X-Robots-Tag:noindex
X-PUBLISHED-TTL:PT1H
BEGIN:VTIMEZONE
TZID:UTC
BEGIN:STANDARD
TZOFFSETFROM:+0000
TZOFFSETTO:+0000
TZNAME:UTC
DTSTART:20230101T000000
END:STANDARD
END:VTIMEZONE
BEGIN:VEVENT
DTSTART;TZID=UTC:20241118T080000
DTEND;TZID=UTC:20241118T160000
DTSTAMP:20260419T203317
CREATED:20250307T044443Z
LAST-MODIFIED:20250307T044443Z
UID:167811-1731916800-1731945600@scuolaedilecremona.it
SUMMARY:STAGE
DESCRIPTION:
URL:https://scuolaedilecremona.it/event/stage-74/
CATEGORIES:ANNO 3 OPERATORE EDILE - DUALE TERZO ANNO 2024/2025
END:VEVENT
BEGIN:VEVENT
DTSTART;TZID=UTC:20241118T080000
DTEND;TZID=UTC:20241118T160000
DTSTAMP:20260419T203317
CREATED:20250307T044855Z
LAST-MODIFIED:20250307T044855Z
UID:168019-1731916800-1731945600@scuolaedilecremona.it
SUMMARY:STAGE
DESCRIPTION:
URL:https://scuolaedilecremona.it/event/stage-31/
CATEGORIES:ANNO 3 OPERATORE EDILE - TERZO ANNO 2024/2025
END:VEVENT
BEGIN:VEVENT
DTSTART;TZID=UTC:20241118T081500
DTEND;TZID=UTC:20241118T101500
DTSTAMP:20260419T203317
CREATED:20250307T043240Z
LAST-MODIFIED:20250307T043240Z
UID:167213-1731917700-1731924900@scuolaedilecremona.it
SUMMARY:Area tecnologica - informatica
DESCRIPTION:Docente: BILLA CHIARA
URL:https://scuolaedilecremona.it/event/area-tecnologica-informatica-30/
CATEGORIES:ANNO 1 OPERATORE EDILE - PRIMO ANNO CREMONA 2024/2025
END:VEVENT
BEGIN:VEVENT
DTSTART;TZID=UTC:20241118T081500
DTEND;TZID=UTC:20241118T101500
DTSTAMP:20260419T203317
CREATED:20250307T044000Z
LAST-MODIFIED:20250307T044000Z
UID:167579-1731917700-1731924900@scuolaedilecremona.it
SUMMARY:AREA DEI LINGUAGGI - LINGUA INGLESE
DESCRIPTION:Docente: VIRGILIO LAURA LETIZIA
URL:https://scuolaedilecremona.it/event/area-dei-linguaggi-lingua-inglese-32/
CATEGORIES:ANNO 2 OPERATORE EDILE - SECONDO ANNO 2024/2025
END:VEVENT
BEGIN:VEVENT
DTSTART;TZID=UTC:20241118T101500
DTEND;TZID=UTC:20241118T111500
DTSTAMP:20260419T203317
CREATED:20250307T044002Z
LAST-MODIFIED:20250307T044002Z
UID:167580-1731924900-1731928500@scuolaedilecremona.it
SUMMARY:Area tecnologica - informatica
DESCRIPTION:Docente: BILLA CHIARA
URL:https://scuolaedilecremona.it/event/area-tecnologica-informatica-19/
CATEGORIES:ANNO 2 OPERATORE EDILE - SECONDO ANNO 2024/2025
END:VEVENT
BEGIN:VEVENT
DTSTART;TZID=UTC:20241118T101500
DTEND;TZID=UTC:20241118T133000
DTSTAMP:20260419T203317
CREATED:20250307T043241Z
LAST-MODIFIED:20250307T043241Z
UID:167214-1731924900-1731936600@scuolaedilecremona.it
SUMMARY:AREA DEI LINGUAGGI - LINGUA INGLESE
DESCRIPTION:Docente: VIRGILIO LAURA LETIZIA
URL:https://scuolaedilecremona.it/event/area-dei-linguaggi-lingua-inglese-45/
CATEGORIES:ANNO 1 OPERATORE EDILE - PRIMO ANNO CREMONA 2024/2025
END:VEVENT
BEGIN:VEVENT
DTSTART;TZID=UTC:20241118T113000
DTEND;TZID=UTC:20241118T133000
DTSTAMP:20260419T203317
CREATED:20250307T044003Z
LAST-MODIFIED:20250307T044003Z
UID:167581-1731929400-1731936600@scuolaedilecremona.it
SUMMARY:AREA DEI LINGUAGGI - LINGUA ITALIANA
DESCRIPTION:Docente: UCCIARDO  CARMELO
URL:https://scuolaedilecremona.it/event/area-dei-linguaggi-lingua-italiana-67/
CATEGORIES:ANNO 2 OPERATORE EDILE - SECONDO ANNO 2024/2025
END:VEVENT
END:VCALENDAR