BEGIN:VCALENDAR
VERSION:2.0
PRODID:-//Ente Scuola Edile Cremona - C.P.T. - ECPv6.15.18//NONSGML v1.0//EN
CALSCALE:GREGORIAN
METHOD:PUBLISH
X-WR-CALNAME:Ente Scuola Edile Cremona - C.P.T.
X-ORIGINAL-URL:https://scuolaedilecremona.it
X-WR-CALDESC:Eventi per Ente Scuola Edile Cremona - C.P.T.
REFRESH-INTERVAL;VALUE=DURATION:PT1H
X-Robots-Tag:noindex
X-PUBLISHED-TTL:PT1H
BEGIN:VTIMEZONE
TZID:UTC
BEGIN:STANDARD
TZOFFSETFROM:+0000
TZOFFSETTO:+0000
TZNAME:UTC
DTSTART:20230101T000000
END:STANDARD
END:VTIMEZONE
BEGIN:VEVENT
DTSTART;TZID=UTC:20240927T081500
DTEND;TZID=UTC:20240927T101500
DTSTAMP:20260419T234125
CREATED:20250307T043102Z
LAST-MODIFIED:20250307T043102Z
UID:167132-1727424900-1727432100@scuolaedilecremona.it
SUMMARY:Area storico-socio-economica - Storia
DESCRIPTION:Docente: ROSSI GIAMPIETRO
URL:https://scuolaedilecremona.it/event/area-storico-socio-economica-storia-23/
CATEGORIES:ANNO 1 OPERATORE EDILE - PRIMO ANNO CREMONA 2024/2025
END:VEVENT
BEGIN:VEVENT
DTSTART;TZID=UTC:20240927T081500
DTEND;TZID=UTC:20240927T101500
DTSTAMP:20260419T234125
CREATED:20250307T044812Z
LAST-MODIFIED:20250307T044812Z
UID:167983-1727424900-1727432100@scuolaedilecremona.it
SUMMARY:Area tecnico professionale - Elementi di sicurezza sul lavoro
DESCRIPTION:Docente: SOFFIENTINI ROBERTO
URL:https://scuolaedilecremona.it/event/area-tecnico-professionale-elementi-di-sicurezza-sul-lavoro-3/
CATEGORIES:ANNO 3 OPERATORE EDILE - TERZO ANNO 2024/2025
END:VEVENT
BEGIN:VEVENT
DTSTART;TZID=UTC:20240927T081500
DTEND;TZID=UTC:20240927T111500
DTSTAMP:20260419T234125
CREATED:20250307T043829Z
LAST-MODIFIED:20250307T043829Z
UID:167502-1727424900-1727435700@scuolaedilecremona.it
SUMMARY:Area personalizzazione - Laboratorio attivita espressivo motorie
DESCRIPTION:Docente: BODINI DAVIDE
URL:https://scuolaedilecremona.it/event/area-personalizzazione-laboratorio-attivita-espressivo-motorie-9/
CATEGORIES:ANNO 2 OPERATORE EDILE - SECONDO ANNO 2024/2025
END:VEVENT
BEGIN:VEVENT
DTSTART;TZID=UTC:20240927T101500
DTEND;TZID=UTC:20240927T111500
DTSTAMP:20260419T234125
CREATED:20250307T043104Z
LAST-MODIFIED:20250307T043104Z
UID:167133-1727432100-1727435700@scuolaedilecremona.it
SUMMARY:Area storico-socio-economica - Geografia
DESCRIPTION:Docente: ROSSI GIAMPIETRO
URL:https://scuolaedilecremona.it/event/area-storico-socio-economica-geografia-23/
CATEGORIES:ANNO 1 OPERATORE EDILE - PRIMO ANNO CREMONA 2024/2025
END:VEVENT
BEGIN:VEVENT
DTSTART;TZID=UTC:20240927T101500
DTEND;TZID=UTC:20240927T111500
DTSTAMP:20260419T234125
CREATED:20250307T044813Z
LAST-MODIFIED:20250307T044813Z
UID:167984-1727432100-1727435700@scuolaedilecremona.it
SUMMARY:Area tecnico professionale - Elementi di contabilita
DESCRIPTION:Docente: SOFFIENTINI ROBERTO
URL:https://scuolaedilecremona.it/event/area-tecnico-professionale-elementi-di-contabilita-3/
CATEGORIES:ANNO 3 OPERATORE EDILE - TERZO ANNO 2024/2025
END:VEVENT
BEGIN:VEVENT
DTSTART;TZID=UTC:20240927T113000
DTEND;TZID=UTC:20240927T133000
DTSTAMP:20260419T234125
CREATED:20250307T043105Z
LAST-MODIFIED:20250307T043105Z
UID:167134-1727436600-1727443800@scuolaedilecremona.it
SUMMARY:Area tecnico professionale - Elementi di sicurezza sul lavoro
DESCRIPTION:Docente: PIAZZI STEFANIA
URL:https://scuolaedilecremona.it/event/area-tecnico-professionale-elementi-di-sicurezza-sul-lavoro-47/
CATEGORIES:ANNO 1 OPERATORE EDILE - PRIMO ANNO CREMONA 2024/2025
END:VEVENT
BEGIN:VEVENT
DTSTART;TZID=UTC:20240927T113000
DTEND;TZID=UTC:20240927T133000
DTSTAMP:20260419T234125
CREATED:20250307T043830Z
LAST-MODIFIED:20250307T043830Z
UID:167503-1727436600-1727443800@scuolaedilecremona.it
SUMMARY:Area storico-socio-economica - Storia
DESCRIPTION:Docente: ROSSI GIAMPIETRO
URL:https://scuolaedilecremona.it/event/area-storico-socio-economica-storia-13/
CATEGORIES:ANNO 2 OPERATORE EDILE - SECONDO ANNO 2024/2025
END:VEVENT
BEGIN:VEVENT
DTSTART;TZID=UTC:20240927T113000
DTEND;TZID=UTC:20240927T133000
DTSTAMP:20260419T234125
CREATED:20250307T044814Z
LAST-MODIFIED:20250307T044814Z
UID:167985-1727436600-1727443800@scuolaedilecremona.it
SUMMARY:Area personalizzazione - Laboratorio attivita espressivo motorie
DESCRIPTION:Docente: BODINI DAVIDE
URL:https://scuolaedilecremona.it/event/area-personalizzazione-laboratorio-attivita-espressivo-motorie-2/
CATEGORIES:ANNO 3 OPERATORE EDILE - TERZO ANNO 2024/2025
END:VEVENT
END:VCALENDAR